Workbook

Sheet Framework
B2: FUNZIONE | C2: CATEGORIA | D2: SOTTO-CATEGORIA | E2: ESEMPI DI IMPLEMENTAZIONE | F2: REQUISITO CHIAVE | G2: REQUISITO | H2: GUIDA | I2: BASIC | J2: IMPORTANT | K2: ESSENTIAL | L2: DATA INTERVISTA | M2: REFERENTE INTERVISTATO | N2: MATURITY DOCUMENTALE | O2: MATURITY IMPLEMENTATIVA | P2: DOCUMENTATION SCORE | Q2: DOCUMENTATION SCORE | R2: SUBCATEGORY DOCUMENTATION MATURITY SCORE | S2: SUBCATEGORY IMPLEMENTATION MATURITY SCORE | T2: CATEGORY DOCUMENTATION MATURITY SCORE | U2: CATEGORY IMPLEMENTATION MATURITY SCORE | V2: OUTCOME | W2: TECNOLOGIE A SUPPORTO | X2: NOTE
B3: GOVERN (GV): Le strategie, le aspettative e le policy di gestione del rischio cyber dell'organizzazione sono stabilite, comunicate e monitorate. | C3: Organizational Context (GV.OC): Le circostanze - mission, aspettative degli stakeholder e requisiti legali, normativi e contrattuali - che riguardano le decisioni dell'organizzazione in materia di gestione del rischio di cybersecurity sono ben comprese. | D3: GV.OC-01: La mission dell'organizzazione è compresa ed orientata alla gestione del rischio di cybersicurezza. | E3: Ex1: condividere la mission dell'organizzazione (ad esempio, attraverso dichiarazioni di visione e mission, marketing e strategie di servizio) per fornire una base identificativa dei rischi che potrebbero ostacolare tale mission. | G3: La posizione dell'organizzazione all'interno delle infrastrutture critiche e del settore industriale di appartenenza deve essere individuata e comunicata chiaramente. | H3: L'organizzazione coperta dalla Direttiva NIS 2 ha la responsabilità di conoscere le altre organizzazioni dello stesso settore per poter collaborare con loro al raggiungimento degli obiettivi stabiliti dalla NIS 2 per quel particolare settore. | J3: X | N3: Level 1 - Initial | O3: Level 2 - Repeatable | P3: =_xlfn.IFNA(VLOOKUP(N3,'Maturity Levels'!B:C,2,0),0) -> 1 | Q3: =_xlfn.IFNA(VLOOKUP(O3,'Maturity Levels'!B:C,2,0),0) -> 2 | R3: =AVERAGE(P3:P4) -> 2.5 | S3: =AVERAGE(Q3:Q4) -> 3 | T3: =AVERAGE(R3:R13) -> 1.7666667 | U3: =AVERAGE(S3:S13) -> 2.4 | X3: Comunicazioni specifiche in caso di security incident anche verso altre organizzazioni coinvolte
G4: Le priorità relative alla missione, agli obiettivi e alle attività dell'organizzazione devono essere definite e comunicate chiaramente. | H4: È necessario determinare le esigenze di protezione delle informazioni e, se necessario, rivedere i relativi processi. | J4: X | N4: Level 4 - Managed | O4: Level 4 - Managed | P4: =_xlfn.IFNA(VLOOKUP(N4,'Maturity Levels'!B:C,2,0),0) -> 4 | Q4: =_xlfn.IFNA(VLOOKUP(O4,'Maturity Levels'!B:C,2,0),0) -> 4 | X4: Esiste un'information security policy (Regolamento Informatico) che viene comunicata ai dipendenti. Verificare con Walter se l'update è svolto 1 volta l'anno
D5: GV.OC-02: Gli stakeholder interni ed esterni sono definiti e hanno compreso le loro esigenze e aspettative in merito alla gestione del rischio di cybersicurezza. | E5: Ex1: Identificare gli stakeholder interni rilevanti e le aspettative relative alla cybersecurity (ad esempio, aspettative di prestazioni e rischio di dirigenti, direttori e consulenti; aspettative culturali dei dipendenti). Ex2: Identificare gli stakeholder esterni rilevanti e le loro aspettative relative alla cybersecurity (ad esempio, aspettative sulla privacy dei clienti, aspettative aziendali delle partnership, aspettative di conformità degli enti regolatori, aspettative etiche della società). | G5: Deve essere redatto un elenco documentato di tutti i fornitori, venditori e partner dell’organizzazione che potrebbero essere coinvolti in un incidente grave, mantenuto aggiornato e reso disponibile online e offline. | H5: L'elenco dovrebbe includere le informazioni di contatto di fornitori, venditori e partner, nonché i servizi da loro forniti, in modo che sia possibile contattarli per ricevere assistenza in caso di interruzione o peggioramento del servizio. | K5: X | N5: Level 2 - Repeatable | O5: Level 2 - Repeatable | P5: =_xlfn.IFNA(VLOOKUP(N5,'Maturity Levels'!B:C,2,0),0) -> 2 | Q5: =_xlfn.IFNA(VLOOKUP(O5,'Maturity Levels'!B:C,2,0),0) -> 2 | R5: =AVERAGE(P5) -> 2 | S5: =AVERAGE(Q5) -> 2 | X5: Esiste un registro dei responsabili al trattamento dei dati lato privacy. Non vengono censiti tutti i fornitori ed i relativi servizi / contatti
D6: GV.OC-03: I requisiti legali, normativi e contrattuali relativi alla cybersecurity - inclusi gli obblighi in materia di privacy e libertà civili - sono compresi e gestiti. | E6: Ex1: Individuare un processo utile a tracciare e gestire i requisiti normativi relativi alla protezione delle informazioni degli individui. Ex2: Individuare un processo utile a tracciare e gestire i requisiti contrattuali per la gestione della cybersecurity delle informazioni di fornitori, clienti e partner. Ex3: Allineare la strategia di cybersecurity dell'organizzazione ai requisiti legali, normativi e contrattuali | G6: I requisiti legali e normativi riguardanti la sicurezza informatica/delle informazioni, compresi gli obblighi sulla privacy, devono essere compresi e implementati. | H6: Nessuna guida aggiuntiva su questo argomento. | I6: X | N6: Level 2 - Repeatable | O6: Level 2 - Repeatable | P6: =_xlfn.IFNA(VLOOKUP(N6,'Maturity Levels'!B:C,2,0),0) -> 2 | Q6: =_xlfn.IFNA(VLOOKUP(O6,'Maturity Levels'!B:C,2,0),0) -> 2 | R6: =AVERAGE(P6:P7) -> 2 | S6: =AVERAGE(Q6:Q7) -> 2 | X6: La valutazione è giustificata dal fatto che non sono attualmente presenti controlli che aderiscono agli adempimenti NIS2 (o ISO27001 come best practice). Lato privacy invece la maturità è 4-5
G7: Devono essere gestiti i requisiti legali e normativi relativi alla sicurezza informatica/delle informazioni, compresi gli obblighi sulla privacy. | H7: Dovrebbero essere effettuate revisioni regolari per garantire la continua conformità ai requisiti legali e normativi in materia di sicurezza informatica, compresi gli obblighi sulla privacy.( Si applica anche ai contraenti e ai fornitori di servizi). | J7: X | N7: Level 2 - Repeatable | O7: Level 2 - Repeatable | P7: =_xlfn.IFNA(VLOOKUP(N7,'Maturity Levels'!B:C,2,0),0) -> 2 | Q7: =_xlfn.IFNA(VLOOKUP(O7,'Maturity Levels'!B:C,2,0),0) -> 2 | X7: La valutazione è giustificata dal fatto che non sono attualmente presenti controlli che aderiscono agli adempimenti NIS2 (o ISO27001 come best practice). Lato privacy invece la maturità è 4-5
D8: GV.OC-04: Gli obiettivi, le capacità e i servizi critici da cui gli stakeholder dipendono o che si aspettano dall'organizzazione sono determinati e comunicati. | E8: Ex1: Stabilire i criteri per determinare la criticità delle capabilities e dei servizi secondo gli stakeholder interni ed esterni. Ex2: Determinare (ad esempio, attraverso una Business Impact Analysis) gli asset ed i business aziendali vitali per il raggiungimento degli obiettivi della missione ed il potenziale impatto derivante da una perdita (o perdita parziale) di tali operazioni. Ex3: Stabilire e comunicare obiettivi di resilienza (ad esempio, recovery time objectives) per la fornitura di capabilities e servizi critici in vari stati operativi (ad esempio, sotto attacco, durante il ripristino, in condizioni normali). | G8: Per supportare la resilienza informatica e garantire la fornitura di servizi critici, i requisiti necessari vengono identificati, documentati e la loro implementazione, testata e approvata. | H8: Valutare l'implementazione di meccamismi di resilienza per supportare situazioni operative normali e avverse (ad esempio, fail-safe, load balancing, hot swap) e valutare gli aspetti della gestione della continuità aziendale, ad esempio Business Impact Analysis (BIA), Disaster Recovery Plan (DRP) e Business Continuity Plan (BCP). | J8: X | N8: Level 1 - Initial | O8: Level 1 - Initial | P8: =_xlfn.IFNA(VLOOKUP(N8,'Maturity Levels'!B:C,2,0),0) -> 1 | Q8: =_xlfn.IFNA(VLOOKUP(O8,'Maturity Levels'!B:C,2,0),0) -> 1 | R8: =AVERAGE(P8:P10) -> 1.3333333 | S8: =AVERAGE(Q8:Q10) -> 3
G9: Le strutture di elaborazione delle informazioni e di supporto devono implementare la ridondanza per soddisfare i requisiti di disponibilità, come definiti dall'organizzazione e/o dai quadri normativi. | H9: Valutare la possibilità di predisporre un'adeguata ridondanza di dati e di rete (ad esempio dispositivi di rete ridondanti, server con load balancing, raid arrays, servizi di backup, 2 data center separati, connessioni di rete fail-over, 2 ISP...) e la possibilità di proteggere apparecchiature/servizi critici da interruzioni di corrente e altri guasti dovuti a interruzioni di servizi (ad esempio UPS e NO-break, test frequenti, contratti di servizio che includono manutenzione regolare, cablaggio di alimentazione ridondante, 2 diversi fornitori di servizi di alimentazione...). | K9: X | N9: Level 1 - Initial | O9: Level 3 - Defined | P9: =_xlfn.IFNA(VLOOKUP(N9,'Maturity Levels'!B:C,2,0),0) -> 1 | Q9: =_xlfn.IFNA(VLOOKUP(O9,'Maturity Levels'!B:C,2,0),0) -> 3
G10: Devono essere definiti gli obiettivi relativi al tempo di ripristino e al punto di ripristino per la ripresa dei processi essenziali dei sistemi ICT/OT. | H10: Valutare l'applicazione della regola di backup 3-2-1 per migliorare RPO e RTO (mantenere almeno 3 copie dei dati, conservarne 2 in posizioni separate e una copia archiviata in una posizione esterna) e valutare l'implementazione di meccanismi quali hot swap, load balancing e fail-safe per aumentare la resilienza. | K10: X | N10: Level 2 - Repeatable | O10: Level 5 - Optimizing | P10: =_xlfn.IFNA(VLOOKUP(N10,'Maturity Levels'!B:C,2,0),0) -> 2 | Q10: =_xlfn.IFNA(VLOOKUP(O10,'Maturity Levels'!B:C,2,0),0) -> 5
D11: GV.OC-05: I risultati, le capacità e i servizi da cui l'organizzazione dipende sono determinati e comunicati. | G11: Le dipendenze e le funzioni critiche per la fornitura di servizi critici devono essere identificate, documentate e classificate in base alla loro criticità come parte del processo di valutazione del rischio. | H11: Le dipendenze e le funzioni aziendali critiche dovrebbero includere servizi di supporto. | J11: X | N11: Level 1 - Initial | O11: Level 2 - Repeatable | P11: =_xlfn.IFNA(VLOOKUP(N11,'Maturity Levels'!B:C,2,0),0) -> 1 | Q11: =_xlfn.IFNA(VLOOKUP(O11,'Maturity Levels'!B:C,2,0),0) -> 2 | R11: =AVERAGE(P11:P13) -> 1 | S11: =AVERAGE(Q11:Q13) -> 2
G12: Il ruolo dell’organizzazione nella supply chain deve essere identificato, documentato e comunicato. | H12: L'organizzazione dovrebbe essere in grado di identificare chiaramente chi si trova a monte e a valle dell'organizzazione e quali fornitori forniscono servizi, capacità, prodotti e articoli all'organizzazione e dovrebbe comunicare la propria posizione a monte e a valle in modo che sia chiaro dove si trovano in termini di importanza critica per le operazioni dell'organizzazione. | J12: X | N12: Level 1 - Initial | O12: Level 2 - Repeatable | P12: =_xlfn.IFNA(VLOOKUP(N12,'Maturity Levels'!B:C,2,0),0) -> 1 | Q12: =_xlfn.IFNA(VLOOKUP(O12,'Maturity Levels'!B:C,2,0),0) -> 2
E13: Ex1: Creare un inventario delle relazioni dell'organizzazione sulle risorse esterne (ad esempio, strutture, cloud-based hosting providers) e delle loro relazioni con gli asset organizzativi e le funzioni aziendali. Ex2: Identificare e documentare le relazioni esterne che potrebbero rappresentare punti di failure per le capabilities e i servizi critici dell'organizzazione. | G13: L'organizzazione deve proteggere il proprio ambiente ICT/OT dalle minacce alla supply chain, applicando misure di sicurezza parte di una strategia di sicurezza completa e documentata. | H13: Nessuna guida aggiuntiva su questo argomento. | K13: X | N13: Level 1 - Initial | O13: Level 2 - Repeatable | P13: =_xlfn.IFNA(VLOOKUP(N13,'Maturity Levels'!B:C,2,0),0) -> 1 | Q13: =_xlfn.IFNA(VLOOKUP(O13,'Maturity Levels'!B:C,2,0),0) -> 2
C14: Risk Management Strategy (GV.RM): Le priorità, i vincoli, le dichiarazioni di tolleranza e di propensione al rischio e le ipotesi dell'organizzazione sono stabilite e utilizzate per supportare le decisioni sul rischio operativo. | D14: GV.RM-01: Gli obiettivi del Risk Management sono stabiliti e concordati dagli stakeholder dell'organizzazione. | E14: Ex1: Aggiornare gli obiettivi a breve e a lungo termine di gestione del rischio cybersecurity come parte della pianificazione strategica annuale e qualora si verificassero cambiamenti significativi. Ex2: Stabilire obiettivi misurabili per la gestione del rischio di cybersecurity (ad esempio, gestire la qualità della formazione degli utenti, garantire un'adeguata protezione dai rischi per i sistemi di controllo industriale). Ex3: Gli alti dirigenti concordano con gli obiettivi di cybersecurity e li utilizzano per misurare e gestire il rischio e le performance. | G14: Deve essere creato, documentato, rivisto, approvato e aggiornato un processo di gestione del rischio cyber che identifichi i principali stakeholder interni ed esterni e faciliti la gestione dei problemi. | H14: Si prevede la creazione di un processo formale per la gestione del rischio cyber, che deve essere documentato in modo dettagliato, periodicamente rivisto, approvato dai responsabili e aggiornato regolarmente. Il processo deve includere l'identificazione dei principali stakeholder (N.B. stakeholder esterni includono: clienti, investitori e azionisti, fornitori, agenzie governative e la comunità in senso più ampio). | J14: X | N14: Level 1 - Initial | O14: Level 1 - Initial | P14: =_xlfn.IFNA(VLOOKUP(N14,'Maturity Levels'!B:C,2,0),0) -> 1 | Q14: =_xlfn.IFNA(VLOOKUP(O14,'Maturity Levels'!B:C,2,0),0) -> 1 | R14: =P14 -> 1 | S14: =Q14 -> 1 | T14: =AVERAGE(R14:R22) -> 1 | U14: =AVERAGE(S14:S22) -> 1
D15: GV.RM-02: La propensione al rischio e la tolleranza al rischio sono determinate, comunicate ed aggiornate. | E15: Ex1: Determinare e comunicare dichiarazioni di propensione al rischio che trasmettano le aspettative sul livello di rischio appropriato per l'organizzazione. Ex2: Tradurre le dichiarazioni di propensione al rischio in dichiarazioni di tolleranza al rischio specifiche, misurabili e ampiamente comprensibili. Ex3: Ridefinire periodicamente gli obiettivi organizzativi e la propensione al rischio in base all'esposizione al rischio nota e al rischio residuo. | G15: Le infrastrutture critiche e il ruolo in cui opera l'organizzazione determinerà la propensione al rischio. | H15: Nessuna guida aggiuntiva su questo argomento. | J15: X | N15: Level 1 - Initial | O15: Level 1 - Initial | P15: =_xlfn.IFNA(VLOOKUP(O15,'Maturity Levels'!B:C,2,0),0) -> 1 | Q15: =_xlfn.IFNA(VLOOKUP(O15,'Maturity Levels'!B:C,2,0),0) -> 1 | R15: =P15 -> 1 | S15: =Q15 -> 1
D16: GV.RM-03: I processi di risk management aziendale includono attività e risultati di gestione del rischio di cybersicurezza. | E16: Ex1: Aggregare e gestire i rischi di cybersecurity insieme ad altri rischi aziendali (ad esempio, compliance, finanziari, normativi, operativi, reputazionali e sulla sicurezza). Ex2: Includere i manager della gestione del rischio cybersecurity nella pianificazione della gestione del rischio aziendale. Ex3: Stabilire criteri per l'escalation dei rischi di cybersecurity nell'ambito della gestione del rischio aziendale. | G16: L'organizzazione deve assicurarsi che la gestione del rischio di cybersicurezza sia integrata nei processi di risk management. Ciò richiede un allineamento con gli obiettivi aziendali, permettendo di identificare, valutare e mitigare i rischi informatici in modo proattivo, garantendo così la sicurezza delle informazioni e la continuità operativa. | H16: Nessuna guida aggiuntiva su questo argomento. | K16: X | N16: Level 1 - Initial | O16: Level 1 - Initial | P16: =_xlfn.IFNA(VLOOKUP(N16,'Maturity Levels'!B:C,2,0),0) -> 1 | Q16: =_xlfn.IFNA(VLOOKUP(O16,'Maturity Levels'!B:C,2,0),0) -> 1 | R16: =P16 -> 1 | S16: =Q16 -> 1
D17: GV.RM-04: Viene stabilita e comunicata una direzione strategica che descrive le appropriate opzioni di risposta al rischio. | E17: Ex1: Specificare i criteri per accettare ed evitare il rischio di cybersecurity per diverse classificazioni di dati. Ex2: Valutare se acquistare o meno un'assicurazione di cybersecurity. Ex3: Documentare le condizioni in cui i modelli di responsabilità condivisa sono accettabili (ad esempio, esternalizzare alcune funzioni di cybersecurity, far eseguire transazioni finanziarie a terzi per conto dell'organizzazione, utilizzare servizi di un cloud pubblico). | G17: Come parte della gestione complessiva del rischio aziendale, deve essere sviluppata e aggiornata una strategia completa per gestire i rischi per la sicurezza delle informazioni e la sicurezza informatica quando si verificano cambiamenti. | H17: Nella strategia si dovrebbe includere la determinazione e l'allocazione delle risorse necessarie per proteggere le risorse aziendali critiche. | I17: X | N17: Level 1 - Initial | O17: Level 1 - Initial | P17: =_xlfn.IFNA(VLOOKUP(N17,'Maturity Levels'!B:C,2,0),0) -> 1 | Q17: =_xlfn.IFNA(VLOOKUP(O17,'Maturity Levels'!B:C,2,0),0) -> 1 | R17: =AVERAGE(P17:P19) -> 1 | S17: =AVERAGE(Q17:Q19) -> 1
G18: I rischi per la sicurezza delle informazioni e la sicurezza informatica devono essere documentati, approvati formalmente e aggiornati quando si verificano modifiche. | H18: Si consiglia di utilizzare strumenti di Risk Management. | J18: X | N18: Level 1 - Initial | O18: Level 1 - Initial | P18: =_xlfn.IFNA(VLOOKUP(N18,'Maturity Levels'!B:C,2,0),0) -> 1 | Q18: =_xlfn.IFNA(VLOOKUP(O18,'Maturity Levels'!B:C,2,0),0) -> 1
G19: L’organizzazione deve determinare chiaramente la propria propensione al rischio. | H19: La determinazione e l'espressione della risk tolerance (risk appetite) devono essere in linea con le politiche sulla cybersecurity, per facilitare la dimostrazione della coerenza tra policy, tolleranza al rischio e misure di sicurezza. | J19: X | N19: Level 1 - Initial | O19: Level 1 - Initial | P19: =_xlfn.IFNA(VLOOKUP(N19,'Maturity Levels'!B:C,2,0),0) -> 1 | Q19: =_xlfn.IFNA(VLOOKUP(O19,'Maturity Levels'!B:C,2,0),0) -> 1
D20: GV.RM-05: Sono stabilite linee di comunicazione all'interno dell'organizzazione per i rischi di cybersecurity, compresi i rischi provenienti da fornitori e altre terze parti. | E20: Ex1: Individuare il modo migliore per aggiornare gli alti dirigenti, i direttori e la direzione sulla postura dell'organizzazione in materia di cybersecurity a intervalli concordati. Ex2: Identificare come tutti i settori dell'organizzazione - ad esempio, il management, gli auditor interni, l'ufficio legale, le acquisizioni, la sicurezza fisica e le risorse umane - comunicheranno tra loro circa il rischio di cybersecurity. Ex3: Identificare come le terze parti comunicheranno con l'organizzazione sui rischi di cybersecurity. | G20: L'organizzazione deve implementare linee di comunicazione chiare e strutturate per la segnalazione e la gestione dei rischi di cybersicurezza, compresi quelli derivanti dai fornitori e da altre terze parti. | H20: Nessuna guida aggiuntiva su questo argomento. | K20: X | N20: Level 1 - Initial | O20: Level 1 - Initial | P20: =_xlfn.IFNA(VLOOKUP(N20,'Maturity Levels'!B:C,2,0),0) -> 1 | Q20: =_xlfn.IFNA(VLOOKUP(O20,'Maturity Levels'!B:C,2,0),0) -> 1 | R20: =P20 -> 1 | S20: =Q20 -> 1
D21: GV.RM-06: Viene stabilito e comunicato un approccio standardizzato per calcolare, documentare, classificare e prioritizzare i rischi di cybersecurity. | E21: Ex1: Stabilire i criteri per l'utilizzo di un approccio quantitativo all'analisi del rischio di cybersecurity e specificare le formule di probabilità ed esposizione. Ex2: Creare e utilizzare templates (ad esempio, un registro dei rischi) per documentare le informazioni sui rischi di cybersecurity (ad esempio, descrizione del rischio, esposizione, trattamento e responsabilità). Ex3: Stabilire i criteri per la prioritizzazione del rischio ai livelli appropriati all'interno dell'azienda. Ex4: Utilizzare un elenco coerente di categorie di rischio per supportare l'integrazione, l'aggregazione e il confronto dei rischi di cybersecurity. | G21: L'organizzazione deve stabilire e comunicare un approccio standardizzato per il calcolo, la documentazione, la classificazione e la prioritizzazione dei rischi di cybersicurezza. Questo approccio deve includere criteri chiari per la valutazione dell'impatto e della probabilità dei rischi, garantendo la tracciabilità e l'aggiornamento regolare delle informazioni. | H21: Nessuna guida aggiuntiva su questo argomento. | K21: X | N21: Level 1 - Initial | O21: Level 1 - Initial | P21: =_xlfn.IFNA(VLOOKUP(N21,'Maturity Levels'!B:C,2,0),0) -> 1 | Q21: =_xlfn.IFNA(VLOOKUP(O21,'Maturity Levels'!B:C,2,0),0) -> 1 | R21: =P21 -> 1 | S21: =Q21 -> 1
D22: GV.RM-07: Le opportunità strategiche sono identificate e incluse nelle discussioni sui rischi di cybersecurity dell'organizzazione. | E22: Ex1: Definire e comunicare linee guida e metodi per identificare le opportunità e includerle nelle discussioni sul rischio (ad esempio, analisi dei punti di forza, debolezza, opportunità e minacce [SWOT]). Ex2: Identificare obiettivi ambiziosi e documentarli. Ex3: Calcolare, documentare e dare priorità ai rischi positivi insieme ai rischi negativi. | G22: L'organizzazione deve identificare e valutare opportunità strategiche nel contesto della gestione dei rischi di cybersecurity, integrandole nel processo decisionale per migliorare la resilienza. | H22: L'organizzazione deve riconoscere e analizzare le opportunità strategiche che emergono durante la gestione dei rischi di cybersicurezza. Tali opportunità, come l'adozione di nuove tecnologie o miglioramenti operativi, devono essere integrate nel processo decisionale per rafforzare la resilienza dell'organizzazione. | K22: X | N22: Level 1 - Initial | O22: Level 1 - Initial | P22: =_xlfn.IFNA(VLOOKUP(N22,'Maturity Levels'!B:C,2,0),0) -> 1 | Q22: =_xlfn.IFNA(VLOOKUP(O22,'Maturity Levels'!B:C,2,0),0) -> 1 | R22: =P22 -> 1 | S22: =Q22 -> 1
C23: Roles, Responsibilities, and Authorities (GV.RR): I ruoli, le responsabilità e le autorità in materia di cybersecurity per promuovere la responsabilità, la valutazione delle performance e il miglioramento continuo sono definiti e comunicati. | D23: GV.RR-01: La leadership dell'organizzazione è responsabile del rischio di cybersicurezza e promuove lo sviluppo di una cultura etica di consapevolezza del rischio e di continuo miglioramento. | E23: Ex1: I leader (ad esempio, i direttori) concordano i loro ruoli e responsabilità nello sviluppo, nell'implementazione e nella valutazione della strategia di cybersecurity dell'organizzazione. Ex2: Condivisione delle aspettative dei leader riguardo a una cultura sicura ed etica, soprattutto quando gli eventi attuali offrono l'opportunità di evidenziare esempi positivi o negativi di gestione del rischio di cybersecurity. Ex3: I leader indicano al CISO di mantenere una strategia completa per i rischi di cybersecurity e di rivederla e aggiornarla almeno annualmente e dopo eventi importanti. Ex4: Effettuare revisioni per garantire l'autorità e il coordinamento adeguati tra i responsabili della gestione del rischio di cybersecurity. | G23: La leadership dell'organizzazione deve assumersi la responsabilità della gestione dei rischi di cybersicurezza, promuovendo attivamente lo sviluppo di una cultura aziendale etica, basata sulla consapevolezza del rischio e sul miglioramento continuo delle pratiche di sicurezza. | H23: La leadership dell'organizzazione deve dirigere l'approccio alla gestione dei rischi di cybersicurezza, prendendosi carico delle decisioni e delle strategie di sicurezza. I leader devono inoltre promuovere una cultura aziendale che favorisca la consapevolezza dei rischi, l'integrità e un miglioramento continuo, coinvolgendo attivamente tutte le aree dell'organizzazione nel processo di gestione e riduzione dei rischi. | K23: X | N23: Level 1 - Initial | O23: Level 1 - Initial | P23: =_xlfn.IFNA(VLOOKUP(N23,'Maturity Levels'!B:C,2,0),0) -> 1 | Q23: =_xlfn.IFNA(VLOOKUP(O23,'Maturity Levels'!B:C,2,0),0) -> 1 | R23: =P23 -> 1 | S23: =Q23 -> 1 | T23: =AVERAGE(R23:R28) -> #REF! | U23: =AVERAGE(S23:S28) -> 1.75
D24: GV.RR-02: Vengono stabiliti, comunicati, compresi e applicati i ruoli, le responsabilità e le autorità relativi alla gestione del rischio di cybersecurity. | E24: Ex1: Documentare i ruoli e le responsabilità della gestione del rischio nelle policy aziendali. Ex2: Documentare chi è responsabile e risponde delle attività di gestione del rischio di cybersecurity e come tali team e individui devono essere consultati e informati. Ex3: Includere le responsabilità e i requisiti di performance in materia di cybersecurity nelle descrizioni del personale. Ex4: Documentare gli obiettivi di performance per il personale con responsabilità di gestione del rischio di cybersecurity e misurare periodicamente le prestazioni per identificare le aree di miglioramento. Ex5: Articolare chiaramente le responsabilità in materia di cybersecurity all'interno delle funzioni operative, di rischio e di audit interno. | F24: X | G24: I ruoli, le responsabilità e le autorità in materia di cybersecurity all'interno dell'organizzazione devono essere documentati, esaminati, autorizzati, aggiornati e allineati con i ruoli interni all'organizzazione e i partner esterni. | H24: Dovrebbe essere preso in considerazione quanto segue: • Descrivere i ruoli, le responsabilità e le autorità di sicurezza: chi nell'organizzazione dovrebbe essere consultato, informato e ritenuto responsabile per tutti o parte degli asset. • Fornire ruoli, responsabilità e autorità di sicurezza per tutte le funzioni chiave nella cybersecurity e nella sicurezza delle informazioni (attività legali, di rilevamento ecc...). • Includere ruoli e responsabilità di cybersecurity per i fornitori terzi (ad esempio fornitori, clienti, partner) con accesso fisico o logico all'ambiente ICT/ OT dell'organizzazione. | J24: X | N24: Level 1 - Initial | O24: Level 2 - Repeatable | P24: =_xlfn.IFNA(VLOOKUP(N24,'Maturity Levels'!B:C,2,0),0) -> 1 | Q24: =_xlfn.IFNA(VLOOKUP(O24,'Maturity Levels'!B:C,2,0),0) -> 2 | R24: =AVERAGE(P24:P25) -> 1 | S24: =AVERAGE(Q24:Q25) -> 1
G25: L'organizzazione deve nominare un responsabile della sicurezza delle informazioni. | H25: Il responsabile della cybersecurity dovrebbe essere responsabile del monitoraggio dell'implementazione della strategia e delle misure di sicurezza informatica dell'organizzazione. | K25: X | N25: Level 1 - Initial | P25: =_xlfn.IFNA(VLOOKUP(N25,'Maturity Levels'!B:C,2,0),0) -> 1 | Q25: =_xlfn.IFNA(VLOOKUP(O25,'Maturity Levels'!B:C,2,0),0) -> 0 | X25: Maturità implementativa non applicabile al contesto di business
D26: GV.RR-03: Vengono assegnate risorse adeguate e commisurate alla strategia di rischio di cybersecurity, ai ruoli, alle responsabilità e alle policy. | E26: Ex1: Effettuare revisioni periodiche del management per garantire che coloro che hanno responsabilità di gestione del rischio di cybersecurity abbiano l'autorità necessaria. Ex2: Identificare l'allocazione delle risorse e gli investimenti in linea con la tolleranza al rischio e la risposta. Ex3: Fornire risorse umane, di processo e tecniche adeguate e sufficienti per supportare la strategia di cybersecurity. | G26: L'organizzazione deve assegnare risorse adeguate e proporzionate alla strategia di gestione del rischio di cybersicurezza, garantendo che i ruoli, le responsabilità e le policy siano supportati in modo efficace per mitigare i rischi. | H26: L'organizzazione deve allorcare risorse sufficienti, come personale, budget e strumenti, per sostenere l'attuazione della strategia di cybersecurity. Le risorse devono essere commisurate ai rischi identificati e alle responsabilità assegnate, garantendo che le policy di sicurezza siano efficaci e che il personale abbia i mezzi necessari per svolgere il proprio ruolo nella protezione contro le minacce. | K26: X | N26: Level 1 - Initial | O26: Level 1 - Initial | P26: =_xlfn.IFNA(VLOOKUP(N26,'Maturity Levels'!B:C,2,0),0) -> 1 | Q26: =_xlfn.IFNA(VLOOKUP(O26,'Maturity Levels'!B:C,2,0),0) -> 1 | R26: =P26 -> 1 | S26: =Q26 -> 1
D27: GV.RR-04: La cybersecurity è inclusa nelle attività delle risorse umane. | G27: Il personale che ha accesso alle informazioni o alle tecnologie più critiche dell’organizzazione deve essere verificato. | H27: L'accesso a informazioni o tecnologie critiche dovrebbe essere preso in considerazione durante il reclutamento, l'impiego e al momento della cessazione del rapporto di lavoro. I controlli di verifica dei precedenti dovrebbero prendere in considerazione le leggi, i regolamenti e l'etica applicabili in proporzione ai requisiti aziendali, alla classificazione delle informazioni a cui accedere e ai rischi percepiti. | I27: X | N27: Level 4 - Managed | O27: Level 4 - Managed | P27: =_xlfn.IFNA(VLOOKUP(#REF!,'Maturity Levels'!B:C,2,0),0) -> #REF! | Q27: =_xlfn.IFNA(VLOOKUP(N27,'Maturity Levels'!B:C,2,0),0) -> 4 | R27: =AVERAGE(P27:P28) -> #REF! | S27: =AVERAGE(Q27:Q28) -> 4
E28: Ex1: Integrare le considerazioni sulla gestione del rischio di cybersecurity nei processi delle risorse umane (ad esempio, screening del personale, onboarding, notifica delle modifiche, offboarding). Ex2: Considerare la conoscenza della cybersecurity come un fattore positivo nelle decisioni di assunzione, formazione e mantenimento del personale. Ex3: Effettuare controlli sul background prima di assumere nuovo personale per ruoli sensibili. Ex4: Definire e applicare l'obbligo per il personale di conoscere, aderire e rispettare le policy di sicurezza in relazione al proprio ruolo. | G28: Sviluppare e mantenere un processo di sicurezza informatica/delle informazioni sulle risorse umane applicabile in fase di assunzione, durante l'impiego e al termine del rapporto di lavoro. | H28: Il processo di cybersecurity sulle risorse umane dovrebbe includere: 1. L'accesso a informazioni o tecnologie critiche; 2. Controlli di verifica dei precedenti; 3. Codice di condotta; 4. Ruoli, autorità e responsabilità ecc... | J28: X | N28: Level 4 - Managed | O28: Level 4 - Managed | P28: =_xlfn.IFNA(VLOOKUP(#REF!,'Maturity Levels'!B:C,2,0),0) -> #REF! | Q28: =_xlfn.IFNA(VLOOKUP(N28,'Maturity Levels'!B:C,2,0),0) -> 4
C29: Policies, Processes, and Procedures (GV.PO): Le policy, i processi e le procedure di cybersecurity dell'organizzazione sono stabiliti, comunicati e applicati. | D29: GV.PO-01: Le policy, i processi e le procedure per la gestione dei rischi di cybersecurity sono stabiliti in base al contesto aziendale e sono comunicati e applicati alla strategia di cybersecurity e alle priorità. | E29: Ex1: Creare, diffondere e mantenere una policy di gestione del rischio con dichiarazioni di intenti, aspettative e direzione. Ex2: Rivedere periodicamente le policy e le procedure per garantire che siano in linea con gli obiettivi e le priorità della strategia di risk management e con la direzione di alto livello della politica di cybersecurity. Ex3: Richiedere l'approvazione delle policy da parte del senior management. Ex4: Comunicare le policy, le procedure e i processi di gestione del rischio di cybersecurity all'interno dell'organizzazione. Ex5: Richiedere al personale di confermare la ricezione delle policy al momento della prima assunzione, annualmente e ogni volta che una policy viene aggiornata. | G29: Le policy e le procedure per la sicurezza delle informazioni e la sicurezza informatica devono essere create, documentate, riviste, approvate e aggiornate quando si verificano modifiche. | H29: Le policy e le procedure, utilizzate per identificare pratiche e aspettative accettabili per le operazioni aziendali: • possono essere utilizzate per formare i nuovi dipendenti sulle aspettative di sicurezza delle informazioni e possono aiutare un'indagine in caso di incidente: dovrebbero essere facilmente accessibili ai dipendenti. • dovrebbero descrivere chiaramente le aspettative per la protezione delle informazioni e dei sistemi dell'organizzazione e il modo in cui la direzione si aspetta che le risorse dell'azienda siano utilizzate e protette da tutti i dipendenti. • dovrebbero essere riviste e aggiornate almeno una volta all'anno e ogni volta che si verificano cambiamenti nell'organizzazione o nella tecnologia. Ogni volta che le policy vengono modificate, i dipendenti dovrebbero essere informati dei cambiamenti. | I29: X | N29: Level 1 - Initial | O29: Level 3 - Defined | P29: =_xlfn.IFNA(VLOOKUP(N29,'Maturity Levels'!B:C,2,0),0) -> 1 | Q29: =_xlfn.IFNA(VLOOKUP(O29,'Maturity Levels'!B:C,2,0),0) -> 3 | R29: =AVERAGE(P29:P30) -> 1 | S29: =AVERAGE(Q29:Q30) -> 3 | T29: =AVERAGE(R29:R31) -> 1 | U29: =AVERAGE(S29:S31) -> 2
G30: Una policy sulla sicurezza informatica valida per l'intera organizzazione deve essere definita, documentata, aggiornata in caso di modifiche, diffusa e approvata dalla dirigenza. | H30: Le policy dovrebbero includere, ad esempio: • L'identificazione e l'assegnazione di ruoli, responsabilità, impegno della direzione, coordinamento tra entità organizzative e conformità. Le linee guida sui profili di ruolo insieme ai titoli identificati, missioni, compiti, abilità, conoscenze e competenze sono disponibili nel "European Cybersecurity Skills Framework Role Profiles" di ENISA. (https://www.enisa.europa.eu/publications/european-cybersecurity-skillsframework-role-profiles). • Il coordinamento tra entità organizzative responsabili dei diversi aspetti della sicurezza (ad esempio, tecnica, fisica, del personale, cyber-fisica, delle informazioni, controllo degli accessi, protezione dei media, gestione delle vulnerabilità, manutenzione, monitoraggio). • La copertura dell'intero ciclo di vita dei sistemi ICT/OT. | J30: X | N30: Level 1 - Initial | O30: Level 3 - Defined | P30: =_xlfn.IFNA(VLOOKUP(N30,'Maturity Levels'!B:C,2,0),0) -> 1 | Q30: =_xlfn.IFNA(VLOOKUP(O30,'Maturity Levels'!B:C,2,0),0) -> 3
D31: GV.PO-02: Le policy, i processi e le procedure per la gestione dei rischi di cybersecurity sono revisionati, aggiornati, comunicati e applicati per riflettere i cambiamenti nei requisiti, nelle minacce, nella tecnologia e nella mission dell'organizzazione. | E31: Ex1: Aggiornare le policy sulla base di revisioni periodiche dei risultati della gestione del rischio di cybersecurity per garantire che le politiche e i processi di supporto mantengano adeguatamente il rischio a un livello accettabile. Ex2: Fornire una tempistica per la revisione delle modifiche all'ambiente di rischio dell'organizzazione (ad esempio, cambiamenti nel rischio o negli obiettivi della missione dell'organizzazione) e comunicare gli aggiornamenti delle policy raccomandate. Ex3: Aggiornare le policy per riflettere i cambiamenti dei requisiti legali e normativi. Ex4: Aggiornare le policy per riflettere i cambiamenti tecnologici (ad esempio, l'adozione dell'intelligenza artificiale) e le modifiche al business (ad esempio, l'acquisizione di una nuova attività, nuovi requisiti contrattuali). | G31: Le organizzazioni devono implementare un sistema efficace per la gestione dei rischi di cybersecurity, che preveda la revisione, l'aggiornamento, la comunicazione e l'applicazione regolare di policy, processi e procedure. Il sistema deve rispondere a cambiamenti normativi, nuove minacce, innovazioni tecnologiche e modifiche alla missione aziendale. Le revisioni devono essere documentate, comunicate a tutti i dipendenti e applicate in modo rigoroso, garantendo una continua conformità e protezione. | H31: Le policy, i processi e le procedure di gestione del rischio cyber devono essere sottoposti a una revisione periodica e aggiornata in base a diversi fattori: cambiamenti nelle normative, nuove minacce alla cybersecurity, sviluppi tecnologici e aggiornamenti della mission e degli obiettivi aziendali. Il processo di aggiornamento deve essere sistematico e coinvolgere tutte le parti interessate, assicurando che le modifiche siano comunicate chiaramente all'interno dell'organizzazione e applicate efficacemente. Ciò garantisce che l'organizzazione rimanga protetta e conforme alle normative in continua evoluzione, minimizzando i rischi legati alla cybersecurity. | K31: X | N31: Level 1 - Initial | O31: Level 1 - Initial | P31: =_xlfn.IFNA(VLOOKUP(N31,'Maturity Levels'!B:C,2,0),0) -> 1 | Q31: =_xlfn.IFNA(VLOOKUP(O31,'Maturity Levels'!B:C,2,0),0) -> 1 | R31: =P31 -> 1 | S31: =Q31 -> 1
C32: Oversight (GV.OV): I risultati delle attività e delle performance di gestione del rischio di cybersecurity a livello organizzativo sono utilizzati per informare, migliorare e adeguare la strategia di risk management. | D32: GV.OV-01: Gli outcomes della strategia di gestione del rischio di cybersecurity sono revisionati per informare la direzione e aggiornare la strategia stessa. | E32: Ex1: Valutare in che misura la strategia di gestione del rischio e i risultati del rischio hanno aiutato i leader a prendere decisioni e a raggiungere gli obiettivi organizzativi. Ex2: Esaminare se le strategie di rischio per la cybersecurity, che ostacolano le operazioni o l'innovazione, devono essere modificate. | G32: L'organizzazione deve riesaminare regolarmente i risultati della strategia di gestione del rischio di cybersecurity per valutare l'efficacia delle misure implementate e apportare miglioramenti mirati alla strategia, alle priorità e alla direzione complessiva in base ai nuovi rischi, minacce e opportunità. | H32: Si richiede che le organizzazioni monitorino e revisionino periodicamente gli esiti della loro strategia di gestione del rischio di cybersecurity, analizzando i dati relativi agli incidenti, alle minacce rilevate, ai rischi mitigati e alle prestazioni complessive delle misure di sicurezza. L'obiettivo è garantire che la strategia rimanga allineata con le esigenze operative e le evoluzioni del panorama delle minacce. I risultati di queste revisioni devono essere utilizzati per informare decisioni strategiche e adattare la direzione aziendale, migliorando continuamente la capacità di difesa e risposta ai rischi informatici. | K32: X | N32: Level 1 - Initial | O32: Level 1 - Initial | P32: =_xlfn.IFNA(VLOOKUP(N32,'Maturity Levels'!B:C,2,0),0) -> 1 | Q32: =_xlfn.IFNA(VLOOKUP(O32,'Maturity Levels'!B:C,2,0),0) -> 1 | R32: =P32 -> 1 | S32: =Q32 -> 1 | T32: =AVERAGE(R32:R34) -> 1 | U32: =AVERAGE(S32:S34) -> 1
D33: GV.OV-02: La strategia di gestione del rischio di cybersecurity viene rivista e adattata per garantire la copertura dei requisiti e dei rischi aziendali. | E33: Ex1: Esaminare i risultati dell'audit per confermare se la strategia di cybersecurity esistente ha garantito la conformità ai requisiti interni ed esterni. Ex2: Esaminare la supervisione delle performance di coloro che ricoprono ruoli legati alla cybersecurity per determinare se sono necessarie modifiche alle policy. Ex3: Rivedere la strategia alla luce degli incidenti di cybersecurity. | G33: L'organizzazione deve definire, rivedere e aggiornare periodicamente la strategia di gestione del rischio di cybersecurity per assicurare che essa copra adeguatamente i requisiti normativi, operativi e i rischi aziendali emergenti, garantendo una protezione completa e proattiva dell'infrastruttura informatica. | H33: Si richiede che la strategia di gestione del rischio di cybersecurity sia soggetta a un processo continuo di revisione e adattamento, in linea con l'evoluzione dei rischi aziendali e dei requisiti operativi e normativi. Ogni cambiamento nel contesto dell'organizzazione, come l'introduzione di nuove tecnologie, modifiche normative o l'emergere di nuove minacce, deve riflettersi in un aggiornamento della strategia. Questo processo assicura che l'approccio alla gestione dei rischi rimanga efficace, proattivo e in grado di rispondere alle necessità attuali e future dell'azienda. | K33: X | N33: Level 1 - Initial | O33: Level 1 - Initial | P33: =_xlfn.IFNA(VLOOKUP(N33,'Maturity Levels'!B:C,2,0),0) -> 1 | Q33: =_xlfn.IFNA(VLOOKUP(O33,'Maturity Levels'!B:C,2,0),0) -> 1 | R33: =P33 -> 1 | S33: =Q33 -> 1
D34: GV.OV-03: Le performance della gestione del rischio di cybersecurity dell'organizzazione sono valutate e riviste per confermare e adeguare la direzione strategica. | E34: Ex1: Revisionare i key performance indicators (KPI) per garantire che le policy e le procedure dell'organizzazione raggiungano gli obiettivi prefissati. Ex2: Esaminare i key risk indicators (KRI) per identificare i rischi che l'organizzazione deve affrontare, compresi probabilità ed impatto potenziale. Ex3: Raccogliere e comunicare le metriche sulla gestione del rischio di cybersecurity con la leadership. | G34: Valutare e rivedere periodicamente le performance della gestione del rischio di cybersecurity per assicurarsi che le misure adottate siano efficaci e che la direzione strategica rimanga adeguata e allineata con gli obiettivi di sicurezza e le nuove minacce. | H34: Si impone che le prestazioni del sistema di gestione del rischio di cybersecurity siano monitorate costantemente e sottoposte a revisione regolare. L’organizzazione deve analizzare le metriche chiave, come il numero di incidenti rilevati, i rischi mitigati e la reattività alle minacce, per valutare l'efficacia complessiva della strategia attuale. I risultati di queste valutazioni devono essere utilizzati per confermare la validità dell'approccio strategico adottato o, se necessario, per apportare modifiche e miglioramenti che garantiscano un allineamento costante con le priorità aziendali e il panorama delle minacce in evoluzione. | K34: X | N34: Level 1 - Initial | O34: Level 1 - Initial | P34: =_xlfn.IFNA(VLOOKUP(N34,'Maturity Levels'!B:C,2,0),0) -> 1 | Q34: =_xlfn.IFNA(VLOOKUP(O34,'Maturity Levels'!B:C,2,0),0) -> 1 | R34: =P34 -> 1 | S34: =Q34 -> 1
C35: Cybersecurity Supply Chain Risk Management (GV.SC): I processi di risk management della cyber supply chain sono identificati, stabiliti, gestiti, monitorati e migliorati dagli stakeholder dell'organizzazione. | D35: GV.SC-01: Sono stabiliti ed approvati dagli stakeholder dell'organizzazione il programma, la strategia, gli obiettivi, le politiche e i processi di risk management della cybersecurity supply chain. | E35: Ex1: Definizione di una strategia che esprima gli obiettivi del programma di gestione del rischio della cybersecurity supply chain. Ex2: Sviluppo di un programma di gestione del rischio della cybersecurity supply chain, che includa un piano (con milestone), policy e procedure per l'implementazione ed il miglioramento del programma e la condivisione di policy e procedure con le parti interessate dell'organizzazione. Ex3: Sviluppare e implementare i processi del programma in base alla strategia, agli obiettivi, alle policy e alle procedure concordate ed eseguite dalle parti interessate dell'organizzazione. Ex4: Stabilire un meccanismo interorganizzativo che garantisca l'allineamento tra le funzioni che contribuiscono alla gestione del rischio della cybersecurity della supply chain, come cybersecurity, IT, ufficio legale, risorse umane e engineering. | G35: L'organizzazione deve documentare, rivedere, approvare, aggiornare quando si verificano modifiche e implementare un processo di gestione dei rischi della supply chain che supporti l'identificazione, la valutazione e la mitigazione dei rischi associati alla natura distribuita e interconnessa delle supply chain di prodotti e servizi ICT/OT. | H35: Nessuna guida aggiuntiva su questo argomento. | K35: X | N35: Level 1 - Initial | O35: Level 1 - Initial | P35: =_xlfn.IFNA(VLOOKUP(N35,'Maturity Levels'!B:C,2,0),0) -> 1 | Q35: =_xlfn.IFNA(VLOOKUP(O35,'Maturity Levels'!B:C,2,0),0) -> 1 | R35: =P35 -> 1 | S35: =Q35 -> 1 | T35: =AVERAGE(R35:R47) -> 1.1333333 | U35: =AVERAGE(S35:S47) -> 1.0333333
D36: GV.SC-02: I ruoli e le responsabilità in materia di cybersecurity per fornitori, clienti e partner sono stabiliti, comunicati e coordinati internamente ed esternamente. | E36: Ex1: Identificare uno o più ruoli o posizioni specifici, responsabili della pianificazione, del reperimento delle risorse e dell'esecuzione delle attività di gestione del rischio della cybersecurity supply chain. Ex2: Documentare i ruoli e le responsabilità della gestione del rischio della cybersecurity supply chain in policy. Ex3: Creare matrici di responsabilità per documentare chi sarà responsabile delle attività di gestione del rischio della cybersecurity supply chain ed in che modo tali team e individui saranno consultati e informati. Ex4: Includere le responsabilità di gestione del rischio della cybersecurity supply chain e i requisiti di performance nelle descrizioni del personale per garantire chiarezza e migliorare la accountability. Ex5: Documentare gli obiettivi prestazionali per il personale con responsabilità specifiche nella cybersecurity supply chain e misurarli periodicamente per dimostrare e migliorare le performance. Ex6: Identificare ruoli e responsabilità per fornitori, clienti e partner commerciali per affrontare le responsabilità condivise per i rischi di cybersecurity applicabili e integrarli nelle policy organizzative e negli accordi con le terze parti. Ex7: Comunicare internamente i ruoli e le responsabilità di gestione del rischio cybersecurity supply chain per terze parti. Ex8: Stabilire regolamenti e protocolli per la condivisione delle informazioni e i processi di reporting tra l'organizzazione e i suoi fornitori. | F36: X | G36: I ruoli, le responsabilità e le autorità in materia di cybersecurity all'interno dell'organizzazione devono essere documentati, esaminati, autorizzati, aggiornati e allineati con i ruoli interni all'organizzazione e i partner esterni. | H36: Dovrebbe essere preso in considerazione quanto segue: • Descrivere i ruoli, le responsabilità e le autorità di sicurezza, ad esempio chi nell'organizzazione dovrebbe essere consultato, informato e ritenuto responsabile per tutti o parte dei tuoi asset. • Fornire ruoli, responsabilità e autorità di sicurezza per tutte le funzioni chiave nella cybersecurity e nella sicurezza delle informazioni (attività legali, di rilevamento...). • Includere ruoli e responsabilità di cybersecurity per i fornitori terzi (ad esempio, fornitori, clienti, partner) con accesso fisico o logico all'ambiente ICT/ OT dell'organizzazione. | J36: X | N36: Level 1 - Initial | O36: Level 1 - Initial | P36: =_xlfn.IFNA(VLOOKUP(N36,'Maturity Levels'!B:C,2,0),0) -> 1 | Q36: =_xlfn.IFNA(VLOOKUP(O36,'Maturity Levels'!B:C,2,0),0) -> 1 | R36: =P36 -> 1 | S36: =Q36 -> 1
D37: GV.SC-03: La gestione del rischio della cybersecurity supply chain è integrata nei processi di gestione e valutazione del rischio della cybersecurity nell'organizzazione. | E37: Ex1: Identificare le aree di allineamento e sovrapposizione con la cybersecurity e la gestione del rischio aziendale. Ex2: Stabilire set di controllo integrati per la gestione del rischio di cybersecurity e per la gestione del rischio della cybersecurity supply chain. Ex3: Integrare la gestione del rischio della cybersecurity supply chain nei processi di improvement. Ex4: Segnalare i rischi materiali di cybersecurity nelle supply chain alla direzione e affrontarli a livello di gestione del rischio aziendale. | G37: L'organizzazione deve integrare la gestione del rischio della cybersecurity della supply chain nei propri processi di gestione del rischio, assicurando che i fornitori e le terze parti siano valutati, monitorati e migliorati costantemente per ridurre le vulnerabilità e proteggere l'integrità della catena di fornitura. | H37: Si richiede che i rischi legati alla cybersecurity nella supply chain siano considerati parte integrante della strategia complessiva di gestione del rischio dell’organizzazione. Ogni fornitore, partner o terza parte coinvolta nei processi aziendali deve essere valutato per verificare il suo livello di conformità ai requisiti di sicurezza informatica. La gestione di tali rischi deve includere la valutazione iniziale dei fornitori, il monitoraggio continuo delle prestazioni in termini di sicurezza e la definizione di azioni correttive per ridurre eventuali vulnerabilità. L'integrazione di questa gestione nei processi generali dell'organizzazione permette di migliorare costantemente la sicurezza dell'intera supply chain, garantendo che nessun anello debole possa compromettere la cybersecurity aziendale. | K37: X | N37: Level 1 - Initial | O37: Level 1 - Initial | P37: =_xlfn.IFNA(VLOOKUP(N37,'Maturity Levels'!B:C,2,0),0) -> 1 | Q37: =_xlfn.IFNA(VLOOKUP(O37,'Maturity Levels'!B:C,2,0),0) -> 1 | R37: =P37 -> 1 | S37: =Q37 -> 1
D38: GV.SC-04: I fornitori sono noti e prioritizzati in base alla criticità. | E38: Ex1: Sviluppare parametri di criticità dei fornitori basati, ad esempio, sulla sensibilità dei dati elaborati o posseduti dai fornitori stessi, sul grado di accesso ai sistemi dell'organizzazione e sull'importanza dei prodotti o dei servizi per la mission dell'organizzazione. Ex2: Tenere un registro di tutti i fornitori e assegnare loro una priorità in base ai parametri di criticità. | G38: L’organizzazione deve mantenere un elenco completo dei fornitori e classificarli in base alla loro criticità per l'operatività aziendale, assegnando priorità a quelli che rappresentano i rischi più elevati per la sicurezza e la continuità delle attività. | H38: Si richiede che l’organizzazione conosca dettagliatamente tutti i fornitori con cui collabora e li classifichi in base alla loro importanza strategica e al rischio potenziale che rappresentano. I fornitori devono essere valutati sulla base di criteri come l'accesso alle informazioni sensibili, la dipendenza dalle loro forniture o servizi e il loro impatto potenziale sulla continuità aziendale in caso di incidente di sicurezza. I fornitori critici, che rappresentano un rischio maggiore, devono essere monitorati con maggiore attenzione, con misure di sicurezza più rigorose e revisioni periodiche per assicurare che rispettino i requisiti di cybersecurity necessari per ridurre il rischio complessivo. | K38: X | N38: Level 1 - Initial | O38: Level 1 - Initial | P38: =_xlfn.IFNA(VLOOKUP(N38,'Maturity Levels'!B:C,2,0),0) -> 1 | Q38: =_xlfn.IFNA(VLOOKUP(O38,'Maturity Levels'!B:C,2,0),0) -> 1 | R38: =P38 -> 1 | S38: =Q38 -> 1
D39: GV.SC-05: I requisiti per affrontare i rischi di cybersecurity nelle supply chain sono stabiliti, prioritizzati e integrati nei contratti e in altri tipi di accordi con i fornitori e altre terze parti rilevanti. | E39: Ex1: Stabilire requisiti di sicurezza per fornitori, prodotti e servizi commisurati al loro livello di criticità e al potenziale impatto in caso di compromissione. Ex2: Definire tutti i requisiti di cybersecurity e della supply chain che le terze parti devono rispettare e le modalità di verifica della conformità ai requisiti nel linguaggio contrattuale predefinito. Ex3: Definire nei contratti le regole e i protocolli per la condivisione delle informazioni tra l'organizzazione e i suoi fornitori e subfornitori. Ex4: Gestire il rischio includendo nei contratti i requisiti di sicurezza in base alla loro criticità e al potenziale impatto in caso di compromissione. Ex5: Definire i requisiti di sicurezza nei service-level agreements (SLA) per il monitoraggio dei fornitori, al fine di garantire prestazioni di sicurezza accettabili durante l'intero ciclo di vita del rapporto con i fornitori. Ex6: Richiedere per contratto ai fornitori di divulgare le caratteristiche, le funzioni e le vulnerabilità di cybersecurity dei loro prodotti e servizi per tutta la durata del prodotto o del servizio. Ex7: Richiedere per contratto ai fornitori di fornire e mantenere un inventario aggiornato dei componenti (ad esempio, una lista dei software o hardware) per i prodotti critici. Ex8: Richiedere per contratto ai fornitori di esaminare i propri dipendenti e di proteggersi dalle minacce interne. Ex9: Richiedere contrattualmente ai fornitori di fornire prove dell'esecuzione di pratiche di sicurezza accettabili attraverso, ad esempio, auto-attestazioni, conformità a standard noti, certificazioni o ispezioni. Ex10: Specificare nei contratti i diritti e le responsabilità dell'organizzazione, dei suoi fornitori e dei fornitori di livello inferiore e delle catene di fornitura applicabili, in relazione ai potenziali rischi di cybersecurity. | G39: Sulla base dei risultati della valutazione del rischio della cyber supply chain, dovrà essere stabilito un framework contrattuale per i fornitori e i partner esterni per gestire la condivisione di informazioni sensibili e di prodotti e servizi ICT/OT distribuiti e interconnessi. | H39: Le entità non soggette alla Direttiva NIS 2 dovrebbero prendere in considerazione solo i fornitori aziendali critici e i partner terzi. I requisiti del GDPR devono essere soddisfatti quando le informazioni aziendali contengono dati personali (applicabili a tutti i livelli), ovvero le misure di sicurezza devono essere affrontate nel quadro contrattuale. | J39: X | N39: Level 2 - Repeatable | O39: Level 2 - Repeatable | P39: =_xlfn.IFNA(VLOOKUP(N39,'Maturity Levels'!B:C,2,0),0) -> 2 | Q39: =_xlfn.IFNA(VLOOKUP(O39,'Maturity Levels'!B:C,2,0),0) -> 2 | R39: =AVERAGE(P39:P41) -> 1.3333333 | S39: =AVERAGE(Q39:Q41) -> 1.3333333
F40: X | G40: I requisiti di sicurezza delle informazioni contrattuali e di cybersecurity per i fornitori e partner terzi devono essere implementati per garantire un processo di correzione dei difetti verificabile e per garantire la correzione dei difetti identificati durante i test e la valutazione di "sicurezza delle informazioni e sicurezza informatica". | H40: I sistemi informativi contenenti software (o firmware) interessati da difetti software annunciati di recente (e potenziali vulnerabilità derivanti da tali difetti) devono essere identificati. Le patch, i service pack e gli hot fix di sicurezza di recente rilascio devono essere installati e tali patch, service pack e hot fix vengono testati per verificarne l'efficacia e i potenziali effetti collaterali sui sistemi informativi dell'organizzazione prima dell'installazione. Anche i difetti scoperti durante le valutazioni di sicurezza, il monitoraggio continuo, le attività di risposta agli incidenti o la gestione degli errori del sistema informativo vengono affrontati rapidamente. La correzione dei difetti deve essere incorporata nella gestione della configurazione come modifica di emergenza. | K40: X | N40: Level 1 - Initial | O40: Level 1 - Initial | P40: =_xlfn.IFNA(VLOOKUP(N40,'Maturity Levels'!B:C,2,0),0) -> 1 | Q40: =_xlfn.IFNA(VLOOKUP(O40,'Maturity Levels'!B:C,2,0),0) -> 1
F41: X | G41: L'organizzazione deve stabilire requisiti contrattuali che le consentano di rivedere i programmi di information security e cybersecurity implementati dai fornitori e dai partner terzi. | H41: Nessuna guida aggiuntiva su questo argomento. | K41: X | N41: Level 1 - Initial | O41: Level 1 - Initial | P41: =_xlfn.IFNA(VLOOKUP(N41,'Maturity Levels'!B:C,2,0),0) -> 1 | Q41: =_xlfn.IFNA(VLOOKUP(O41,'Maturity Levels'!B:C,2,0),0) -> 1
...

Sheet Remediation Proposal
A2: Vista 1 | G2: Vista 2
A3: Capability | B3: Action | C3: Piano di remediation | D3: Efficacia | E3: Complessità | G3: Livello di complessità | H3: Iniziative di remediation proposte | I3: Delta di copertura
A4: End-Point Security | B4: Installazione degli agent IBMQRadar // BitDefender sugli endpoint Installazione dell’agent Splunk sugli endpoint Installazione di agent SIEM e XSOAR Policy di sicurezza per la gestione degli endpoint Policy per la gestione dati sensibili e vulnerabilità su endpoint Implementazione EDR Implementazione Antivirus Software patching Implementazione di BitLocker e o FileVault per la cifratura dati | C4: Documentali: Stesura di policy di sicurezza per gli endpoint che definiscano chiaramente l'uso dei dispositivi aziendali, le modalità di protezione e gestione dei dispositivi. Definire i criteri per la gestione delle vulnerabilità dei dispositivi Documentare il piano di aggiornamento e patch management per i dispositivi. Implementativi: Implementare software antivirus e anti-malware su tutti gli endpoint, assicurando che siano configurati per eseguire scansioni regolari e che gli aggiornamenti automatici siano abilitati. Implementare un processo regolare di gestione delle patch per garantire che tutti i sistemi operativi e le applicazioni siano aggiornati tempestivamente, inclusi eventuali aggiornamenti di sicurezza critici.Cifrare i dati a riposo e in transito su tutti gli endpoint aziendali per proteggere i dati sensibili da accessi non autorizzati, utilizzando soluzioni di crittografia avanzata .Implementare una soluzione EDR centralizzata per monitorare e rispondere alle minacce sugli endpoint. | D4: VERRA' ASSEGNATO UN PUNTEGGIO RELATIVO ALLA CAPABILITY | E4: VERRA' ASSEGNATO UN PUNTEGGIO RELATIVO ALLA CAPABILITY | G4: 1 | H4: VERRANNO INSERITE LE ACTION DI PIU' FACILE IMPLEMENTAZIONE IN GRADO DI GENERARE UN IMPATTO MAGGIORE SUL PIANO PIANO DELLA SICUREZZA E IN TERMINI DI COMPLIANCE CON LA NORMATIVA NIST2
A5: Network Security | B5: Implemwntazioni di strumenti per la scansione continua delle vulnerabilità (Es. Nessus, Acunetix, BurbSuite, Owasp Zap) In caso di presenza di ambienti Cloud, implementazione di tool specifici (Es. AWS Inspector, Ms Defender, Palo Alto, Prisma Cloud Implementazione DMZ, VLAN Rivedere e aggiornare le configurazioni dei firewall e degli IPS SIEM implementation Policy di sicurezza per la rete aziendale Policy per la regolamentazione dell'accesso alla rete Policy per l'identificazione, la mitigazione e la comunicazione degli incidenti di rete. Segmentazione di rete Implementazione dell'NDR Implementazione di Akamai ( o soluzioni complementari) Implementazione del SIEM | C5: Documentali: Definire una policy di sicurezza per la rete aziendale che stabilisca linee guida e controlli per l’accesso, la protezione dei dati in transito, il monitoraggio e la gestione delle vulnerabilità. Segmentare la rete aziendale per isolare sistemi e applicazioni critiche da quelli non critici, limitando l'accesso e creando zone sicure. Configurare un sistema di logging centralizzato per raccogliere, archiviare e analizzare i log di rete in tempo reale, garantendo un'individuazione tempestiva degli incidenti. Stesura di linee guida per il monitoraggio del traffico e degli apparati di rete. Stesura di policy per la regolamentazione dell’accesso alla rete. Stesura di linee guida per la scansione regolare delle vulnerabilità e la mitigazione. Stesura di regole per la conservazione e l’analisi dei log di rete. Procedure per identificare, contenere, risolvere e comunicare incidenti di sicurezza legati alla rete. Stesura di linee guida per l’applicazione di aggiornamenti ai dispositivi di rete. Implementativi: Implementare firewall interni ed esterni tra le diverse zone di rete per applicare controlli granulari e limitare il traffico non autorizzato. Backup regolari di configurazioni di firewall. Implementazione di sistemi per rilevare e bloccare attività sospette. Implementazione di sistemi di monitoraggio continuo (NDR - Network Detection and Response). Implementazione di soluzioni per mitigare attacchi distribuiti di negazione del servizio (es. Cloudflare, Akamai), Integrazione di log di rete in un sistema SIEM per correlazioni e automazione della risposta. Implementazione di VLAN, Configurazione di VPN per l’accesso remoto sicuro e crittografia end-to-end, scansione vulnerabilità (Qualys), Configurazione di backup automatici per i dispositivi critici, Esecuzione regolare di test per verificare le difese della rete | D5: VERRA' ASSEGNATO UN PUNTEGGIO RELATIVO ALLA CAPABILITY | E5: VERRA' ASSEGNATO UN PUNTEGGIO RELATIVO ALLA CAPABILITY | G5: 2 | H5: VERRANNO INSERITE LE ACTION CON UNA COMPLESSITA' DI IMPLEMENTAZIONE MEDIA
