Workbook

Sheet Framework
B2: FUNZIONE | C2: CATEGORIA | D2: SOTTO-CATEGORIA | E2: ESEMPI DI IMPLEMENTAZIONE | F2: REQUISITO CHIAVE | G2: REQUISITO | H2: GUIDA | I2: BASIC | J2: IMPORTANT | K2: ESSENTIAL | L2: DATA INTERVISTA | M2: REFERENTE INTERVISTATO | N2: MATURITY DOCUMENTALE | O2: MATURITY IMPLEMENTATIVA | P2: DOCUMENTATION SCORE | Q2: DOCUMENTATION SCORE | R2: SUBCATEGORY DOCUMENTATION MATURITY SCORE | S2: SUBCATEGORY IMPLEMENTATION MATURITY SCORE | T2: CATEGORY DOCUMENTATION MATURITY SCORE | U2: CATEGORY IMPLEMENTATION MATURITY SCORE | V2: OUTCOME | W2: TECNOLOGIE A SUPPORTO | X2: NOTE
B3: GOVERN (GV): Le strategie, le aspettative e le policy di gestione del rischio cyber dell'organizzazione sono stabilite, comunicate e monitorate. | C3: Organizational Context (GV.OC): Le circostanze - mission, aspettative degli stakeholder e requisiti legali, normativi e contrattuali - che riguardano le decisioni dell'organizzazione in materia di gestione del rischio di cybersecurity sono ben comprese. | D3: GV.OC-01: La mission dell'organizzazione è compresa ed orientata alla gestione del rischio di cybersicurezza. | E3: Ex1: condividere la mission dell'organizzazione (ad esempio, attraverso dichiarazioni di visione e mission, marketing e strategie di servizio) per fornire una base identificativa dei rischi che potrebbero ostacolare tale mission. | G3: La posizione dell'organizzazione all'interno delle infrastrutture critiche e del settore industriale di appartenenza deve essere individuata e comunicata chiaramente. | H3: L'organizzazione coperta dalla Direttiva NIS 2 ha la responsabilità di conoscere le altre organizzazioni dello stesso settore per poter collaborare con loro al raggiungimento degli obiettivi stabiliti dalla NIS 2 per quel particolare settore. | J3: X | N3: Level 1 - Initial | O3: Level 2 - Repeatable | P3: =_xlfn.IFNA(VLOOKUP(N3,'Maturity Levels'!B:C,2,0),0) -> 1 | Q3: =_xlfn.IFNA(VLOOKUP(O3,'Maturity Levels'!B:C,2,0),0) -> 2 | R3: =AVERAGE(P3:P4) -> 2.5 | S3: =AVERAGE(Q3:Q4) -> 3 | T3: =AVERAGE(R3:R13) -> 1.7666667 | U3: =AVERAGE(S3:S13) -> 2.4 | X3: Comunicazioni specifiche in caso di security incident anche verso altre organizzazioni coinvolte
G4: Le priorità relative alla missione, agli obiettivi e alle attività dell'organizzazione devono essere definite e comunicate chiaramente. | H4: È necessario determinare le esigenze di protezione delle informazioni e, se necessario, rivedere i relativi processi. | J4: X | N4: Level 4 - Managed | O4: Level 4 - Managed | P4: =_xlfn.IFNA(VLOOKUP(N4,'Maturity Levels'!B:C,2,0),0) -> 4 | Q4: =_xlfn.IFNA(VLOOKUP(O4,'Maturity Levels'!B:C,2,0),0) -> 4 | X4: Esiste un'information security policy (Regolamento Informatico) che viene comunicata ai dipendenti. Verificare con Walter se l'update è svolto 1 volta l'anno
D5: GV.OC-02: Gli stakeholder interni ed esterni sono definiti e hanno compreso le loro esigenze e aspettative in merito alla gestione del rischio di cybersicurezza. | E5: Ex1: Identificare gli stakeholder interni rilevanti e le aspettative relative alla cybersecurity (ad esempio, aspettative di prestazioni e rischio di dirigenti, direttori e consulenti; aspettative culturali dei dipendenti). Ex2: Identificare gli stakeholder esterni rilevanti e le loro aspettative relative alla cybersecurity (ad esempio, aspettative sulla privacy dei clienti, aspettative aziendali delle partnership, aspettative di conformità degli enti regolatori, aspettative etiche della società). | G5: Deve essere redatto un elenco documentato di tutti i fornitori, venditori e partner dell’organizzazione che potrebbero essere coinvolti in un incidente grave, mantenuto aggiornato e reso disponibile online e offline. | H5: L'elenco dovrebbe includere le informazioni di contatto di fornitori, venditori e partner, nonché i servizi da loro forniti, in modo che sia possibile contattarli per ricevere assistenza in caso di interruzione o peggioramento del servizio. | K5: X | N5: Level 2 - Repeatable | O5: Level 2 - Repeatable | P5: =_xlfn.IFNA(VLOOKUP(N5,'Maturity Levels'!B:C,2,0),0) -> 2 | Q5: =_xlfn.IFNA(VLOOKUP(O5,'Maturity Levels'!B:C,2,0),0) -> 2 | R5: =AVERAGE(P5) -> 2 | S5: =AVERAGE(Q5) -> 2 | X5: Esiste un registro dei responsabili al trattamento dei dati lato privacy. Non vengono censiti tutti i fornitori ed i relativi servizi / contatti
D6: GV.OC-03: I requisiti legali, normativi e contrattuali relativi alla cybersecurity - inclusi gli obblighi in materia di privacy e libertà civili - sono compresi e gestiti. | E6: Ex1: Individuare un processo utile a tracciare e gestire i requisiti normativi relativi alla protezione delle informazioni degli individui. Ex2: Individuare un processo utile a tracciare e gestire i requisiti contrattuali per la gestione della cybersecurity delle informazioni di fornitori, clienti e partner. Ex3: Allineare la strategia di cybersecurity dell'organizzazione ai requisiti legali, normativi e contrattuali | G6: I requisiti legali e normativi riguardanti la sicurezza informatica/delle informazioni, compresi gli obblighi sulla privacy, devono essere compresi e implementati. | H6: Nessuna guida aggiuntiva su questo argomento. | I6: X | N6: Level 2 - Repeatable | O6: Level 2 - Repeatable | P6: =_xlfn.IFNA(VLOOKUP(N6,'Maturity Levels'!B:C,2,0),0) -> 2 | Q6: =_xlfn.IFNA(VLOOKUP(O6,'Maturity Levels'!B:C,2,0),0) -> 2 | R6: =AVERAGE(P6:P7) -> 2 | S6: =AVERAGE(Q6:Q7) -> 2 | X6: La valutazione è giustificata dal fatto che non sono attualmente presenti controlli che aderiscono agli adempimenti NIS2 (o ISO27001 come best practice). Lato privacy invece la maturità è 4-5
G7: Devono essere gestiti i requisiti legali e normativi relativi alla sicurezza informatica/delle informazioni, compresi gli obblighi sulla privacy. | H7: Dovrebbero essere effettuate revisioni regolari per garantire la continua conformità ai requisiti legali e normativi in materia di sicurezza informatica, compresi gli obblighi sulla privacy.( Si applica anche ai contraenti e ai fornitori di servizi). | J7: X | N7: Level 2 - Repeatable | O7: Level 2 - Repeatable | P7: =_xlfn.IFNA(VLOOKUP(N7,'Maturity Levels'!B:C,2,0),0) -> 2 | Q7: =_xlfn.IFNA(VLOOKUP(O7,'Maturity Levels'!B:C,2,0),0) -> 2 | X7: La valutazione è giustificata dal fatto che non sono attualmente presenti controlli che aderiscono agli adempimenti NIS2 (o ISO27001 come best practice). Lato privacy invece la maturità è 4-5
D8: GV.OC-04: Gli obiettivi, le capacità e i servizi critici da cui gli stakeholder dipendono o che si aspettano dall'organizzazione sono determinati e comunicati. | E8: Ex1: Stabilire i criteri per determinare la criticità delle capabilities e dei servizi secondo gli stakeholder interni ed esterni. Ex2: Determinare (ad esempio, attraverso una Business Impact Analysis) gli asset ed i business aziendali vitali per il raggiungimento degli obiettivi della missione ed il potenziale impatto derivante da una perdita (o perdita parziale) di tali operazioni. Ex3: Stabilire e comunicare obiettivi di resilienza (ad esempio, recovery time objectives) per la fornitura di capabilities e servizi critici in vari stati operativi (ad esempio, sotto attacco, durante il ripristino, in condizioni normali). | G8: Per supportare la resilienza informatica e garantire la fornitura di servizi critici, i requisiti necessari vengono identificati, documentati e la loro implementazione, testata e approvata. | H8: Valutare l'implementazione di meccamismi di resilienza per supportare situazioni operative normali e avverse (ad esempio, fail-safe, load balancing, hot swap) e valutare gli aspetti della gestione della continuità aziendale, ad esempio Business Impact Analysis (BIA), Disaster Recovery Plan (DRP) e Business Continuity Plan (BCP). | J8: X | N8: Level 1 - Initial | O8: Level 1 - Initial | P8: =_xlfn.IFNA(VLOOKUP(N8,'Maturity Levels'!B:C,2,0),0) -> 1 | Q8: =_xlfn.IFNA(VLOOKUP(O8,'Maturity Levels'!B:C,2,0),0) -> 1 | R8: =AVERAGE(P8:P10) -> 1.3333333 | S8: =AVERAGE(Q8:Q10) -> 3
G9: Le strutture di elaborazione delle informazioni e di supporto devono implementare la ridondanza per soddisfare i requisiti di disponibilità, come definiti dall'organizzazione e/o dai quadri normativi. | H9: Valutare la possibilità di predisporre un'adeguata ridondanza di dati e di rete (ad esempio dispositivi di rete ridondanti, server con load balancing, raid arrays, servizi di backup, 2 data center separati, connessioni di rete fail-over, 2 ISP...) e la possibilità di proteggere apparecchiature/servizi critici da interruzioni di corrente e altri guasti dovuti a interruzioni di servizi (ad esempio UPS e NO-break, test frequenti, contratti di servizio che includono manutenzione regolare, cablaggio di alimentazione ridondante, 2 diversi fornitori di servizi di alimentazione...). | K9: X | N9: Level 1 - Initial | O9: Level 3 - Defined | P9: =_xlfn.IFNA(VLOOKUP(N9,'Maturity Levels'!B:C,2,0),0) -> 1 | Q9: =_xlfn.IFNA(VLOOKUP(O9,'Maturity Levels'!B:C,2,0),0) -> 3
G10: Devono essere definiti gli obiettivi relativi al tempo di ripristino e al punto di ripristino per la ripresa dei processi essenziali dei sistemi ICT/OT. | H10: Valutare l'applicazione della regola di backup 3-2-1 per migliorare RPO e RTO (mantenere almeno 3 copie dei dati, conservarne 2 in posizioni separate e una copia archiviata in una posizione esterna) e valutare l'implementazione di meccanismi quali hot swap, load balancing e fail-safe per aumentare la resilienza. | K10: X | N10: Level 2 - Repeatable | O10: Level 5 - Optimizing | P10: =_xlfn.IFNA(VLOOKUP(N10,'Maturity Levels'!B:C,2,0),0) -> 2 | Q10: =_xlfn.IFNA(VLOOKUP(O10,'Maturity Levels'!B:C,2,0),0) -> 5
D11: GV.OC-05: I risultati, le capacità e i servizi da cui l'organizzazione dipende sono determinati e comunicati. | G11: Le dipendenze e le funzioni critiche per la fornitura di servizi critici devono essere identificate, documentate e classificate in base alla loro criticità come parte del processo di valutazione del rischio. | H11: Le dipendenze e le funzioni aziendali critiche dovrebbero includere servizi di supporto. | J11: X | N11: Level 1 - Initial | O11: Level 2 - Repeatable | P11: =_xlfn.IFNA(VLOOKUP(N11,'Maturity Levels'!B:C,2,0),0) -> 1 | Q11: =_xlfn.IFNA(VLOOKUP(O11,'Maturity Levels'!B:C,2,0),0) -> 2 | R11: =AVERAGE(P11:P13) -> 1 | S11: =AVERAGE(Q11:Q13) -> 2
G12: Il ruolo dell’organizzazione nella supply chain deve essere identificato, documentato e comunicato. | H12: L'organizzazione dovrebbe essere in grado di identificare chiaramente chi si trova a monte e a valle dell'organizzazione e quali fornitori forniscono servizi, capacità, prodotti e articoli all'organizzazione e dovrebbe comunicare la propria posizione a monte e a valle in modo che sia chiaro dove si trovano in termini di importanza critica per le operazioni dell'organizzazione. | J12: X | N12: Level 1 - Initial | O12: Level 2 - Repeatable | P12: =_xlfn.IFNA(VLOOKUP(N12,'Maturity Levels'!B:C,2,0),0) -> 1 | Q12: =_xlfn.IFNA(VLOOKUP(O12,'Maturity Levels'!B:C,2,0),0) -> 2
E13: Ex1: Creare un inventario delle relazioni dell'organizzazione sulle risorse esterne (ad esempio, strutture, cloud-based hosting providers) e delle loro relazioni con gli asset organizzativi e le funzioni aziendali. Ex2: Identificare e documentare le relazioni esterne che potrebbero rappresentare punti di failure per le capabilities e i servizi critici dell'organizzazione. | G13: L'organizzazione deve proteggere il proprio ambiente ICT/OT dalle minacce alla supply chain, applicando misure di sicurezza parte di una strategia di sicurezza completa e documentata. | H13: Nessuna guida aggiuntiva su questo argomento. | K13: X | N13: Level 1 - Initial | O13: Level 2 - Repeatable | P13: =_xlfn.IFNA(VLOOKUP(N13,'Maturity Levels'!B:C,2,0),0) -> 1 | Q13: =_xlfn.IFNA(VLOOKUP(O13,'Maturity Levels'!B:C,2,0),0) -> 2
C14: Risk Management Strategy (GV.RM): Le priorità, i vincoli, le dichiarazioni di tolleranza e di propensione al rischio e le ipotesi dell'organizzazione sono stabilite e utilizzate per supportare le decisioni sul rischio operativo. | D14: GV.RM-01: Gli obiettivi del Risk Management sono stabiliti e concordati dagli stakeholder dell'organizzazione. | E14: Ex1: Aggiornare gli obiettivi a breve e a lungo termine di gestione del rischio cybersecurity come parte della pianificazione strategica annuale e qualora si verificassero cambiamenti significativi. Ex2: Stabilire obiettivi misurabili per la gestione del rischio di cybersecurity (ad esempio, gestire la qualità della formazione degli utenti, garantire un'adeguata protezione dai rischi per i sistemi di controllo industriale). Ex3: Gli alti dirigenti concordano con gli obiettivi di cybersecurity e li utilizzano per misurare e gestire il rischio e le performance. | G14: Deve essere creato, documentato, rivisto, approvato e aggiornato un processo di gestione del rischio cyber che identifichi i principali stakeholder interni ed esterni e faciliti la gestione dei problemi. | H14: Si prevede la creazione di un processo formale per la gestione del rischio cyber, che deve essere documentato in modo dettagliato, periodicamente rivisto, approvato dai responsabili e aggiornato regolarmente. Il processo deve includere l'identificazione dei principali stakeholder (N.B. stakeholder esterni includono: clienti, investitori e azionisti, fornitori, agenzie governative e la comunità in senso più ampio). | J14: X | N14: Level 1 - Initial | O14: Level 1 - Initial | P14: =_xlfn.IFNA(VLOOKUP(N14,'Maturity Levels'!B:C,2,0),0) -> 1 | Q14: =_xlfn.IFNA(VLOOKUP(O14,'Maturity Levels'!B:C,2,0),0) -> 1 | R14: =P14 -> 1 | S14: =Q14 -> 1 | T14: =AVERAGE(R14:R22) -> 1 | U14: =AVERAGE(S14:S22) -> 1
D15: GV.RM-02: La propensione al rischio e la tolleranza al rischio sono determinate, comunicate ed aggiornate. | E15: Ex1: Determinare e comunicare dichiarazioni di propensione al rischio che trasmettano le aspettative sul livello di rischio appropriato per l'organizzazione. Ex2: Tradurre le dichiarazioni di propensione al rischio in dichiarazioni di tolleranza al rischio specifiche, misurabili e ampiamente comprensibili. Ex3: Ridefinire periodicamente gli obiettivi organizzativi e la propensione al rischio in base all'esposizione al rischio nota e al rischio residuo. | G15: Le infrastrutture critiche e il ruolo in cui opera l'organizzazione determinerà la propensione al rischio. | H15: Nessuna guida aggiuntiva su questo argomento. | J15: X | N15: Level 1 - Initial | O15: Level 1 - Initial | P15: =_xlfn.IFNA(VLOOKUP(O15,'Maturity Levels'!B:C,2,0),0) -> 1 | Q15: =_xlfn.IFNA(VLOOKUP(O15,'Maturity Levels'!B:C,2,0),0) -> 1 | R15: =P15 -> 1 | S15: =Q15 -> 1
D16: GV.RM-03: I processi di risk management aziendale includono attività e risultati di gestione del rischio di cybersicurezza. | E16: Ex1: Aggregare e gestire i rischi di cybersecurity insieme ad altri rischi aziendali (ad esempio, compliance, finanziari, normativi, operativi, reputazionali e sulla sicurezza). Ex2: Includere i manager della gestione del rischio cybersecurity nella pianificazione della gestione del rischio aziendale. Ex3: Stabilire criteri per l'escalation dei rischi di cybersecurity nell'ambito della gestione del rischio aziendale. | G16: L'organizzazione deve assicurarsi che la gestione del rischio di cybersicurezza sia integrata nei processi di risk management. Ciò richiede un allineamento con gli obiettivi aziendali, permettendo di identificare, valutare e mitigare i rischi informatici in modo proattivo, garantendo così la sicurezza delle informazioni e la continuità operativa. | H16: Nessuna guida aggiuntiva su questo argomento. | K16: X | N16: Level 1 - Initial | O16: Level 1 - Initial | P16: =_xlfn.IFNA(VLOOKUP(N16,'Maturity Levels'!B:C,2,0),0) -> 1 | Q16: =_xlfn.IFNA(VLOOKUP(O16,'Maturity Levels'!B:C,2,0),0) -> 1 | R16: =P16 -> 1 | S16: =Q16 -> 1
D17: GV.RM-04: Viene stabilita e comunicata una direzione strategica che descrive le appropriate opzioni di risposta al rischio. | E17: Ex1: Specificare i criteri per accettare ed evitare il rischio di cybersecurity per diverse classificazioni di dati. Ex2: Valutare se acquistare o meno un'assicurazione di cybersecurity. Ex3: Documentare le condizioni in cui i modelli di responsabilità condivisa sono accettabili (ad esempio, esternalizzare alcune funzioni di cybersecurity, far eseguire transazioni finanziarie a terzi per conto dell'organizzazione, utilizzare servizi di un cloud pubblico). | G17: Come parte della gestione complessiva del rischio aziendale, deve essere sviluppata e aggiornata una strategia completa per gestire i rischi per la sicurezza delle informazioni e la sicurezza informatica quando si verificano cambiamenti. | H17: Nella strategia si dovrebbe includere la determinazione e l'allocazione delle risorse necessarie per proteggere le risorse aziendali critiche. | I17: X | N17: Level 1 - Initial | O17: Level 1 - Initial | P17: =_xlfn.IFNA(VLOOKUP(N17,'Maturity Levels'!B:C,2,0),0) -> 1 | Q17: =_xlfn.IFNA(VLOOKUP(O17,'Maturity Levels'!B:C,2,0),0) -> 1 | R17: =AVERAGE(P17:P19) -> 1 | S17: =AVERAGE(Q17:Q19) -> 1
G18: I rischi per la sicurezza delle informazioni e la sicurezza informatica devono essere documentati, approvati formalmente e aggiornati quando si verificano modifiche. | H18: Si consiglia di utilizzare strumenti di Risk Management. | J18: X | N18: Level 1 - Initial | O18: Level 1 - Initial | P18: =_xlfn.IFNA(VLOOKUP(N18,'Maturity Levels'!B:C,2,0),0) -> 1 | Q18: =_xlfn.IFNA(VLOOKUP(O18,'Maturity Levels'!B:C,2,0),0) -> 1
G19: L’organizzazione deve determinare chiaramente la propria propensione al rischio. | H19: La determinazione e l'espressione della risk tolerance (risk appetite) devono essere in linea con le politiche sulla cybersecurity, per facilitare la dimostrazione della coerenza tra policy, tolleranza al rischio e misure di sicurezza. | J19: X | N19: Level 1 - Initial | O19: Level 1 - Initial | P19: =_xlfn.IFNA(VLOOKUP(N19,'Maturity Levels'!B:C,2,0),0) -> 1 | Q19: =_xlfn.IFNA(VLOOKUP(O19,'Maturity Levels'!B:C,2,0),0) -> 1
D20: GV.RM-05: Sono stabilite linee di comunicazione all'interno dell'organizzazione per i rischi di cybersecurity, compresi i rischi provenienti da fornitori e altre terze parti. | E20: Ex1: Individuare il modo migliore per aggiornare gli alti dirigenti, i direttori e la direzione sulla postura dell'organizzazione in materia di cybersecurity a intervalli concordati. Ex2: Identificare come tutti i settori dell'organizzazione - ad esempio, il management, gli auditor interni, l'ufficio legale, le acquisizioni, la sicurezza fisica e le risorse umane - comunicheranno tra loro circa il rischio di cybersecurity. Ex3: Identificare come le terze parti comunicheranno con l'organizzazione sui rischi di cybersecurity. | G20: L'organizzazione deve implementare linee di comunicazione chiare e strutturate per la segnalazione e la gestione dei rischi di cybersicurezza, compresi quelli derivanti dai fornitori e da altre terze parti. | H20: Nessuna guida aggiuntiva su questo argomento. | K20: X | N20: Level 1 - Initial | O20: Level 1 - Initial | P20: =_xlfn.IFNA(VLOOKUP(N20,'Maturity Levels'!B:C,2,0),0) -> 1 | Q20: =_xlfn.IFNA(VLOOKUP(O20,'Maturity Levels'!B:C,2,0),0) -> 1 | R20: =P20 -> 1 | S20: =Q20 -> 1
D21: GV.RM-06: Viene stabilito e comunicato un approccio standardizzato per calcolare, documentare, classificare e prioritizzare i rischi di cybersecurity. | E21: Ex1: Stabilire i criteri per l'utilizzo di un approccio quantitativo all'analisi del rischio di cybersecurity e specificare le formule di probabilità ed esposizione. Ex2: Creare e utilizzare templates (ad esempio, un registro dei rischi) per documentare le informazioni sui rischi di cybersecurity (ad esempio, descrizione del rischio, esposizione, trattamento e responsabilità). Ex3: Stabilire i criteri per la prioritizzazione del rischio ai livelli appropriati all'interno dell'azienda. Ex4: Utilizzare un elenco coerente di categorie di rischio per supportare l'integrazione, l'aggregazione e il confronto dei rischi di cybersecurity. | G21: L'organizzazione deve stabilire e comunicare un approccio standardizzato per il calcolo, la documentazione, la classificazione e la prioritizzazione dei rischi di cybersicurezza. Questo approccio deve includere criteri chiari per la valutazione dell'impatto e della probabilità dei rischi, garantendo la tracciabilità e l'aggiornamento regolare delle informazioni. | H21: Nessuna guida aggiuntiva su questo argomento. | K21: X | N21: Level 1 - Initial | O21: Level 1 - Initial | P21: =_xlfn.IFNA(VLOOKUP(N21,'Maturity Levels'!B:C,2,0),0) -> 1 | Q21: =_xlfn.IFNA(VLOOKUP(O21,'Maturity Levels'!B:C,2,0),0) -> 1 | R21: =P21 -> 1 | S21: =Q21 -> 1
D22: GV.RM-07: Le opportunità strategiche sono identificate e incluse nelle discussioni sui rischi di cybersecurity dell'organizzazione. | E22: Ex1: Definire e comunicare linee guida e metodi per identificare le opportunità e includerle nelle discussioni sul rischio (ad esempio, analisi dei punti di forza, debolezza, opportunità e minacce [SWOT]). Ex2: Identificare obiettivi ambiziosi e documentarli. Ex3: Calcolare, documentare e dare priorità ai rischi positivi insieme ai rischi negativi. | G22: L'organizzazione deve identificare e valutare opportunità strategiche nel contesto della gestione dei rischi di cybersecurity, integrandole nel processo decisionale per migliorare la resilienza. | H22: L'organizzazione deve riconoscere e analizzare le opportunità strategiche che emergono durante la gestione dei rischi di cybersicurezza. Tali opportunità, come l'adozione di nuove tecnologie o miglioramenti operativi, devono essere integrate nel processo decisionale per rafforzare la resilienza dell'organizzazione. | K22: X | N22: Level 1 - Initial | O22: Level 1 - Initial | P22: =_xlfn.IFNA(VLOOKUP(N22,'Maturity Levels'!B:C,2,0),0) -> 1 | Q22: =_xlfn.IFNA(VLOOKUP(O22,'Maturity Levels'!B:C,2,0),0) -> 1 | R22: =P22 -> 1 | S22: =Q22 -> 1
C23: Roles, Responsibilities, and Authorities (GV.RR): I ruoli, le responsabilità e le autorità in materia di cybersecurity per promuovere la responsabilità, la valutazione delle performance e il miglioramento continuo sono definiti e comunicati. | D23: GV.RR-01: La leadership dell'organizzazione è responsabile del rischio di cybersicurezza e promuove lo sviluppo di una cultura etica di consapevolezza del rischio e di continuo miglioramento. | E23: Ex1: I leader (ad esempio, i direttori) concordano i loro ruoli e responsabilità nello sviluppo, nell'implementazione e nella valutazione della strategia di cybersecurity dell'organizzazione. Ex2: Condivisione delle aspettative dei leader riguardo a una cultura sicura ed etica, soprattutto quando gli eventi attuali offrono l'opportunità di evidenziare esempi positivi o negativi di gestione del rischio di cybersecurity. Ex3: I leader indicano al CISO di mantenere una strategia completa per i rischi di cybersecurity e di rivederla e aggiornarla almeno annualmente e dopo eventi importanti. Ex4: Effettuare revisioni per garantire l'autorità e il coordinamento adeguati tra i responsabili della gestione del rischio di cybersecurity. | G23: La leadership dell'organizzazione deve assumersi la responsabilità della gestione dei rischi di cybersicurezza, promuovendo attivamente lo sviluppo di una cultura aziendale etica, basata sulla consapevolezza del rischio e sul miglioramento continuo delle pratiche di sicurezza. | H23: La leadership dell'organizzazione deve dirigere l'approccio alla gestione dei rischi di cybersicurezza, prendendosi carico delle decisioni e delle strategie di sicurezza. I leader devono inoltre promuovere una cultura aziendale che favorisca la consapevolezza dei rischi, l'integrità e un miglioramento continuo, coinvolgendo attivamente tutte le aree dell'organizzazione nel processo di gestione e riduzione dei rischi. | K23: X | N23: Level 1 - Initial | O23: Level 1 - Initial | P23: =_xlfn.IFNA(VLOOKUP(N23,'Maturity Levels'!B:C,2,0),0) -> 1 | Q23: =_xlfn.IFNA(VLOOKUP(O23,'Maturity Levels'!B:C,2,0),0) -> 1 | R23: =P23 -> 1 | S23: =Q23 -> 1 | T23: =AVERAGE(R23:R28) -> #REF! | U23: =AVERAGE(S23:S28) -> 1.75
D24: GV.RR-02: Vengono stabiliti, comunicati, compresi e applicati i ruoli, le responsabilità e le autorità relativi alla gestione del rischio di cybersecurity. | E24: Ex1: Documentare i ruoli e le responsabilità della gestione del rischio nelle policy aziendali. Ex2: Documentare chi è responsabile e risponde delle attività di gestione del rischio di cybersecurity e come tali team e individui devono essere consultati e informati. Ex3: Includere le responsabilità e i requisiti di performance in materia di cybersecurity nelle descrizioni del personale. Ex4: Documentare gli obiettivi di performance per il personale con responsabilità di gestione del rischio di cybersecurity e misurare periodicamente le prestazioni per identificare le aree di miglioramento. Ex5: Articolare chiaramente le responsabilità in materia di cybersecurity all'interno delle funzioni operative, di rischio e di audit interno. | F24: X | G24: I ruoli, le responsabilità e le autorità in materia di cybersecurity all'interno dell'organizzazione devono essere documentati, esaminati, autorizzati, aggiornati e allineati con i ruoli interni all'organizzazione e i partner esterni. | H24: Dovrebbe essere preso in considerazione quanto segue: • Descrivere i ruoli, le responsabilità e le autorità di sicurezza: chi nell'organizzazione dovrebbe essere consultato, informato e ritenuto responsabile per tutti o parte degli asset. • Fornire ruoli, responsabilità e autorità di sicurezza per tutte le funzioni chiave nella cybersecurity e nella sicurezza delle informazioni (attività legali, di rilevamento ecc...). • Includere ruoli e responsabilità di cybersecurity per i fornitori terzi (ad esempio fornitori, clienti, partner) con accesso fisico o logico all'ambiente ICT/ OT dell'organizzazione. | J24: X | N24: Level 1 - Initial | O24: Level 2 - Repeatable | P24: =_xlfn.IFNA(VLOOKUP(N24,'Maturity Levels'!B:C,2,0),0) -> 1 | Q24: =_xlfn.IFNA(VLOOKUP(O24,'Maturity Levels'!B:C,2,0),0) -> 2 | R24: =AVERAGE(P24:P25) -> 1 | S24: =AVERAGE(Q24:Q25) -> 1
G25: L'organizzazione deve nominare un responsabile della sicurezza delle informazioni. | H25: Il responsabile della cybersecurity dovrebbe essere responsabile del monitoraggio dell'implementazione della strategia e delle misure di sicurezza informatica dell'organizzazione. | K25: X | N25: Level 1 - Initial | P25: =_xlfn.IFNA(VLOOKUP(N25,'Maturity Levels'!B:C,2,0),0) -> 1 | Q25: =_xlfn.IFNA(VLOOKUP(O25,'Maturity Levels'!B:C,2,0),0) -> 0 | X25: Maturità implementativa non applicabile al contesto di business
D26: GV.RR-03: Vengono assegnate risorse adeguate e commisurate alla strategia di rischio di cybersecurity, ai ruoli, alle responsabilità e alle policy. | E26: Ex1: Effettuare revisioni periodiche del management per garantire che coloro che hanno responsabilità di gestione del rischio di cybersecurity abbiano l'autorità necessaria. Ex2: Identificare l'allocazione delle risorse e gli investimenti in linea con la tolleranza al rischio e la risposta. Ex3: Fornire risorse umane, di processo e tecniche adeguate e sufficienti per supportare la strategia di cybersecurity. | G26: L'organizzazione deve assegnare risorse adeguate e proporzionate alla strategia di gestione del rischio di cybersicurezza, garantendo che i ruoli, le responsabilità e le policy siano supportati in modo efficace per mitigare i rischi. | H26: L'organizzazione deve allorcare risorse sufficienti, come personale, budget e strumenti, per sostenere l'attuazione della strategia di cybersecurity. Le risorse devono essere commisurate ai rischi identificati e alle responsabilità assegnate, garantendo che le policy di sicurezza siano efficaci e che il personale abbia i mezzi necessari per svolgere il proprio ruolo nella protezione contro le minacce. | K26: X | N26: Level 1 - Initial | O26: Level 1 - Initial | P26: =_xlfn.IFNA(VLOOKUP(N26,'Maturity Levels'!B:C,2,0),0) -> 1 | Q26: =_xlfn.IFNA(VLOOKUP(O26,'Maturity Levels'!B:C,2,0),0) -> 1 | R26: =P26 -> 1 | S26: =Q26 -> 1
D27: GV.RR-04: La cybersecurity è inclusa nelle attività delle risorse umane. | G27: Il personale che ha accesso alle informazioni o alle tecnologie più critiche dell’organizzazione deve essere verificato. | H27: L'accesso a informazioni o tecnologie critiche dovrebbe essere preso in considerazione durante il reclutamento, l'impiego e al momento della cessazione del rapporto di lavoro. I controlli di verifica dei precedenti dovrebbero prendere in considerazione le leggi, i regolamenti e l'etica applicabili in proporzione ai requisiti aziendali, alla classificazione delle informazioni a cui accedere e ai rischi percepiti. | I27: X | N27: Level 4 - Managed | O27: Level 4 - Managed | P27: =_xlfn.IFNA(VLOOKUP(#REF!,'Maturity Levels'!B:C,2,0),0) -> #REF! | Q27: =_xlfn.IFNA(VLOOKUP(N27,'Maturity Levels'!B:C,2,0),0) -> 4 | R27: =AVERAGE(P27:P28) -> #REF! | S27: =AVERAGE(Q27:Q28) -> 4
E28: Ex1: Integrare le considerazioni sulla gestione del rischio di cybersecurity nei processi delle risorse umane (ad esempio, screening del personale, onboarding, notifica delle modifiche, offboarding). Ex2: Considerare la conoscenza della cybersecurity come un fattore positivo nelle decisioni di assunzione, formazione e mantenimento del personale. Ex3: Effettuare controlli sul background prima di assumere nuovo personale per ruoli sensibili. Ex4: Definire e applicare l'obbligo per il personale di conoscere, aderire e rispettare le policy di sicurezza in relazione al proprio ruolo. | G28: Sviluppare e mantenere un processo di sicurezza informatica/delle informazioni sulle risorse umane applicabile in fase di assunzione, durante l'impiego e al termine del rapporto di lavoro. | H28: Il processo di cybersecurity sulle risorse umane dovrebbe includere: 1. L'accesso a informazioni o tecnologie critiche; 2. Controlli di verifica dei precedenti; 3. Codice di condotta; 4. Ruoli, autorità e responsabilità ecc... | J28: X | N28: Level 4 - Managed | O28: Level 4 - Managed | P28: =_xlfn.IFNA(VLOOKUP(#REF!,'Maturity Levels'!B:C,2,0),0) -> #REF! | Q28: =_xlfn.IFNA(VLOOKUP(N28,'Maturity Levels'!B:C,2,0),0) -> 4
C29: Policies, Processes, and Procedures (GV.PO): Le policy, i processi e le procedure di cybersecurity dell'organizzazione sono stabiliti, comunicati e applicati. | D29: GV.PO-01: Le policy, i processi e le procedure per la gestione dei rischi di cybersecurity sono stabiliti in base al contesto aziendale e sono comunicati e applicati alla strategia di cybersecurity e alle priorità. | E29: Ex1: Creare, diffondere e mantenere una policy di gestione del rischio con dichiarazioni di intenti, aspettative e direzione. Ex2: Rivedere periodicamente le policy e le procedure per garantire che siano in linea con gli obiettivi e le priorità della strategia di risk management e con la direzione di alto livello della politica di cybersecurity. Ex3: Richiedere l'approvazione delle policy da parte del senior management. Ex4: Comunicare le policy, le procedure e i processi di gestione del rischio di cybersecurity all'interno dell'organizzazione. Ex5: Richiedere al personale di confermare la ricezione delle policy al momento della prima assunzione, annualmente e ogni volta che una policy viene aggiornata. | G29: Le policy e le procedure per la sicurezza delle informazioni e la sicurezza informatica devono essere create, documentate, riviste, approvate e aggiornate quando si verificano modifiche. | H29: Le policy e le procedure, utilizzate per identificare pratiche e aspettative accettabili per le operazioni aziendali: • possono essere utilizzate per formare i nuovi dipendenti sulle aspettative di sicurezza delle informazioni e possono aiutare un'indagine in caso di incidente: dovrebbero essere facilmente accessibili ai dipendenti. • dovrebbero descrivere chiaramente le aspettative per la protezione delle informazioni e dei sistemi dell'organizzazione e il modo in cui la direzione si aspetta che le risorse dell'azienda siano utilizzate e protette da tutti i dipendenti. • dovrebbero essere riviste e aggiornate almeno una volta all'anno e ogni volta che si verificano cambiamenti nell'organizzazione o nella tecnologia. Ogni volta che le policy vengono modificate, i dipendenti dovrebbero essere informati dei cambiamenti. | I29: X | N29: Level 1 - Initial | O29: Level 3 - Defined | P29: =_xlfn.IFNA(VLOOKUP(N29,'Maturity Levels'!B:C,2,0),0) -> 1 | Q29: =_xlfn.IFNA(VLOOKUP(O29,'Maturity Levels'!B:C,2,0),0) -> 3 | R29: =AVERAGE(P29:P30) -> 1 | S29: =AVERAGE(Q29:Q30) -> 3 | T29: =AVERAGE(R29:R31) -> 1 | U29: =AVERAGE(S29:S31) -> 2
G30: Una policy sulla sicurezza informatica valida per l'intera organizzazione deve essere definita, documentata, aggiornata in caso di modifiche, diffusa e approvata dalla dirigenza. | H30: Le policy dovrebbero includere, ad esempio: • L'identificazione e l'assegnazione di ruoli, responsabilità, impegno della direzione, coordinamento tra entità organizzative e conformità. Le linee guida sui profili di ruolo insieme ai titoli identificati, missioni, compiti, abilità, conoscenze e competenze sono disponibili nel "European Cybersecurity Skills Framework Role Profiles" di ENISA. (https://www.enisa.europa.eu/publications/european-cybersecurity-skillsframework-role-profiles). • Il coordinamento tra entità organizzative responsabili dei diversi aspetti della sicurezza (ad esempio, tecnica, fisica, del personale, cyber-fisica, delle informazioni, controllo degli accessi, protezione dei media, gestione delle vulnerabilità, manutenzione, monitoraggio). • La copertura dell'intero ciclo di vita dei sistemi ICT/OT. | J30: X | N30: Level 1 - Initial | O30: Level 3 - Defined | P30: =_xlfn.IFNA(VLOOKUP(N30,'Maturity Levels'!B:C,2,0),0) -> 1 | Q30: =_xlfn.IFNA(VLOOKUP(O30,'Maturity Levels'!B:C,2,0),0) -> 3
D31: GV.PO-02: Le policy, i processi e le procedure per la gestione dei rischi di cybersecurity sono revisionati, aggiornati, comunicati e applicati per riflettere i cambiamenti nei requisiti, nelle minacce, nella tecnologia e nella mission dell'organizzazione. | E31: Ex1: Aggiornare le policy sulla base di revisioni periodiche dei risultati della gestione del rischio di cybersecurity per garantire che le politiche e i processi di supporto mantengano adeguatamente il rischio a un livello accettabile. Ex2: Fornire una tempistica per la revisione delle modifiche all'ambiente di rischio dell'organizzazione (ad esempio, cambiamenti nel rischio o negli obiettivi della missione dell'organizzazione) e comunicare gli aggiornamenti delle policy raccomandate. Ex3: Aggiornare le policy per riflettere i cambiamenti dei requisiti legali e normativi. Ex4: Aggiornare le policy per riflettere i cambiamenti tecnologici (ad esempio, l'adozione dell'intelligenza artificiale) e le modifiche al business (ad esempio, l'acquisizione di una nuova attività, nuovi requisiti contrattuali). | G31: Le organizzazioni devono implementare un sistema efficace per la gestione dei rischi di cybersecurity, che preveda la revisione, l'aggiornamento, la comunicazione e l'applicazione regolare di policy, processi e procedure. Il sistema deve rispondere a cambiamenti normativi, nuove minacce, innovazioni tecnologiche e modifiche alla missione aziendale. Le revisioni devono essere documentate, comunicate a tutti i dipendenti e applicate in modo rigoroso, garantendo una continua conformità e protezione. | H31: Le policy, i processi e le procedure di gestione del rischio cyber devono essere sottoposti a una revisione periodica e aggiornata in base a diversi fattori: cambiamenti nelle normative, nuove minacce alla cybersecurity, sviluppi tecnologici e aggiornamenti della mission e degli obiettivi aziendali. Il processo di aggiornamento deve essere sistematico e coinvolgere tutte le parti interessate, assicurando che le modifiche siano comunicate chiaramente all'interno dell'organizzazione e applicate efficacemente. Ciò garantisce che l'organizzazione rimanga protetta e conforme alle normative in continua evoluzione, minimizzando i rischi legati alla cybersecurity. | K31: X | N31: Level 1 - Initial | O31: Level 1 - Initial | P31: =_xlfn.IFNA(VLOOKUP(N31,'Maturity Levels'!B:C,2,0),0) -> 1 | Q31: =_xlfn.IFNA(VLOOKUP(O31,'Maturity Levels'!B:C,2,0),0) -> 1 | R31: =P31 -> 1 | S31: =Q31 -> 1
C32: Oversight (GV.OV): I risultati delle attività e delle performance di gestione del rischio di cybersecurity a livello organizzativo sono utilizzati per informare, migliorare e adeguare la strategia di risk management. | D32: GV.OV-01: Gli outcomes della strategia di gestione del rischio di cybersecurity sono revisionati per informare la direzione e aggiornare la strategia stessa. | E32: Ex1: Valutare in che misura la strategia di gestione del rischio e i risultati del rischio hanno aiutato i leader a prendere decisioni e a raggiungere gli obiettivi organizzativi. Ex2: Esaminare se le strategie di rischio per la cybersecurity, che ostacolano le operazioni o l'innovazione, devono essere modificate. | G32: L'organizzazione deve riesaminare regolarmente i risultati della strategia di gestione del rischio di cybersecurity per valutare l'efficacia delle misure implementate e apportare miglioramenti mirati alla strategia, alle priorità e alla direzione complessiva in base ai nuovi rischi, minacce e opportunità. | H32: Si richiede che le organizzazioni monitorino e revisionino periodicamente gli esiti della loro strategia di gestione del rischio di cybersecurity, analizzando i dati relativi agli incidenti, alle minacce rilevate, ai rischi mitigati e alle prestazioni complessive delle misure di sicurezza. L'obiettivo è garantire che la strategia rimanga allineata con le esigenze operative e le evoluzioni del panorama delle minacce. I risultati di queste revisioni devono essere utilizzati per informare decisioni strategiche e adattare la direzione aziendale, migliorando continuamente la capacità di difesa e risposta ai rischi informatici. | K32: X | N32: Level 1 - Initial | O32: Level 1 - Initial | P32: =_xlfn.IFNA(VLOOKUP(N32,'Maturity Levels'!B:C,2,0),0) -> 1 | Q32: =_xlfn.IFNA(VLOOKUP(O32,'Maturity Levels'!B:C,2,0),0) -> 1 | R32: =P32 -> 1 | S32: =Q32 -> 1 | T32: =AVERAGE(R32:R34) -> 1 | U32: =AVERAGE(S32:S34) -> 1
D33: GV.OV-02: La strategia di gestione del rischio di cybersecurity viene rivista e adattata per garantire la copertura dei requisiti e dei rischi aziendali. | E33: Ex1: Esaminare i risultati dell'audit per confermare se la strategia di cybersecurity esistente ha garantito la conformità ai requisiti interni ed esterni. Ex2: Esaminare la supervisione delle performance di coloro che ricoprono ruoli legati alla cybersecurity per determinare se sono necessarie modifiche alle policy. Ex3: Rivedere la strategia alla luce degli incidenti di cybersecurity. | G33: L'organizzazione deve definire, rivedere e aggiornare periodicamente la strategia di gestione del rischio di cybersecurity per assicurare che essa copra adeguatamente i requisiti normativi, operativi e i rischi aziendali emergenti, garantendo una protezione completa e proattiva dell'infrastruttura informatica. | H33: Si richiede che la strategia di gestione del rischio di cybersecurity sia soggetta a un processo continuo di revisione e adattamento, in linea con l'evoluzione dei rischi aziendali e dei requisiti operativi e normativi. Ogni cambiamento nel contesto dell'organizzazione, come l'introduzione di nuove tecnologie, modifiche normative o l'emergere di nuove minacce, deve riflettersi in un aggiornamento della strategia. Questo processo assicura che l'approccio alla gestione dei rischi rimanga efficace, proattivo e in grado di rispondere alle necessità attuali e future dell'azienda. | K33: X | N33: Level 1 - Initial | O33: Level 1 - Initial | P33: =_xlfn.IFNA(VLOOKUP(N33,'Maturity Levels'!B:C,2,0),0) -> 1 | Q33: =_xlfn.IFNA(VLOOKUP(O33,'Maturity Levels'!B:C,2,0),0) -> 1 | R33: =P33 -> 1 | S33: =Q33 -> 1
D34: GV.OV-03: Le performance della gestione del rischio di cybersecurity dell'organizzazione sono valutate e riviste per confermare e adeguare la direzione strategica. | E34: Ex1: Revisionare i key performance indicators (KPI) per garantire che le policy e le procedure dell'organizzazione raggiungano gli obiettivi prefissati. Ex2: Esaminare i key risk indicators (KRI) per identificare i rischi che l'organizzazione deve affrontare, compresi probabilità ed impatto potenziale. Ex3: Raccogliere e comunicare le metriche sulla gestione del rischio di cybersecurity con la leadership. | G34: Valutare e rivedere periodicamente le performance della gestione del rischio di cybersecurity per assicurarsi che le misure adottate siano efficaci e che la direzione strategica rimanga adeguata e allineata con gli obiettivi di sicurezza e le nuove minacce. | H34: Si impone che le prestazioni del sistema di gestione del rischio di cybersecurity siano monitorate costantemente e sottoposte a revisione regolare. L’organizzazione deve analizzare le metriche chiave, come il numero di incidenti rilevati, i rischi mitigati e la reattività alle minacce, per valutare l'efficacia complessiva della strategia attuale. I risultati di queste valutazioni devono essere utilizzati per confermare la validità dell'approccio strategico adottato o, se necessario, per apportare modifiche e miglioramenti che garantiscano un allineamento costante con le priorità aziendali e il panorama delle minacce in evoluzione. | K34: X | N34: Level 1 - Initial | O34: Level 1 - Initial | P34: =_xlfn.IFNA(VLOOKUP(N34,'Maturity Levels'!B:C,2,0),0) -> 1 | Q34: =_xlfn.IFNA(VLOOKUP(O34,'Maturity Levels'!B:C,2,0),0) -> 1 | R34: =P34 -> 1 | S34: =Q34 -> 1
C35: Cybersecurity Supply Chain Risk Management (GV.SC): I processi di risk management della cyber supply chain sono identificati, stabiliti, gestiti, monitorati e migliorati dagli stakeholder dell'organizzazione. | D35: GV.SC-01: Sono stabiliti ed approvati dagli stakeholder dell'organizzazione il programma, la strategia, gli obiettivi, le politiche e i processi di risk management della cybersecurity supply chain. | E35: Ex1: Definizione di una strategia che esprima gli obiettivi del programma di gestione del rischio della cybersecurity supply chain. Ex2: Sviluppo di un programma di gestione del rischio della cybersecurity supply chain, che includa un piano (con milestone), policy e procedure per l'implementazione ed il miglioramento del programma e la condivisione di policy e procedure con le parti interessate dell'organizzazione. Ex3: Sviluppare e implementare i processi del programma in base alla strategia, agli obiettivi, alle policy e alle procedure concordate ed eseguite dalle parti interessate dell'organizzazione. Ex4: Stabilire un meccanismo interorganizzativo che garantisca l'allineamento tra le funzioni che contribuiscono alla gestione del rischio della cybersecurity della supply chain, come cybersecurity, IT, ufficio legale, risorse umane e engineering. | G35: L'organizzazione deve documentare, rivedere, approvare, aggiornare quando si verificano modifiche e implementare un processo di gestione dei rischi della supply chain che supporti l'identificazione, la valutazione e la mitigazione dei rischi associati alla natura distribuita e interconnessa delle supply chain di prodotti e servizi ICT/OT. | H35: Nessuna guida aggiuntiva su questo argomento. | K35: X | N35: Level 1 - Initial | O35: Level 1 - Initial | P35: =_xlfn.IFNA(VLOOKUP(N35,'Maturity Levels'!B:C,2,0),0) -> 1 | Q35: =_xlfn.IFNA(VLOOKUP(O35,'Maturity Levels'!B:C,2,0),0) -> 1 | R35: =P35 -> 1 | S35: =Q35 -> 1 | T35: =AVERAGE(R35:R47) -> 1.1333333 | U35: =AVERAGE(S35:S47) -> 1.0333333
D36: GV.SC-02: I ruoli e le responsabilità in materia di cybersecurity per fornitori, clienti e partner sono stabiliti, comunicati e coordinati internamente ed esternamente. | E36: Ex1: Identificare uno o più ruoli o posizioni specifici, responsabili della pianificazione, del reperimento delle risorse e dell'esecuzione delle attività di gestione del rischio della cybersecurity supply chain. Ex2: Documentare i ruoli e le responsabilità della gestione del rischio della cybersecurity supply chain in policy. Ex3: Creare matrici di responsabilità per documentare chi sarà responsabile delle attività di gestione del rischio della cybersecurity supply chain ed in che modo tali team e individui saranno consultati e informati. Ex4: Includere le responsabilità di gestione del rischio della cybersecurity supply chain e i requisiti di performance nelle descrizioni del personale per garantire chiarezza e migliorare la accountability. Ex5: Documentare gli obiettivi prestazionali per il personale con responsabilità specifiche nella cybersecurity supply chain e misurarli periodicamente per dimostrare e migliorare le performance. Ex6: Identificare ruoli e responsabilità per fornitori, clienti e partner commerciali per affrontare le responsabilità condivise per i rischi di cybersecurity applicabili e integrarli nelle policy organizzative e negli accordi con le terze parti. Ex7: Comunicare internamente i ruoli e le responsabilità di gestione del rischio cybersecurity supply chain per terze parti. Ex8: Stabilire regolamenti e protocolli per la condivisione delle informazioni e i processi di reporting tra l'organizzazione e i suoi fornitori. | F36: X | G36: I ruoli, le responsabilità e le autorità in materia di cybersecurity all'interno dell'organizzazione devono essere documentati, esaminati, autorizzati, aggiornati e allineati con i ruoli interni all'organizzazione e i partner esterni. | H36: Dovrebbe essere preso in considerazione quanto segue: • Descrivere i ruoli, le responsabilità e le autorità di sicurezza, ad esempio chi nell'organizzazione dovrebbe essere consultato, informato e ritenuto responsabile per tutti o parte dei tuoi asset. • Fornire ruoli, responsabilità e autorità di sicurezza per tutte le funzioni chiave nella cybersecurity e nella sicurezza delle informazioni (attività legali, di rilevamento...). • Includere ruoli e responsabilità di cybersecurity per i fornitori terzi (ad esempio, fornitori, clienti, partner) con accesso fisico o logico all'ambiente ICT/ OT dell'organizzazione. | J36: X | N36: Level 1 - Initial | O36: Level 1 - Initial | P36: =_xlfn.IFNA(VLOOKUP(N36,'Maturity Levels'!B:C,2,0),0) -> 1 | Q36: =_xlfn.IFNA(VLOOKUP(O36,'Maturity Levels'!B:C,2,0),0) -> 1 | R36: =P36 -> 1 | S36: =Q36 -> 1
D37: GV.SC-03: La gestione del rischio della cybersecurity supply chain è integrata nei processi di gestione e valutazione del rischio della cybersecurity nell'organizzazione. | E37: Ex1: Identificare le aree di allineamento e sovrapposizione con la cybersecurity e la gestione del rischio aziendale. Ex2: Stabilire set di controllo integrati per la gestione del rischio di cybersecurity e per la gestione del rischio della cybersecurity supply chain. Ex3: Integrare la gestione del rischio della cybersecurity supply chain nei processi di improvement. Ex4: Segnalare i rischi materiali di cybersecurity nelle supply chain alla direzione e affrontarli a livello di gestione del rischio aziendale. | G37: L'organizzazione deve integrare la gestione del rischio della cybersecurity della supply chain nei propri processi di gestione del rischio, assicurando che i fornitori e le terze parti siano valutati, monitorati e migliorati costantemente per ridurre le vulnerabilità e proteggere l'integrità della catena di fornitura. | H37: Si richiede che i rischi legati alla cybersecurity nella supply chain siano considerati parte integrante della strategia complessiva di gestione del rischio dell’organizzazione. Ogni fornitore, partner o terza parte coinvolta nei processi aziendali deve essere valutato per verificare il suo livello di conformità ai requisiti di sicurezza informatica. La gestione di tali rischi deve includere la valutazione iniziale dei fornitori, il monitoraggio continuo delle prestazioni in termini di sicurezza e la definizione di azioni correttive per ridurre eventuali vulnerabilità. L'integrazione di questa gestione nei processi generali dell'organizzazione permette di migliorare costantemente la sicurezza dell'intera supply chain, garantendo che nessun anello debole possa compromettere la cybersecurity aziendale. | K37: X | N37: Level 1 - Initial | O37: Level 1 - Initial | P37: =_xlfn.IFNA(VLOOKUP(N37,'Maturity Levels'!B:C,2,0),0) -> 1 | Q37: =_xlfn.IFNA(VLOOKUP(O37,'Maturity Levels'!B:C,2,0),0) -> 1 | R37: =P37 -> 1 | S37: =Q37 -> 1
D38: GV.SC-04: I fornitori sono noti e prioritizzati in base alla criticità. | E38: Ex1: Sviluppare parametri di criticità dei fornitori basati, ad esempio, sulla sensibilità dei dati elaborati o posseduti dai fornitori stessi, sul grado di accesso ai sistemi dell'organizzazione e sull'importanza dei prodotti o dei servizi per la mission dell'organizzazione. Ex2: Tenere un registro di tutti i fornitori e assegnare loro una priorità in base ai parametri di criticità. | G38: L’organizzazione deve mantenere un elenco completo dei fornitori e classificarli in base alla loro criticità per l'operatività aziendale, assegnando priorità a quelli che rappresentano i rischi più elevati per la sicurezza e la continuità delle attività. | H38: Si richiede che l’organizzazione conosca dettagliatamente tutti i fornitori con cui collabora e li classifichi in base alla loro importanza strategica e al rischio potenziale che rappresentano. I fornitori devono essere valutati sulla base di criteri come l'accesso alle informazioni sensibili, la dipendenza dalle loro forniture o servizi e il loro impatto potenziale sulla continuità aziendale in caso di incidente di sicurezza. I fornitori critici, che rappresentano un rischio maggiore, devono essere monitorati con maggiore attenzione, con misure di sicurezza più rigorose e revisioni periodiche per assicurare che rispettino i requisiti di cybersecurity necessari per ridurre il rischio complessivo. | K38: X | N38: Level 1 - Initial | O38: Level 1 - Initial | P38: =_xlfn.IFNA(VLOOKUP(N38,'Maturity Levels'!B:C,2,0),0) -> 1 | Q38: =_xlfn.IFNA(VLOOKUP(O38,'Maturity Levels'!B:C,2,0),0) -> 1 | R38: =P38 -> 1 | S38: =Q38 -> 1
D39: GV.SC-05: I requisiti per affrontare i rischi di cybersecurity nelle supply chain sono stabiliti, prioritizzati e integrati nei contratti e in altri tipi di accordi con i fornitori e altre terze parti rilevanti. | E39: Ex1: Stabilire requisiti di sicurezza per fornitori, prodotti e servizi commisurati al loro livello di criticità e al potenziale impatto in caso di compromissione. Ex2: Definire tutti i requisiti di cybersecurity e della supply chain che le terze parti devono rispettare e le modalità di verifica della conformità ai requisiti nel linguaggio contrattuale predefinito. Ex3: Definire nei contratti le regole e i protocolli per la condivisione delle informazioni tra l'organizzazione e i suoi fornitori e subfornitori. Ex4: Gestire il rischio includendo nei contratti i requisiti di sicurezza in base alla loro criticità e al potenziale impatto in caso di compromissione. Ex5: Definire i requisiti di sicurezza nei service-level agreements (SLA) per il monitoraggio dei fornitori, al fine di garantire prestazioni di sicurezza accettabili durante l'intero ciclo di vita del rapporto con i fornitori. Ex6: Richiedere per contratto ai fornitori di divulgare le caratteristiche, le funzioni e le vulnerabilità di cybersecurity dei loro prodotti e servizi per tutta la durata del prodotto o del servizio. Ex7: Richiedere per contratto ai fornitori di fornire e mantenere un inventario aggiornato dei componenti (ad esempio, una lista dei software o hardware) per i prodotti critici. Ex8: Richiedere per contratto ai fornitori di esaminare i propri dipendenti e di proteggersi dalle minacce interne. Ex9: Richiedere contrattualmente ai fornitori di fornire prove dell'esecuzione di pratiche di sicurezza accettabili attraverso, ad esempio, auto-attestazioni, conformità a standard noti, certificazioni o ispezioni. Ex10: Specificare nei contratti i diritti e le responsabilità dell'organizzazione, dei suoi fornitori e dei fornitori di livello inferiore e delle catene di fornitura applicabili, in relazione ai potenziali rischi di cybersecurity. | G39: Sulla base dei risultati della valutazione del rischio della cyber supply chain, dovrà essere stabilito un framework contrattuale per i fornitori e i partner esterni per gestire la condivisione di informazioni sensibili e di prodotti e servizi ICT/OT distribuiti e interconnessi. | H39: Le entità non soggette alla Direttiva NIS 2 dovrebbero prendere in considerazione solo i fornitori aziendali critici e i partner terzi. I requisiti del GDPR devono essere soddisfatti quando le informazioni aziendali contengono dati personali (applicabili a tutti i livelli), ovvero le misure di sicurezza devono essere affrontate nel quadro contrattuale. | J39: X | N39: Level 2 - Repeatable | O39: Level 2 - Repeatable | P39: =_xlfn.IFNA(VLOOKUP(N39,'Maturity Levels'!B:C,2,0),0) -> 2 | Q39: =_xlfn.IFNA(VLOOKUP(O39,'Maturity Levels'!B:C,2,0),0) -> 2 | R39: =AVERAGE(P39:P41) -> 1.3333333 | S39: =AVERAGE(Q39:Q41) -> 1.3333333
F40: X | G40: I requisiti di sicurezza delle informazioni contrattuali e di cybersecurity per i fornitori e partner terzi devono essere implementati per garantire un processo di correzione dei difetti verificabile e per garantire la correzione dei difetti identificati durante i test e la valutazione di "sicurezza delle informazioni e sicurezza informatica". | H40: I sistemi informativi contenenti software (o firmware) interessati da difetti software annunciati di recente (e potenziali vulnerabilità derivanti da tali difetti) devono essere identificati. Le patch, i service pack e gli hot fix di sicurezza di recente rilascio devono essere installati e tali patch, service pack e hot fix vengono testati per verificarne l'efficacia e i potenziali effetti collaterali sui sistemi informativi dell'organizzazione prima dell'installazione. Anche i difetti scoperti durante le valutazioni di sicurezza, il monitoraggio continuo, le attività di risposta agli incidenti o la gestione degli errori del sistema informativo vengono affrontati rapidamente. La correzione dei difetti deve essere incorporata nella gestione della configurazione come modifica di emergenza. | K40: X | N40: Level 1 - Initial | O40: Level 1 - Initial | P40: =_xlfn.IFNA(VLOOKUP(N40,'Maturity Levels'!B:C,2,0),0) -> 1 | Q40: =_xlfn.IFNA(VLOOKUP(O40,'Maturity Levels'!B:C,2,0),0) -> 1
F41: X | G41: L'organizzazione deve stabilire requisiti contrattuali che le consentano di rivedere i programmi di information security e cybersecurity implementati dai fornitori e dai partner terzi. | H41: Nessuna guida aggiuntiva su questo argomento. | K41: X | N41: Level 1 - Initial | O41: Level 1 - Initial | P41: =_xlfn.IFNA(VLOOKUP(N41,'Maturity Levels'!B:C,2,0),0) -> 1 | Q41: =_xlfn.IFNA(VLOOKUP(O41,'Maturity Levels'!B:C,2,0),0) -> 1
D42: GV.SC-06: Sono eseguite pianificazione e due diligence, per ridurre i rischi prima di entrare in rapporti formali con i fornitori o con altre terze parti. | E42: Ex1: Eseguire una due diligence approfondita sui potenziali fornitori, coerente con la pianificazione degli acquisti e commisurata al livello di rischio, criticità e complessità di ogni relazione di fornitura. Ex2: Valutare l'idoneità delle capacità tecnologiche e di cybersecurity e le pratiche di risk management dei potenziali fornitori. Ex3: Condurre risk assessment dei fornitori rispetto ai requisiti di business e di cybersecurity applicabili, compresi i fornitori di livello inferiore e la supply chain dei fornitori critici. Ex4: Valutare l'autenticità, l'integrità e la sicurezza dei prodotti critici prima dell'acquisizione e dell'uso. | G42: L’organizzazione deve considerare un processo di pianificazione e due diligence approfondita per identificare e ridurre i rischi legati alla cybersecurity, prima di formalizzare relazioni con fornitori o altre terze parti, assicurandosi che questi rispettino i requisiti di sicurezza. | H42: Si prevede che, prima di instaurare un rapporto formale con un fornitore o una terza parte, l’organizzazione conduca una valutazione approfondita (due diligence) dei potenziali rischi di cybersecurity. La pianificazione deve includere l’analisi delle policy di sicurezza del fornitore, la valutazione delle vulnerabilità tecniche, delle capacità di gestione del rischio e del rispetto delle normative vigenti. L'obiettivo è garantire che il fornitore non rappresenti un punto debole o una minaccia per la sicurezza dell’organizzazione. Attraverso questo processo, l’organizzazione può identificare potenziali problemi e implementare misure preventive o scegliere di non collaborare con partner che non soddisfano gli standard di sicurezza richiesti, riducendo il rischio complessivo. | K42: X | N42: Level 2 - Repeatable | O42: Level 1 - Initial | P42: =_xlfn.IFNA(VLOOKUP(N42,'Maturity Levels'!B:C,2,0),0) -> 2 | Q42: =_xlfn.IFNA(VLOOKUP(O42,'Maturity Levels'!B:C,2,0),0) -> 1 | R42: =P42 -> 2 | S42: =Q42 -> 1
D43: GV.SC-07: I rischi derivanti da un fornitore - dai suoi prodotti e servizi - e da altre terze parti sono identificati, registrati, classificati, valutati, affrontati e monitorati nel corso della relazione. | E43: Ex1: Adattare le modalità e la frequenza di valutazione in base alla reputazione della terza parte e alla criticità dei prodotti o servizi da essa forniti. Ex2: Valutare le prove di conformità delle terze parti ai requisiti contrattuali di cybersecurity, come autocertificazioni, garanzie, certificazioni e altri artefatti. Ex3: Monitorare i fornitori critici per garantire che adempiano ai loro obblighi di sicurezza durante l'intero ciclo di vita del rapporto con il fornitore, utilizzando una varietà di metodi e tecniche, come ispezioni, audit, test o altre forme di valutazione. Ex4: Monitorare i fornitori, i servizi e i prodotti critici per verificare le modifiche ai loro profili di rischio e rivalutare di conseguenza la criticità del fornitore e l'impatto del rischio. Ex5: Pianificare le eventuali interruzioni impreviste dei fornitori e della catena di fornitura per garantire la business continuity. | G43: L'organizzazione deve rivedere le valutazioni della conformità dei fornitori e dei partner terzi agli obblighi contrattuali esaminando regolarmente audit, risultati dei test e altre valutazioni. | H43: Le entità non soggette alla Direttiva NIS 2 potrebbero limitarsi ai soli fornitori aziendali critici e partner terzi. | J43: X | N43: Level 1 - Initial | O43: Level 1 - Initial | P43: =_xlfn.IFNA(VLOOKUP(N43,'Maturity Levels'!B:C,2,0),0) -> 1 | Q43: =_xlfn.IFNA(VLOOKUP(O43,'Maturity Levels'!B:C,2,0),0) -> 1 | R43: =AVERAGE(P43:P44) -> 1 | S43: =AVERAGE(Q43:Q44) -> 1
G44: L’organizzazione deve esaminare le valutazioni della conformità dei fornitori e dei partner terzi agli obblighi contrattuali, valutando regolarmente gli audit indipendenti di terze parti, i risultati dei test e altre valutazioni. | H44: L'accuratezza della revisione dovrebbe dipendere dalla criticità dei prodotti e dei servizi forniti. | K44: X | N44: Level 1 - Initial | O44: Level 1 - Initial | P44: =_xlfn.IFNA(VLOOKUP(N44,'Maturity Levels'!B:C,2,0),0) -> 1 | Q44: =_xlfn.IFNA(VLOOKUP(O44,'Maturity Levels'!B:C,2,0),0) -> 1
D45: GV.SC-08: I fornitori rilevanti e le altre terze parti sono inclusi nelle attività di pianificazione, risposta e recupero degli incidenti. | E45: Ex1: Definire e utilizzare regolamenti e protocolli per la segnalazione delle attività di incident response e di ripristino e dello status tra l'organizzazione e i suoi fornitori. Ex2: Identificare e documentare i ruoli e le responsabilità dell'organizzazione e dei suoi fornitori per la risposta agli incidenti. Ex3: Includere i fornitori critici nelle esercitazioni e nelle simulazioni di risposta agli incidenti. Ex4: Definire e coordinare i metodi e i protocolli di comunicazione in caso di crisi tra l'organizzazione e i suoi fornitori critici. Ex5: Condurre sessioni collaborative di lessons learned con i fornitori critici. | G45: L'organizzazione deve identificare e documentare il personale chiave di fornitori e Terze Parti per includerli come stakeholders nelle attività di pianificazione della risposta e del recupero. | H45: Le entità non soggette alla Direttiva NIS 2 potrebbero limitarsi ai soli fornitori aziendali critici e partner terzi. | J45: X | N45: Level 1 - Initial | O45: Level 1 - Initial | P45: =_xlfn.IFNA(VLOOKUP(N45,'Maturity Levels'!B:C,2,0),0) -> 1 | Q45: =_xlfn.IFNA(VLOOKUP(O45,'Maturity Levels'!B:C,2,0),0) -> 1 | R45: =P45 -> 1 | S45: =Q45 -> 1
D46: GV.SC-09: Le pratiche di sicurezza della supply chain sono integrate nei programmi di cybersecurity e di gestione del rischio aziendale e le prestazioni sono monitorate durante l'intero ciclo di vita dei prodotti e dei servizi tecnologici. | E46: Ex1: Le policy e le procedure richiedono la registrazione della provenienza di tutti i prodotti e servizi tecnologici acquisiti. Ex2: Fornire periodicamente ai leader un rapporto sui rischi in merito alle modalità con cui si dimostra che i componenti acquisiti non sono stati manomessi e sono autentici. Ex3: Comunicare regolarmente ai responsabili del rischio di cybersecurity e al personale operativo la necessità di acquisire patch, updates e upgrade del software solo da fornitori di software autenticati e affidabili. Ex4: Rivedere le policy per assicurarsi che richiedano al personale autorizzato dei fornitori di eseguire la manutenzione sui prodotti dei fornitori stessi. Ex5: Le policy e le procedure richiedono il controllo degli aggiornamenti degli hardware critici per verificare l'assenza di modifiche non autorizzate. | G46: Le pratiche di sicurezza della supply chain devono essere integrate nei programmi di cybersecurity e di gestione del rischio aziendale. Inoltre, è necessario monitorare le prestazioni di queste pratiche durante l'intero ciclo di vita dei prodotti e dei servizi tecnologici. | H46: Le attività legate alla sicurezza della supply chain devono essere parte integrante dei programmi generali di cybersecurity e gestione del rischio aziendale. La sicurezza della supply chain deve essere allineata con le strategie aziendali di protezione dei dati e gestione del rischio. Ciò include l'identificazione, la valutazione e la mitigazione dei rischi associati ai fornitori e ai partner lungo tutto il ciclo di vita dei prodotti e dei servizi tecnologici, dalla fase di progettazione fino alla dismissione. Le pratiche di sicurezza della supply chain dovrebbero prevedere l'integrazione, il monitoraggio continuo e valutazione dei fornitori. | K46: X | N46: Level 1 - Initial | O46: Level 1 - Initial | P46: =_xlfn.IFNA(VLOOKUP(N46,'Maturity Levels'!B:C,2,0),0) -> 1 | Q46: =_xlfn.IFNA(VLOOKUP(O46,'Maturity Levels'!B:C,2,0),0) -> 1 | R46: =P46 -> 1 | S46: =Q46 -> 1
D47: GV.SC-10: La pianificazione di risk management della cybersecurity supply chain include le disposizioni per le attività che si verificano dopo la conclusione di un accordo di partnership o di servizio. | E47: Ex1: Stabilire processi per l'interruzione di relazioni critiche sia in circostanze normali che avverse. Ex2: Definire e implementare piani per il supporto alla manutenzione e all'obsolescenza dei componenti end-of-life. Ex3: Verificare che l'accesso dei fornitori alle risorse dell'organizzazione sia disattivato tempestivamente quando non più necessario. Ex4: Verificare che gli asset contenenti i dati dell'organizzazione siano restituiti o smaltiti in modo appropriato, tempestivo, controllato e sicuro. Ex5: Sviluppare ed eseguire un piano per la cessazione o la transizione dei rapporti con i fornitori che tenga conto dei rischi per la sicurezza e la resilienza della supply chain. Ex6: Mitigare i rischi per i dati e i sistemi creati dalla cessazione del rapporto di fornitura. Ex7: Manage data leakage risks associated with supplier termination | G47: L'organizzazione deve includere disposizioni specifiche per la gestione dei rischi della cybersecurity nella supply chain, coprendo tutte le attività che seguono la conclusione di un accordo di partnership o di servizio. | H47: La pianificazione del risk management per la cybersecurity della supply chain deve comprendere misure e attività da adottare dopo la conclusione di un accordo di partnership o di servizio. | K47: X | N47: Level 1 - Initial | O47: Level 1 - Initial | P47: =_xlfn.IFNA(VLOOKUP(N47,'Maturity Levels'!B:C,2,0),0) -> 1 | Q47: =_xlfn.IFNA(VLOOKUP(O47,'Maturity Levels'!B:C,2,0),0) -> 1 | R47: =P47 -> 1 | S47: =Q47 -> 1
B48: IDENTIFY (ID): Gli attuali rischi per la cybersecurity dell'organizzazione sono noti. | C48: Asset Management (ID.AM): Gli asset (ad esempio, dati, dispositivi, software, sistemi, strutture, persone) che consentono all'organizzazione di raggiungere i loro scopi, sono identificati e gestiti in base alla loro importanza per gli obiettivi organizzativi e la strategia di rischio dell'organizzazione. | D48: ID.AM-01: Sono conservati gli inventari degli hardware gestiti dall'organizzazione. | E48: Ex1: Conservare gli inventari per tutti i tipi di hardware, compresi i dispositivi IT, IoT, OT e mobili. Ex2: Monitorare costantemente le reti per rilevare nuovi hardware e aggiornare automaticamente gli inventari. | G48: Un inventario di tutti gli asset associati alle informazioni e alle strutture di elaborazione delle informazioni all'interno dell'organizzazione deve essere documentato, rivisto e aggiornato quando si verificano cambiamenti. | H48: L'inventario deve includere computer fissi e portatili, tablet, telefoni cellulari, Programmable Logic Controllers (PLCs), sensori, attuatori, robot, macchine utensili, firmware, switch di rete, router, alimentatori e altri componenti o dispositivi in rete. L'inventario deve includere tutte le risorse, indipendentemente dal fatto che siano o meno connesse alla rete dell'organizzazione. Potrebbe essere preso in considerazione l'uso di uno strumento di gestione degli asset IT. | I48: X | N48: Level 2 - Repeatable | O48: Level 4 - Managed | P48: =_xlfn.IFNA(VLOOKUP(N48,'Maturity Levels'!B:C,2,0),0) -> 2 | Q48: =_xlfn.IFNA(VLOOKUP(O48,'Maturity Levels'!B:C,2,0),0) -> 4 | R48: =AVERAGE(P48:P51) -> 2 | S48: =AVERAGE(Q48:Q51) -> 3.5 | T48: =AVERAGE(R48:R68) -> 2.4285714 | U48: =AVERAGE(S48:S68) -> 3.0357143
G49: L’inventario degli asset, associati alle informazioni e alle strutture di elaborazione delle informazioni, deve riflettere i cambiamenti nel contesto dell’organizzazione e includere tutte le informazioni necessarie per un’efficace accountability. | H49: Le specifiche dell'inventario includono, ad esempio, produttore, tipo di dispositivo, modello, numero di serie, nomi delle macchine e indirizzi di rete, posizione fisica ecc... La responsabilità è l'obbligo di spiegare, giustificare e assumersi la responsabilità delle proprie azioni, e implica la responsabilità per il risultato del task o del processo. Le modifiche includono la dismissione del materiale. | J49: X | N49: Level 2 - Repeatable | O49: Level 4 - Managed | P49: =_xlfn.IFNA(VLOOKUP(N49,'Maturity Levels'!B:C,2,0),0) -> 2 | Q49: =_xlfn.IFNA(VLOOKUP(O49,'Maturity Levels'!B:C,2,0),0) -> 4
G50: Quando viene rilevato un hardware non autorizzato, questo viene messo in quarantena per una possibile gestione delle eccezioni, rimozione o sostituzione e l'inventario viene aggiornato di conseguenza. | H50: Qualsiasi hardware non supportato senza documentazione di eccezione viene designato come non autorizzato. L'hardware non autorizzato può essere rilevato durante l'inventario, le richieste di supporto da parte dell'utente o altri mezzi. | J50: X | N50: Level 2 - Repeatable | O50: Level 3 - Defined | P50: =_xlfn.IFNA(VLOOKUP(N50,'Maturity Levels'!B:C,2,0),0) -> 2 | Q50: =_xlfn.IFNA(VLOOKUP(O50,'Maturity Levels'!B:C,2,0),0) -> 3
G51: Devono essere identificati meccanismi per rilevare la presenza di componenti hardware e firmware non autorizzati all'interno della rete dell'organizzazione. | H51: Laddove possibile e sicuro, questi meccanismi dovrebbero essere automatizzati. Dovrebbe esserci un processo per gestire frequentemente gli asset non autorizzati. L'organizzazione può scegliere di rimuovere la risorsa dalla rete, negare alla risorsa la connessione remota alla rete o metterla in quarantena. | K51: X | N51: Level 2 - Repeatable | O51: Level 3 - Defined | P51: =_xlfn.IFNA(VLOOKUP(N51,'Maturity Levels'!B:C,2,0),0) -> 2 | Q51: =_xlfn.IFNA(VLOOKUP(O51,'Maturity Levels'!B:C,2,0),0) -> 3
D52: ID.AM-02: Sono conservati gli inventari di software, servizi e sistemi gestiti dall'organizzazione. | E52: Ex1: Mantenere gli inventari per tutti i tipi di software e servizi, compresi quelli commerciali, open-source, applicazioni personalizzate, servizi API e applicazioni e servizi basati su cloud. Ex2: Monitorare costantemente tutte le piattaforme, compresi i container e le macchine virtuali, per le modifiche all'inventario di software e servizi. Ex3: Tenere un inventario dei sistemi dell'organizzazione. | G52: Deve essere documentato, rivisto e aggiornato un inventario che contenga quali piattaforme software e applicazioni vengono utilizzate nell'organizzazione, quando si verificano cambiamenti. | H52: L'inventario include: programmi software, piattaforme software e database, anche se esternalizzati (SaaS). • Gli accordi di esternalizzazione dovrebbero far parte degli accordi contrattuali con il fornitore. • Le informazioni nell'inventario dovrebbero includere, ad esempio, il nome, la descrizione, la versione, il numero di utenti, i dati elaborati, ecc... • Dovrebbe essere fatta una distinzione tra software non supportato e software non autorizzato. • Potrebbe essere preso in considerazione l'uso di uno strumento di gestione degli asset IT. | I52: X | N52: Level 2 - Repeatable | O52: Level 4 - Managed | P52: =_xlfn.IFNA(VLOOKUP(N52,'Maturity Levels'!B:C,2,0),0) -> 2 | Q52: =_xlfn.IFNA(VLOOKUP(O52,'Maturity Levels'!B:C,2,0),0) -> 4 | R52: =AVERAGE(P52:P56) -> 3 | S52: =AVERAGE(Q52:Q56) -> 4
G53: L’inventario delle piattaforme software e delle applicazioni associate alle informazioni e all’elaborazione delle informazioni deve riflettere i cambiamenti nel contesto dell’organizzazione e includere tutte le informazioni necessarie per un’efficace accountability. | H53: L'inventario delle piattaforme e delle applicazioni software dovrebbe includere il titolo, l'editore, la data di installazione/utilizzo iniziale e lo scopo commerciale per ciascuna voce. Ove appropriato, includere l'Uniform Resource Locator (URL), gli app store, le versioni, il meccanismo di distribuzione e la data di dismissione. | J53: X | N53: Level 2 - Repeatable | O53: Level 4 - Managed | P53: =_xlfn.IFNA(VLOOKUP(N53,'Maturity Levels'!B:C,2,0),0) -> 2 | Q53: =_xlfn.IFNA(VLOOKUP(O53,'Maturity Levels'!B:C,2,0),0) -> 4
G54: Devono essere identificati gli individui responsabili e tenuti ad amministrare le piattaforme software e le applicazioni all'interno dell'organizzazione. | H54: Nessuna guida aggiuntiva su questo argomento. | J54: X | N54: Level 3 - Defined | O54: Level 3 - Defined | P54: =_xlfn.IFNA(VLOOKUP(N54,'Maturity Levels'!B:C,2,0),0) -> 3 | Q54: =_xlfn.IFNA(VLOOKUP(O54,'Maturity Levels'!B:C,2,0),0) -> 3 | X54: Non è ben definita per applicazione sviluppate internamente ma per applicazione di terzi si
G55: Quando viene rilevato un software non autorizzato, questo viene messo in quarantena per una possibile gestione delle eccezioni, rimozione o sostituzione e l'inventario viene essere aggiornato di conseguenza. | H55: Si include: • Qualsiasi software non supportato senza una documentazione di eccezione viene designato come non autorizzato. • Il software non autorizzato può essere rilevato durante l'inventario, le richieste di supporto da parte dell'utente o altri mezzi. | J55: X | N55: Level 4 - Managed | O55: Level 5 - Optimizing | P55: =_xlfn.IFNA(VLOOKUP(N55,'Maturity Levels'!B:C,2,0),0) -> 4 | Q55: =_xlfn.IFNA(VLOOKUP(O55,'Maturity Levels'!B:C,2,0),0) -> 5
G56: Devono essere identificati meccanismi per rilevare la presenza di software non autorizzati all’interno dell’ambiente ICT/OT dell’organizzazione. | H56: Si considera: • Laddove possibile e sicuro, questi meccanismi dovrebbero essere automatizzati. • Dovrebbe esserci un processo per gestire regolarmente le risorse non autorizzate. L'organizzazione può scegliere di rimuovere la risorsa dalla rete, negare alla risorsa la connessione remota alla rete o metterla in quarantena. | K56: X | N56: Level 4 - Managed | O56: Level 4 - Managed | P56: =_xlfn.IFNA(VLOOKUP(N56,'Maturity Levels'!B:C,2,0),0) -> 4 | Q56: =_xlfn.IFNA(VLOOKUP(O56,'Maturity Levels'!B:C,2,0),0) -> 4 | X56: Ogni qualvolta un endpoint si collega alla rete procede alla scansione di alcuni parametri ad eccezione di alcuni parametri
D57: ID.AM-03: Sono conservate le rappresentazioni delle comunicazioni di rete e dei flussi di dati di rete autorizzati dall'organizzazione. | E57: Ex1: Mantenere le basi dei flussi di comunicazione e di dati all'interno delle reti cablate e wireless dell'organizzazione. Ex2: Conservare le basi dei flussi di comunicazione e di dati tra l'organizzazione e le terze parti. Ex3: Conservare la documentazione delle porte di rete previste, dei protocolli e dei servizi tipicamente utilizzati tra i sistemi autorizzati. | G57: Devono essere identificate le informazioni che l'organizzazione memorizza e utilizza. | H57: Azioni applicabili: • Elencare tutti i tipi di informazioni che l'azienda archivia o utilizza. Definire il "tipo di informazione" in qualsiasi modo utile che abbia senso per l' azienda. Chiedere ai dipendenti di fare un elenco di tutte le informazioni che utilizzano nelle loro normali attività. Elencare tutte le possibilità, ma non in maniera troppo specifica (ad esempio, conservare i nomi e gli indirizzi e-mail dei clienti, le ricevute per le materie prime, le informazioni bancarie o altre informazioni proprietarie). • Prendere in considerazione la mappatura di queste informazioni con le risorse associate identificate negli inventari di dispositivi fisici, sistemi, piattaforme software e applicazioni utilizzate all'interno dell'organizzazione (vedi ID.AM-1 e ID.AM-2). | I57: X | N57: Level 4 - Managed | O57: Level 3 - Defined | P57: =_xlfn.IFNA(VLOOKUP(N57,'Maturity Levels'!B:C,2,0),0) -> 4 | Q57: =_xlfn.IFNA(VLOOKUP(O57,'Maturity Levels'!B:C,2,0),0) -> 3 | R57: =AVERAGE(P57:P60) -> 3 | S57: =AVERAGE(Q57:Q60) -> 3.75 | X57: Esistono le banche dati lato privacy che definiscono i tempi e modalità di conservazione dei dati e relative ownership. Manca la parte di mappatura con le risorse identificate negli inventari (e.g. CMDB o asset inventory)
G58: Tutte le connessioni all'interno dell'ambiente ICT/OT dell'organizzazione e verso altre piattaforme interne all'organizzazione devono essere mappate, documentate, approvate e aggiornate come appropriato. | H58: Si includono: • Le informazioni sulla connessione includono, ad esempio, le caratteristiche dell'interfaccia, le caratteristiche dei dati, le porte, i protocolli, gli indirizzi, la descrizione dei dati, i requisiti di sicurezza e la natura della connessione. • La gestione della configurazione può essere utilizzata come asset di supporto. • Questa documentazione non deve essere archiviata solo sulla rete che riguarda. • Condiserare di conservare una copia di questa documentazione in un ambiente offline sicuro (ad esempio, disco rigido offline, copia cartacea, ecc...). | J58: X | N58: Level 4 - Managed | O58: Level 4 - Managed | P58: =_xlfn.IFNA(VLOOKUP(N58,'Maturity Levels'!B:C,2,0),0) -> 4 | Q58: =_xlfn.IFNA(VLOOKUP(O58,'Maturity Levels'!B:C,2,0),0) -> 4
G59: I flussi di informazioni/flussi di dati all’interno dell’ambiente ICT/OT dell’organizzazione, nonché verso altri sistemi interni all’organizzazione, devono essere mappati, documentati, autorizzati e aggiornati quando si verificano modifiche. | H59: Conoscendo i flussi di informazioni/dati all'interno di un sistema e tra sistemi, è possibile determinare dove le informazioni possono e non possono andare. • Considerare: o L'applicazione di controlli che limitano le connessioni solo alle interfacce autorizzate. o L'intensificazione dell'attività di monitoraggio del sistema ogni volta che vi è un'indicazione di aumento del rischio per le operazioni e le risorse critiche dell'organizzazione. o La protezione del sistema dalla fuga di informazioni dovuta alle emanazioni di segnali elettromagnetici. | K59: X | N59: Level 2 - Repeatable | O59: Level 4 - Managed | P59: =_xlfn.IFNA(VLOOKUP(N59,'Maturity Levels'!B:C,2,0),0) -> 2 | Q59: =_xlfn.IFNA(VLOOKUP(O59,'Maturity Levels'!B:C,2,0),0) -> 4
F60: X | G60: L'organizzazione deve garantire che venga sviluppata, documentata e mantenuta una baseline delle operazioni di rete e dei flussi di dati previsti per i suoi sistemi critici per monitorare gli eventi. | H60: Si dovrebbe: • Valutare la possibilità di abilitare il logging locale su tutti i tuoi sistemi e dispositivi di rete e conservali per un determinato periodo, ad esempio fino a 6 mesi. • Assicurarsi che i registri contengano informazioni sufficienti (origine, data, utente, timestamp, ecc.) e di disporre di spazio di archiviazione sufficiente per la loro generazione. • Valutare la possibilità di centralizzare i registri. • Valutare l'implementazione di uno strumento di Security Information and Event Management tool (SIEM) che faciliterà la correlazione e l'analisi dei dati. | K60: X | N60: Level 2 - Repeatable | O60: Level 4 - Managed | P60: =_xlfn.IFNA(VLOOKUP(N60,'Maturity Levels'!B:C,2,0),0) -> 2 | Q60: =_xlfn.IFNA(VLOOKUP(O60,'Maturity Levels'!B:C,2,0),0) -> 4
D61: ID.AM-04: Sono conservati gli inventari dei servizi erogati dai fornitori. | E61: Ex1: Inventariare tutti i servizi esterni utilizzati dall'organizzazione, comprese le offerte di terze parti di tipo infrastructure-as-a-service (IaaS), platform-as-a-service (PaaS) e software-as-a-service (SaaS), API e altri servizi applicativi esterni. Ex2: Aggiornare l'inventario quando viene utilizzato un nuovo servizio esterno per garantire un adeguato monitoraggio della gestione del rischio di cybersecurity sull'uso di tale servizio da parte dell'organizzazione. | G61: L'organizzazione deve mappare, documentare, autorizzare e, quando si verificano modifiche, aggiornare tutti i servizi esterni e le connessioni con essi stabilite. | H61: L'organizzazione dovrebbe implementare: • L'outsourcing di sistemi, piattaforme software e applicazioni utilizzate all'interno dell'organizzazione è trattato in ID.AM-1 e ID.AM-2. • I sistemi informativi esterni sono sistemi o componenti di sistemi per i quali le organizzazioni in genere non hanno supervisione e autorità diretta sull'applicazione dei requisiti e dei controlli di sicurezza o sulla determinazione dell'efficacia dei controlli implementati su tali sistemi, ovvero servizi eseguiti nel cloud, SaaS, hosting o altri ambienti esterni, API (Application Programming Interface) ecc... • La mappatura dei servizi esterni e delle connessioni ad essi effettuate e la loro autorizzazione anticipata evita di sprecare risorse inutili nell'indagine di una connessione presumibilmente non autenticata a sistemi esterni. | J61: X | N61: Level 4 - Managed | O61: Level 4 - Managed | P61: =_xlfn.IFNA(VLOOKUP(N61,'Maturity Levels'!B:C,2,0),0) -> 4 | Q61: =_xlfn.IFNA(VLOOKUP(O61,'Maturity Levels'!B:C,2,0),0) -> 4 | R61: =AVERAGE(P61:P62) -> 3 | S61: =AVERAGE(Q61:Q62) -> 4
G62: Il flusso di informazioni da/verso sistemi esterni deve essere mappato, documentato, autorizzato e aggiornato quando si verificano modifiche. | H62: Si consideri la possibilità di richiedere ai fornitori di servizi esterni di identificare e documentare le funzioni, le porte, i protocolli e i servizi necessari per i servizi di connessione. | K62: X | N62: Level 2 - Repeatable | O62: Level 4 - Managed | P62: =_xlfn.IFNA(VLOOKUP(N62,'Maturity Levels'!B:C,2,0),0) -> 2 | Q62: =_xlfn.IFNA(VLOOKUP(O62,'Maturity Levels'!B:C,2,0),0) -> 4
D63: ID.AM-05: Gli asset sono prioritizzati in base alla classificazione, alla criticità, alle risorse e all'impatto sulla mission. | E63: Ex1: Definire i criteri di priorità per ogni classe di asset. Ex2: Applicare i criteri di prioritizzazione agli asset. Ex3: Tracciare le priorità degli asset e aggiornarle periodicamente o quando si verificano cambiamenti significativi nell'organizzazione. | G63: Le risorse dell’organizzazione (hardware, dispositivi, dati, tempo, personale, informazioni e software) devono essere prioritizzate in base alla loro classificazione, criticità e valore di business. | H63: Determinare le risorse dell'organizzazione (ad esempio, hardware, dispositivi, dati, tempo, personale, informazioni e software): - Cosa accadrebbe all'attività se queste risorse fossero rese pubbliche, danneggiate, manomesse o perse? - Cosa accadrebbe all'attività quando l'integrità delle risorse non fosse più garantita? - Cosa accadrebbe all'attività se io/i miei clienti non potessimo accedere a queste risorse? E classificare queste risorse in base alla loro prioritizzazione, criticità e valore aziendale. • Le risorse dovrebbero includere asset aziendali. | I63: X | N63: Level 1 - Initial | O63: Level 1 - Initial | P63: =_xlfn.IFNA(VLOOKUP(N63,'Maturity Levels'!B:C,2,0),0) -> 1 | Q63: =_xlfn.IFNA(VLOOKUP(O63,'Maturity Levels'!B:C,2,0),0) -> 1 | R63: =P63 -> 1 | S63: =Q63 -> 1
H64: Creare una classificazione per le informazioni sensibili determinando prima le categorie, ad esempio: o Public - liberamente accessibile a tutti, anche esternamente. o Internal - accessibile solo ai membri della tua organizzazione. o Restricted - accessibile solo a coloro le cui mansioni richiedono l'accesso. Si reputa necessario, in seguito, comunicare le categorie ed identificare quali tipi di dati ne rientrano (dati delle risorse umane, dati finanziari, dati legali, dati personali, ecc...), valutando l'uso del protocollo Traffic Light (TLP). • La classificazione dei dati dovrebbe essere applicata ai tre aspetti: C-I-A. Valutare l'implementazione di uno strumento automatizzato, come uno strumento di prevenzione della perdita di dati (DLP) basato su host per identificare tutti i dati sensibili archiviati, elaborati o trasmessi tramite risorse aziendali, inclusi quelli ubicati in loco o presso un fornitore di servizi remoto. | K64: X | N64: Level 1 - Initial | O64: Level 1 - Initial | P64: =_xlfn.IFNA(VLOOKUP(N64,'Maturity Levels'!B:C,2,0),0) -> 1 | Q64: =_xlfn.IFNA(VLOOKUP(O64,'Maturity Levels'!B:C,2,0),0) -> 1
H65: Si consiglia di implementare uno strumento automatizzato, come uno Data Loss Prevention (DLP), per identificare tutti i dati sensibili archiviati, elaborati o trasmessi tramite risorse aziendali, compresi quelli ubicati in sede o presso un fornitore di servizi remoto. | K65: X | N65: Level 1 - Initial | O65: Level 1 - Initial | P65: =_xlfn.IFNA(VLOOKUP(N65,'Maturity Levels'!B:C,2,0),0) -> 1 | Q65: =_xlfn.IFNA(VLOOKUP(O65,'Maturity Levels'!B:C,2,0),0) -> 1
D66: ID.AM-07: Vengono conservati gli inventari dei dati e dei metadati corrispondenti per i tipi di dati designati. | E66: Ex1: Conservare un elenco dei tipi di designated data di interesse (ad esempio, informazioni di identificazione personale, informazioni sanitarie protette, numeri di conto finanziario, proprietà intellettuale dell'organizzazione). Ex2: Scoprire e analizzare continuamente dati ad hoc per identificare nuove istanze di tipi di designated data. Ex3: Assegnare classificazioni ai tipi di dati designati attraverso tag o etichette. Ex4: Tracciare la provenienza, il proprietario dei dati e la geolocalizzazione di ogni istanza dei tipi di dati designati. | G66: L'organizzazione deve mantenere e aggiornare regolarmente un inventario completo dei dati e dei metadati interni all'azienda. | H66: L'organizzazione deve avere un inventario dettagliato e costantemente aggiornato di tutti i dati e metadati interni, assicurandosi che le informazioni siano complete e riflettano accuratamente le risorse aziendali per supportare la sicurezza e la gestione dei dati. Tale inventario, qualora possibile, deve essere supportato da strumenti tecnologici ad hoc, e tali informazioni devono essere correlate al cmdb aziendale. | K66: X | N66: Level 2 - Repeatable | O66: Level 1 - Initial | P66: =_xlfn.IFNA(VLOOKUP(N66,'Maturity Levels'!B:C,2,0),0) -> 2 | Q66: =_xlfn.IFNA(VLOOKUP(O66,'Maturity Levels'!B:C,2,0),0) -> 1 | R66: =P66 -> 2 | S66: =Q66 -> 1
D67: ID.AM-08: I sistemi, l'hardware, il software e i servizi sono gestiti per tutto il loro ciclo di vita. | G67: L'organizzazione deve garantire che i dati del suo sistema critico vengano distrutti secondo la policy. | H67: Le azioni di smaltimento includono azioni di sanificazione dei supporti (vedere PR.DS-3) e comprendono due tipi principali di supporti di uso comune: o Supporti cartacei (rappresentazioni fisiche di informazioni). o Supporti elettronici o di copia elettronica (i bit e i byte contenuti nei dischi rigidi, memoria ad accesso casuale (RAM), memoria di sola lettura (ROM), dischi, dispositivi di memoria, telefoni, dispositivi di elaborazione mobile, apparecchiature di rete ecc…). | J67: X | N67: Level 3 - Defined | O67: Level 4 - Managed | P67: =_xlfn.IFNA(VLOOKUP(N67,'Maturity Levels'!B:C,2,0),0) -> 3 | Q67: =_xlfn.IFNA(VLOOKUP(O67,'Maturity Levels'!B:C,2,0),0) -> 4 | R67: =AVERAGE(P67:P68) -> 3 | S67: =AVERAGE(Q67:Q68) -> 4 | X67: Lo smaltimento dei dispositivi IT è gestito e contrattualizzato con un provider terzo responsabile per la relativa sicurezza. Lo smaltimento dei documenti cartacei è normato internamente da una delibera ad HOC che detta tempi di conservazioni e emodalità di smaltimento sicuro.
E68: Ex1: Integrare considerazioni di cybersecurity in tutti i cicli di vita di sistemi, hardware, software e servizi. Ex2: Integrare considerazioni di cybersecurity nei cicli di vita dei prodotti. Ex3: Identificare gli usi non ufficiali della tecnologia per raggiungere gli obiettivi della missione (ad esempio, l'IT ombra). Ex4: Identificare sistemi, hardware, software e servizi ridondanti che aumentano inutilmente la superficie di attacco dell'organizzazione. Ex5: Configurare e proteggere adeguatamente sistemi, hardware, software e servizi prima della loro distribuzione in produzione. Ex6: Aggiornare gli inventari quando sistemi, hardware, software e servizi vengono spostati o trasferiti all'interno dell'organizzazione. Ex7: Distruggere in modo sicuro i dati archiviati in base alla policy di conservazione dei dati dell'organizzazione utilizzando il metodo di distruzione predefinito, conservare e gestire un registro delle distruzioni. Ex8: Sanificare in modo sicuro l'archiviazione dei dati quando l'hardware viene ritirato, dismesso, riassegnato o inviato per riparazioni o sostituzioni. Ex9: Offrire metodi per distruggere carta, supporti di memorizzazione e altre forme fisiche di archiviazione dei dati. | G68: I processi di igienizzazione devono essere documentati e testati. | H68: L'organizzazione procede a: • Implementare i processi di igienizzazione che includono le procedure e le attrezzature. • Valutare l'applicazione di tecniche di igienizzazione non distruttive ai dispositivi di archiviazione portatili. • Valutare le procedure di igienizzazione in proporzione ai requisiti di riservatezza. | K68: X | N68: Level 3 - Defined | O68: Level 4 - Managed | P68: =_xlfn.IFNA(VLOOKUP(N68,'Maturity Levels'!B:C,2,0),0) -> 3 | Q68: =_xlfn.IFNA(VLOOKUP(O68,'Maturity Levels'!B:C,2,0),0) -> 4
C69: Risk Assessment (ID.RA): L'organizzazione comprende il rischio di cybersecurity per le operazioni organizzative (inclusa la missione, le funzioni, l'immagine o la reputazione), gli asset organizzativi e le persone. | D69: ID.RA-01: Le vulnerabilità degli asset sono identificate, convalidate e registrate. | E69: Ex1: Utilizzare le tecnologie di gestione delle vulnerabilità per identificare il software non patchato e mal configurato. Ex2: Valutare le architetture di rete e di sistema per individuare i punti deboli di progettazione e implementazione che influiscono sulla cybersecurity. Ex3: Rivedere, analizzare o testare il software sviluppato dall'organizzazione per identificare le vulnerabilità di progettazione, codifica e configurazione predefinita. Ex4: Valutare le strutture che ospitano risorse informatiche critiche per individuare le vulnerabilità fisiche e i problemi di resilienza. Ex5: monitorare le fonti di intelligence sulle minacce informatiche per ottenere informazioni sulle nuove vulnerabilità di prodotti e servizi. | G69: Devono essere identificate minacce e vulnerabilità. | H69: Una vulnerabilità si riferisce a una debolezza nell'hardware, nel software o nelle procedure dell'organizzazione. È una lacuna attraverso la quale un malintenzionato può accedere alle risorse dell'organizzazione. Una vulnerabilità espone un'organizzazione a minacce, che possono risultare in un evento dannoso o negativo. Il rischio è il potenziale di perdita e danno al verificarsi di eventi dannosi. | I69: X | N69: Level 1 - Initial | O69: Level 1 - Initial | P69: =_xlfn.IFNA(VLOOKUP(N69,'Maturity Levels'!B:C,2,0),0) -> 1 | Q69: =_xlfn.IFNA(VLOOKUP(O69,'Maturity Levels'!B:C,2,0),0) -> 1 | R69: =AVERAGE(P69:P74) -> 1 | S69: =AVERAGE(Q69:Q74) -> 3.1666667 | T69: =AVERAGE(R69:R88) -> 1 | U69: =AVERAGE(S69:S88) -> 1.5166667
G70: Deve essere stabilito un processo per monitorare, identificare e documentare in modo continuo le vulnerabilità dei sistemi critici di business dell'organizzazione. | H70: Laddove sicuro e fattibile, dovrebbe essere preso in considerazione l'uso della scansione delle vulnerabilità. L'organizzazione dovrebbe stabilire e mantenere un programma di test appropriato alle sue dimensioni, complessità e maturità. | J70: X | N70: Level 1 - Initial | O70: Level 4 - Managed | P70: =_xlfn.IFNA(VLOOKUP(N70,'Maturity Levels'!B:C,2,0),0) -> 1 | Q70: =_xlfn.IFNA(VLOOKUP(O70,'Maturity Levels'!B:C,2,0),0) -> 4
G71: Per garantire che le operazioni dell'organizzazione non siano influenzate negativamente dal processo di test, i test di prestazioni/carico e i test di penetrazione sui sistemi dell'organizzazione devono essere condotti con attenzione. | H71: Si consiglia di convalidare le misure di sicurezza dopo ogni test di penetrazione. | K71: X | N71: Level 1 - Initial | O71: Level 1 - Initial | P71: =_xlfn.IFNA(VLOOKUP(N71,'Maturity Levels'!B:C,2,0),0) -> 1 | Q71: =_xlfn.IFNA(VLOOKUP(O71,'Maturity Levels'!B:C,2,0),0) -> 1
G72: L'organizzazione deve monitorare ed eseguire la scansione delle vulnerabilità nei suoi sistemi critici e nelle applicazioni ospitate, assicurandosi che le funzioni del sistema non siano influenzate negativamente dal processo di scansione. | H72: Valutare l'implementazione di un programma di scansione continua delle vulnerabilità, inclusi piani di reporting e mitigazione. | J72: X | N72: Level 1 - Initial | O72: Level 4 - Managed | P72: =_xlfn.IFNA(VLOOKUP(N72,'Maturity Levels'!B:C,2,0),0) -> 1 | Q72: =_xlfn.IFNA(VLOOKUP(O72,'Maturity Levels'!B:C,2,0),0) -> 4
G73: Il processo di scansione delle vulnerabilità deve includere analisi, correzione e condivisione delle informazioni. | H73: Nessuna guida aggiuntiva su questo argomento. | J73: X | N73: Level 1 - Initial | O73: Level 4 - Managed | P73: =_xlfn.IFNA(VLOOKUP(N73,'Maturity Levels'!B:C,2,0),0) -> 1 | Q73: =_xlfn.IFNA(VLOOKUP(O73,'Maturity Levels'!B:C,2,0),0) -> 4
G74: L'organizzazione deve stabilire e mantenere un processo documentato che consenta una revisione continua delle vulnerabilità e delle strategie per mitigarle. | H74: Valutare l'inventario delle fonti che potrebbero segnalare vulnerabilità nei componenti identificati e distribuire aggiornamenti (siti web degli editori di software, sito web CERT, sito web ENISA). L'organizzazione dovrebbe identificare dove le vulnerabilità del suo sistema critico potrebbero essere esposte agli avversari. | J74: X | N74: Level 1 - Initial | O74: Level 5 - Optimizing | P74: =_xlfn.IFNA(VLOOKUP(N74,'Maturity Levels'!B:C,2,0),0) -> 1 | Q74: =_xlfn.IFNA(VLOOKUP(O74,'Maturity Levels'!B:C,2,0),0) -> 5
D75: ID.RA-02: La cyber threat intelligence è raccolta da fonti e forum di condivisione delle informazioni. | E75: Ex1: Configurare gli strumenti e le tecnologie di cybersecurity con capacità di detection o response per ingerire in modo sicuro i feed di intelligence sulle cyber threat. Ex2: Ricevere ed esaminare gli avvisi di terze parti affidabili sugli attuali attori delle minacce e sulle loro tattiche, tecniche e procedure (TTP). Ex3: Monitorare le fonti di cyber threat intelligence per ottenere informazioni sui tipi di vulnerabilità che le tecnologie emergenti possono presentare. | G75: Deve essere implementato un programma di sensibilizzazione sulle minacce e sulle vulnerabilità che includa una capacità di condivisione delle informazioni tra le organizzazioni. | H75: Un programma di Awareness delle minacce e delle vulnerabilità dovrebbe includere un contatto continuo con gruppi e associazioni di Threat Intelligence per ricevere alert e avvisi di sicurezza. I gruppi di Threat Intelligence includono, ad esempio, forum, aziende, news group e/o gruppi di pari di professionisti della cybersecurity in organizzazioni simili. Questo contatto può includere la condivisione di informazioni su potenziali vulnerabilità e incidenti. La capacità di condivisione dovrebbe includere lo scambio di informazioni non classificate e classificate. | J75: X | P75: =_xlfn.IFNA(VLOOKUP(N75,'Maturity Levels'!B:C,2,0),0) -> 0 | Q75: =_xlfn.IFNA(VLOOKUP(O75,'Maturity Levels'!B:C,2,0),0) -> 0 | R75: =AVERAGE(P75:P76) -> 0 | S75: =AVERAGE(Q75:Q76) -> 0 | X75: Non applicabile
G76: Deve essere identificato dove possono essere implementati meccanismi automatizzati per rendere disponibili informazioni di alert e consulenza sulla sicurezza alle parti interessate dell'organizzazione. | H76: Nessuna guida aggiuntiva su questo argomento. | K76: X | P76: =_xlfn.IFNA(VLOOKUP(N76,'Maturity Levels'!B:C,2,0),0) -> 0 | Q76: =_xlfn.IFNA(VLOOKUP(O76,'Maturity Levels'!B:C,2,0),0) -> 0 | X76: Non applicabile
D77: ID.RA-03: Le minacce interne ed esterne all'organizzazione sono identificate e registrate. | E77: Ex1: Utilizzare le informazioni sulle minacce informatiche per mantenere la consapevolezza dei tipi di attori delle minacce che potrebbero prendere di mira l'organizzazione e delle TTP che probabilmente utilizzeranno. Ex2: Eseguire threat hunting per cercare segni di attori di minacce nell'ambiente. Ex3: Implementare processi per identificare gli attori interni delle minacce. | G77: L'organizzazione deve identificare e registrare sistematicamente tutte le minacce interne ed esterne, garantendo che queste informazioni siano documentate e aggiornate per supportare una gestione efficace dei rischi e delle difese di cybersecurity. | H77: L'organizzazione deve individuare e documentare in modo sistematico tutte le minacce, sia interne che esterne. Queste informazioni devono essere regolarmente aggiornate per garantire una gestione efficace dei rischi e una protezione adeguata contro le minacce alla cybersecurity, in conformità alla strategia ed alla politica di gestione del rischio cyber definita dall'organizzazione. | K77: X | N77: Level 1 - Initial | O77: Level 1 - Initial | P77: =_xlfn.IFNA(VLOOKUP(N77,'Maturity Levels'!B:C,2,0),0) -> 1 | Q77: =_xlfn.IFNA(VLOOKUP(O77,'Maturity Levels'!B:C,2,0),0) -> 1 | R77: =P77 -> 1 | S77: =Q77 -> 1
D78: ID.RA-04: Vengono identificati e registrati gli impatti potenziali e le probabilità di exploiting delle vulnerabilità da parte delle minacce. | E78: Ex1: I leader del business e i professionisti della gestione del rischio di cybersecurity collaborano per stimare la probabilità e l'impatto degli scenari di rischio e li registrano nei registri dei rischi. Ex2: Enumerare i potenziali impatti aziendali di un accesso non autorizzato alle comunicazioni, ai sistemi e ai dati dell'organizzazione elaborati in o da tali sistemi. Ex3: Tenere conto dei potenziali impatti di guasti a cascata per i sistemi. | G78: Le vulnerabilità devono essere identificate e registrate, con particolare attenzione agli impatti potenziali e alla probabilità che tali vulnerabilità possano essere sfruttate dalle minacce. | H78: La registrazione e la valutazione delle vulnerabilità considerano sia l’impatto potenziale che la probabilità di exploiting delle minacce. Il processo deve prevedere un'adeguata prioritizzazione delle vulnerabilità e della valutazione dell’Impatto, della registrazione e della documentazione. | K78: X | N78: Level 1 - Initial | O78: Level 1 - Initial | P78: =_xlfn.IFNA(VLOOKUP(N78,'Maturity Levels'!B:C,2,0),0) -> 1 | Q78: =_xlfn.IFNA(VLOOKUP(O78,'Maturity Levels'!B:C,2,0),0) -> 1 | R78: =P78 -> 1 | S78: =Q78 -> 1
D79: ID.RA-05: Minacce, vulnerabilità, probabilità e impatti sono utilizzati per determinare il rischio e informare circa la prioritizzazione del rischio. | E79: Ex1: Sviluppare threat models per comprendere meglio i rischi per i dati e identificare risposte adeguate ai rischi. Ex2: Assegnare priorità all'allocazione delle risorse e agli investimenti in materia di cybersecurity in base alle probabilità e agli impatti stimati. | G79: L'organizzazione deve condurre valutazioni del rischio in cui il rischio è determinato da minacce, vulnerabilità e impatto sui processi aziendali e sugli asset. | H79: Tenere presente che le minacce sfruttano le vulnerabilità: identificare le conseguenze che le perdite di riservatezza, integrità e disponibilità possono avere sulle risorse e sui processi aziendali correlati. | I79: X | N79: Level 1 - Initial | O79: Level 1 - Initial | P79: =_xlfn.IFNA(VLOOKUP(N79,'Maturity Levels'!B:C,2,0),0) -> 1 | Q79: =_xlfn.IFNA(VLOOKUP(O79,'Maturity Levels'!B:C,2,0),0) -> 1 | R79: =AVERAGE(P79:P81) -> 1 | S79: =AVERAGE(Q79:Q81) -> 1
G80: L'organizzazione deve condurre e documentare valutazioni del rischio in cui il rischio è determinato da minacce, vulnerabilità, impatto sui processi aziendali e sulle risorse e dalla probabilità che si verifichino. | H80: La valutazione del rischio dovrebbe includere le minacce provenienti da soggetti interni ed esterni. Metodi di analisi del rischio qualitativi e/o quantitativi (MAPGOOD, ISO27005, CIS RAM, ecc…) possono essere utilizzati insieme agli strumenti software. | J80: X | N80: Level 1 - Initial | O80: Level 1 - Initial | P80: =_xlfn.IFNA(VLOOKUP(N80,'Maturity Levels'!B:C,2,0),0) -> 1 | Q80: =_xlfn.IFNA(VLOOKUP(O80,'Maturity Levels'!B:C,2,0),0) -> 1
G81: I risultati della valutazione del rischio devono essere condivisi con le parti interessate. | H81: Nessuna guida aggiuntiva su questo argomento. | K81: X | N81: Level 1 - Initial | O81: Level 1 - Initial | P81: =_xlfn.IFNA(VLOOKUP(N81,'Maturity Levels'!B:C,2,0),0) -> 1 | Q81: =_xlfn.IFNA(VLOOKUP(O81,'Maturity Levels'!B:C,2,0),0) -> 1
D82: ID.RA-06: Le risposte al rischio sono scelte tra le opzioni disponibili, classificate per priorità, pianificate, monitorate e comunicate. | E82: Ex1: Applicare i criteri del piano di gestione delle vulnerabilità per decidere se accettare, trasferire, mitigare o evitare il rischio. Ex2: Applicare i criteri del piano di vulnerability management per selezionare i controlli compensativi per mitigare il rischio. Ex3: Tracciare il progresso dell'implementazione della risposta al rischio (ad esempio, piano d'azione e tappe fondamentali [POA&M], registro dei rischi). Ex4: Utilizzare i risultati della risk assessment per informare le decisioni e le azioni di risposta al rischio. Ex5: Comunicare le risposte al rischio pianificate alle parti interessate in ordine di priorità. | G82: Deve essere sviluppata e implementata una strategia completa per gestire i rischi per i sistemi critici dell'organizzazione, che includa l'identificazione e la definizione delle priorità delle risposte al rischio. | H82: La dirigenza e i dipendenti dovrebbero essere coinvolti nella sicurezza informatica e delle informazioni. Dovrebbe essere identificato quali sono le risorse più importanti e come vengono protette, chiarito quale sarà l'impatto se queste risorse vengono compromesse e stabilito come verrà organizzata l'implementazione di misure di mitigazione adeguate. | J82: X | N82: Level 1 - Initial | O82: Level 1 - Initial | P82: =_xlfn.IFNA(VLOOKUP(N82,'Maturity Levels'!B:C,2,0),0) -> 1 | Q82: =_xlfn.IFNA(VLOOKUP(O82,'Maturity Levels'!B:C,2,0),0) -> 1 | R82: =P82 -> 1 | S82: =Q82 -> 1
D83: ID.RA-07: Le modifiche e le eccezioni sono gestite, valutate per l'impatto sul rischio, registrate e tracciate. | E83: Ex1: Implementare e seguire le procedure per la documentazione formale, la revisione, il test e l'approvazione delle modifiche proposte e delle eccezioni richieste. Ex2: Documentare i possibili rischi legati all'esecuzione o meno di ogni modifica proposta e fornire una guida per l'annullamento delle modifiche. Ex3: Documentare i rischi legati a ogni eccezione richiesta e il piano per rispondere a tali rischi. Ex4: Rivedere periodicamente i rischi che sono stati accettati sulla base di azioni o tappe future pianificate. | G83: L'organizzazione deve implementare un processo per gestire, valutare, registrare e tracciare tutte le modifiche e le eccezioni relative ai sistemi e alle politiche di sicurezza, assicurando che ogni cambiamento sia analizzato per il suo impatto sul rischio di cybersecurity. | H83: Nessuna guida aggiuntiva su questo argomento. | K83: X | N83: Level 1 - Initial | O83: Level 1 - Initial | P83: =_xlfn.IFNA(VLOOKUP(N83,'Maturity Levels'!B:C,2,0),0) -> 1 | Q83: =_xlfn.IFNA(VLOOKUP(O83,'Maturity Levels'!B:C,2,0),0) -> 1 | R83: =P83 -> 1 | S83: =Q83 -> 1
D84: ID.RA-08: Sono stabiliti processi per ricevere, analizzare e rispondere alle segnalazioni di vulnerabilità. | E84: Ex1: Condurre la condivisione delle informazioni sulla vulnerabilità tra l'organizzazione e i suoi fornitori seguendo le regole e i protocolli definiti nei contratti. Ex2: Assegnare le responsabilità e verificare l'esecuzione delle procedure per l'elaborazione, l'analisi dell'impatto e la risposta alle rivelazioni di minacce, vulnerabilità o incidenti di cybersecurity da parte di fornitori, clienti, partner e organizzazioni governative di cybersecurity. | F84: X | G84: L'organizzazione deve implementare processi e procedure di gestione delle vulnerabilità che includano l'elaborazione, l'analisi e la correzione delle vulnerabilità da fonti interne ed esterne. | H84: Le fonti interne ed esterne potrebbero essere, ad esempio, test interni, bollettini sulla sicurezza o ricercatori sulla sicurezza. | J84: X | N84: Level 1 - Initial | O84: Level 4 - Managed | P84: =_xlfn.IFNA(VLOOKUP(N84,'Maturity Levels'!B:C,2,0),0) -> 1 | Q84: =_xlfn.IFNA(VLOOKUP(O84,'Maturity Levels'!B:C,2,0),0) -> 4 | R84: =AVERAGE(P84:P85) -> 1 | S84: =AVERAGE(Q84:Q85) -> 2.5
G85: L'organizzazione deve implementare meccanismi automatizzati per diffondere e tracciare gli sforzi di correzione per le informazioni sulle vulnerabilità, acquisite da fonti interne ed esterne, alle principali parti interessate. | H85: Nessuna guida aggiuntiva su questo argomento. | K85: X | N85: Level 1 - Initial | O85: Level 1 - Initial | P85: =_xlfn.IFNA(VLOOKUP(N85,'Maturity Levels'!B:C,2,0),0) -> 1 | Q85: =_xlfn.IFNA(VLOOKUP(O85,'Maturity Levels'!B:C,2,0),0) -> 1
D86: ID.RA-09: L'autenticità e l'integrità di hardware e software sono valutate prima dell'acquisizione e dell'uso. | E86: Ex1: Valutare l'autenticità e la cybersecurity di prodotti e servizi tecnologici critici prima dell'acquisizione e dell'uso. | G86: L'organizzazione deve implementare controlli di integrità hardware per rilevare manomissioni non autorizzate all'hardware del suo sistema critico. | H86: I meccanismi di controllo dell'integrità più avanzati (ad esempio controlli di parità, controlli di ridondanza ciclici, hash crittografici) e gli strumenti associati possono monitorare automaticamente l'integrità dei sistemi informativi e delle applicazioni ospitate. | K86: X | N86: Level 2 - Repeatable | O86: Level 4 - Managed | P86: =_xlfn.IFNA(VLOOKUP(N86,'Maturity Levels'!B:C,2,0),0) -> 2 | Q86: =_xlfn.IFNA(VLOOKUP(O86,'Maturity Levels'!B:C,2,0),0) -> 4 | R86: =AVERAGE(P86:P87) -> 2 | S86: =AVERAGE(Q86:Q87) -> 3.5
G87: L'organizzazione deve integrare il rilevamento di manomissioni non autorizzate all'hardware del suo sistema critico nelle capacità di risposta agli incidenti dell'organizzazione. | H87: Nessuna guida aggiuntiva su questo argomento. | K87: X | N87: Level 2 - Repeatable | O87: Level 3 - Defined | P87: =_xlfn.IFNA(VLOOKUP(N87,'Maturity Levels'!B:C,2,0),0) -> 2 | Q87: =_xlfn.IFNA(VLOOKUP(O87,'Maturity Levels'!B:C,2,0),0) -> 3
E88: Ex1: Condurre valutazioni del rischio dei fornitori rispetto ai requisiti aziendali e di cybersecurity applicabili, inclusa la supply chain. | G88: L'organizzazione deve condurre valutazioni del rischio cyber della supply chain almeno una volta all'anno o quando si verifica una modifica ai sistemi critici, all'ambiente operativo o alla supply chain dell'organizzazione; tali valutazioni devono essere documentate e i risultati devono essere diffusi alle parti interessate, compresi i responsabili dei sistemi ICT/OT. | H88: L'assessment dovrebbe identificare e stabilire le priorità dei potenziali impatti negativi sull'organizzazione derivanti dai rischi associati alla natura distribuita e interconnessa della supply chain di prodotti e servizi ICT/OT. | J88: X | N88: Level 1 - Initial | O88: Level 1 - Initial | P88: =_xlfn.IFNA(VLOOKUP(N88,'Maturity Levels'!B:C,2,0),0) -> 1 | Q88: =_xlfn.IFNA(VLOOKUP(O88,'Maturity Levels'!B:C,2,0),0) -> 1 | R88: =P88 -> 1 | S88: =Q88 -> 1
C89: Improvement (ID.IM): I miglioramenti ai processi e alle attività di gestione del rischio di cybersecurity dell'organizzazione sono identificati in tutte le Funzioni del Framework. | D89: ID.IM-01: Viene effettuata una valutazione continua per identificare i miglioramenti. | E89: Ex1: Eseguire self-assessments dei servizi critici che tengano conto delle minacce e dei TTP attuali. Ex2: Investire in valutazioni di terze parti o in audit indipendenti dell'efficacia del programma di cybersecurity dell'organizzazione per identificare le aree che necessitano di miglioramento. Ex3: Valutare costantemente la conformità ai requisiti di cybersecurity selezionati attraverso strumenti automatizzati. | G89: L'organizzazione deve eseguire una valutazione continua per identificare e implementare opportunità di miglioramento nella sicurezza informatica. | H89: L'organizzazione deve condurre assessment periodici per idenitificare, pianificare ed implementare miglioramenti nelle pratiche di cybersecurity. L’obiettivo è garantire che le misure di sicurezza siano sempre aggiornate e ottimizzate per affrontare le minacce emergenti e migliorare continuamente la protezione dei sistemi e delle informazioni. | K89: X | N89: Level 1 - Initial | O89: Level 1 - Initial | P89: =_xlfn.IFNA(VLOOKUP(N89,'Maturity Levels'!B:C,2,0),0) -> 1 | Q89: =_xlfn.IFNA(VLOOKUP(O89,'Maturity Levels'!B:C,2,0),0) -> 1 | R89: =P89 -> 1 | S89: =Q89 -> 1 | T89: =AVERAGE(R89:R105) -> 1.5757576 | U89: =AVERAGE(S89:S105) -> 2.3409091
D90: ID.IM-02: Vengono condotti test ed esercitazioni di sicurezza, anche in coordinamento con i fornitori e le terze parti interessate, per identificare i miglioramenti. | E90: Ex1: Identificare miglioramenti per le future attività di risposta agli incidenti sulla base dei risultati degli assessment di incident response (ad esempio, esercitazioni e simulazioni tabletop, test, revisioni interne, audit indipendenti). Ex2: Individuare miglioramenti per le future attività di business continuity, disaster recovery, e incident response sulla base di esercitazioni eseguite in coordinamento con fornitori di servizi e prodotti critici. Ex3: Coinvolgere gli stakeholder interni (ad esempio, dirigenti, ufficio legale, risorse umane) nei test e nelle esercitazioni di sicurezza, se necessario. Ex4: Eseguire penetration testing per identificare le opportunità di migliorare la security posture di sistemi selezionati ad alto rischio. Ex5: Esercitare piani di emergenza per rispondere e riprendersi dalla scoperta che i prodotti o i servizi non provengono dal fornitore o dal partner contrattuale o sono stati alterati prima di essere ricevuti. Ex6: Raccogliere e analizzare le metriche di performance utilizzando strumenti e servizi di sicurezza per informare i miglioramenti del programma di cybersecurity. | G90: L'organizzazione deve identificare e documentare il personale chiave di fornitori e Terze Parti per includerli come stakeholders nelle attività di test e esecuzione dei piani di risposta e ripristino. | H90: Nessuna guida aggiuntiva su questo argomento. | K90: X | N90: Level 2 - Repeatable | O90: Level 3 - Defined | P90: =_xlfn.IFNA(VLOOKUP(N90,'Maturity Levels'!B:C,2,0),0) -> 2 | Q90: =_xlfn.IFNA(VLOOKUP(O90,'Maturity Levels'!B:C,2,0),0) -> 3 | R90: =AVERAGE(P90:P91) -> 2 | S90: =AVERAGE(Q90:Q91) -> 3
G91: L'organizzazione deve convalidare che i processi di rilevamento degli eventi funzionino come previsto. | H91: La convalida include i test e deve essere dimostrabile. | J91: X | N91: Level 2 - Repeatable | O91: Level 3 - Defined | P91: =_xlfn.IFNA(VLOOKUP(N91,'Maturity Levels'!B:C,2,0),0) -> 2 | Q91: =_xlfn.IFNA(VLOOKUP(O91,'Maturity Levels'!B:C,2,0),0) -> 3
D92: ID.IM-03: Le lezioni apprese durante l'esecuzione di processi, procedure e attività operative vengono utilizzate per identificare miglioramenti. | E92: Ex1: Condurre sessioni collaborative di lessons learned con i fornitori. Ex2: Rivedere annualmente le politiche, i processi e le procedure di cybersecurity per tenere conto delle lezioni apprese. Ex3: Utilizzare metriche per valutare le prestazioni operative di cybersecurity nel tempo. | G92: L'organizzazione deve aggiornare i piani di risposta e ripristino per far fronte ai cambiamenti nel suo contesto. | H92: Il contesto dell’organizzazione è correlato alla struttura organizzativa, ai suoi sistemi critici, ai vettori di attacco, alle nuove minacce, alla tecnologia migliorata, all’ambiente operativo, ai problemi riscontrati durante l’implementazione/esecuzione/test del piano e alle lezioni apprese. | J92: X | N92: Level 3 - Defined | O92: Level 4 - Managed | P92: =_xlfn.IFNA(VLOOKUP(N92,'Maturity Levels'!B:C,2,0),0) -> 3 | Q92: =_xlfn.IFNA(VLOOKUP(O92,'Maturity Levels'!B:C,2,0),0) -> 4 | R92: =AVERAGE(P92:P102) -> 1.6363636 | S92: =AVERAGE(Q92:Q102) -> 2.3636364
G93: L'organizzazione deve condurre valutazioni post-incidente per analizzare le lezioni apprese dalla risposta e dal ripristino degli incidenti e, di conseguenza, migliorare processi/procedure/tecnologie per aumentare la propria resilienza informatica. | H93: Si consiglia di riunire le persone coinvolte dopo ogni incidente e di riflettere insieme su come migliorare quanto accaduto, come è accaduto, come si reagisce, come sarebbe potuto andare meglio, cosa si dovrebbe fare per evitare che accada di nuovo, ecc... | I93: X | N93: Level 3 - Defined | O93: Level 4 - Managed | P93: =_xlfn.IFNA(VLOOKUP(N93,'Maturity Levels'!B:C,2,0),0) -> 3 | Q93: =_xlfn.IFNA(VLOOKUP(O93,'Maturity Levels'!B:C,2,0),0) -> 4
G94: Le lezioni apprese dalla gestione degli incidenti devono essere tradotte in procedure di gestione degli incidenti aggiornate o nuove, che devono essere testate, approvate e formate. | H94: Nessuna guida aggiuntiva su questo argomento. | J94: X | N94: Level 2 - Repeatable | O94: Level 2 - Repeatable | P94: =_xlfn.IFNA(VLOOKUP(N94,'Maturity Levels'!B:C,2,0),0) -> 2 | Q94: =_xlfn.IFNA(VLOOKUP(O94,'Maturity Levels'!B:C,2,0),0) -> 2
G95: I miglioramenti derivanti dal monitoraggio, dalla misurazione, dalla valutazione, dai test, dalla revisione e dalle lezioni apprese devono essere incorporati nelle revisioni del processo di rilevamento. | H95: Ciò si traduce in un miglioramento continuo dei processi di rilevamento: si potrebbe prendere in considerazione l'uso di team indipendenti per valutare il processo di rilevamento. | J95: X | N95: Level 1 - Initial | O95: Level 1 - Initial | P95: =_xlfn.IFNA(VLOOKUP(N95,'Maturity Levels'!B:C,2,0),0) -> 1 | Q95: =_xlfn.IFNA(VLOOKUP(O95,'Maturity Levels'!B:C,2,0),0) -> 1
G96: L'organizzazione deve condurre valutazioni specializzate, tra cui monitoraggio approfondito, scansione delle vulnerabilità, test degli utenti malintenzionati, valutazione delle minacce interne, test delle prestazioni/del carico e test di verifica e convalida sui sistemi critici dell'organizzazione. | H96: Queste attività possono essere esternalizzate, preferibilmente ad organizzazioni accreditate. | K96: X | N96: Level 3 - Defined | O96: Level 4 - Managed | P96: =_xlfn.IFNA(VLOOKUP(N96,'Maturity Levels'!B:C,2,0),0) -> 3 | Q96: =_xlfn.IFNA(VLOOKUP(O96,'Maturity Levels'!B:C,2,0),0) -> 4
G97: L'organizzazione deve collaborare e condividere le informazioni sugli incidenti di sicurezza correlati ai suoi sistemi critici e sulle misure di mitigazione con partner designati. | H97: Nessuna guida aggiuntiva su questo argomento. | J97: X | N97: Level 1 - Initial | O97: Level 4 - Managed | P97: =_xlfn.IFNA(VLOOKUP(N97,'Maturity Levels'!B:C,2,0),0) -> 1 | Q97: =_xlfn.IFNA(VLOOKUP(O97,'Maturity Levels'!B:C,2,0),0) -> 4
G98: La comunicazione dell'efficacia delle tecnologie di protezione deve essere condivisa con le parti appropriate. | H98: Nessuna guida aggiuntiva su questo argomento. | J98: X | N98: Level 1 - Initial | O98: Level 2 - Repeatable | P98: =_xlfn.IFNA(VLOOKUP(N98,'Maturity Levels'!B:C,2,0),0) -> 1 | Q98: =_xlfn.IFNA(VLOOKUP(O98,'Maturity Levels'!B:C,2,0),0) -> 2
G99: L'organizzazione deve implementare, ove possibile, meccanismi automatizzati per facilitare la collaborazione sulle informazioni. | H99: Nessuna guida aggiuntiva su questo argomento. | J99: X | N99: Level 1 - Initial | O99: Level 2 - Repeatable | P99: =_xlfn.IFNA(VLOOKUP(N99,'Maturity Levels'!B:C,2,0),0) -> 1 | Q99: =_xlfn.IFNA(VLOOKUP(O99,'Maturity Levels'!B:C,2,0),0) -> 2
G100: L'organizzazione deve integrare i miglioramenti derivanti dal monitoraggio, dalle misurazioni, dalle valutazioni e dalle lezioni apprese negli aggiornamenti del processo di protezione (miglioramento continuo). | H100: Nessuna guida aggiuntiva su questo argomento. | J100: X | N100: Level 1 - Initial | O100: Level 1 - Initial | P100: =_xlfn.IFNA(VLOOKUP(N100,'Maturity Levels'!B:C,2,0),0) -> 1 | Q100: =_xlfn.IFNA(VLOOKUP(O100,'Maturity Levels'!B:C,2,0),0) -> 1
G101: L'organizzazione deve implementare team indipendenti per valutare i processi di protezione. | H101: I team indipendenti, ad esempio, possono includere personale imparziale interno o esterno. L'imparzialità implica che i valutatori siano liberi da qualsiasi conflitto di interessi, percepito o reale, in merito allo sviluppo, al funzionamento o alla gestione del sistema critico dell'organizzazione in fase di valutazione o alla determinazione dell'efficacia del controllo di sicurezza. | K101: X | N101: Level 1 - Initial | O101: Level 1 - Initial | P101: =_xlfn.IFNA(VLOOKUP(N101,'Maturity Levels'!B:C,2,0),0) -> 1 | Q101: =_xlfn.IFNA(VLOOKUP(O101,'Maturity Levels'!B:C,2,0),0) -> 1
...

Sheet Remediation Proposal
A2: Vista 1 | G2: Vista 2
A3: Capability | B3: Action | C3: Piano di remediation | D3: Efficacia | E3: Complessità | G3: Livello di complessità | H3: Iniziative di remediation proposte | I3: Delta di copertura
A4: End-Point Security | B4: Installazione degli agent IBMQRadar // BitDefender sugli endpoint Installazione dell’agent Splunk sugli endpoint Installazione di agent SIEM e XSOAR Policy di sicurezza per la gestione degli endpoint Policy per la gestione dati sensibili e vulnerabilità su endpoint Implementazione EDR Implementazione Antivirus Software patching Implementazione di BitLocker e o FileVault per la cifratura dati | C4: Documentali: Stesura di policy di sicurezza per gli endpoint che definiscano chiaramente l'uso dei dispositivi aziendali, le modalità di protezione e gestione dei dispositivi. Definire i criteri per la gestione delle vulnerabilità dei dispositivi Documentare il piano di aggiornamento e patch management per i dispositivi. Implementativi: Implementare software antivirus e anti-malware su tutti gli endpoint, assicurando che siano configurati per eseguire scansioni regolari e che gli aggiornamenti automatici siano abilitati. Implementare un processo regolare di gestione delle patch per garantire che tutti i sistemi operativi e le applicazioni siano aggiornati tempestivamente, inclusi eventuali aggiornamenti di sicurezza critici.Cifrare i dati a riposo e in transito su tutti gli endpoint aziendali per proteggere i dati sensibili da accessi non autorizzati, utilizzando soluzioni di crittografia avanzata .Implementare una soluzione EDR centralizzata per monitorare e rispondere alle minacce sugli endpoint. | D4: VERRA' ASSEGNATO UN PUNTEGGIO RELATIVO ALLA CAPABILITY | E4: VERRA' ASSEGNATO UN PUNTEGGIO RELATIVO ALLA CAPABILITY | G4: 1 | H4: VERRANNO INSERITE LE ACTION DI PIU' FACILE IMPLEMENTAZIONE IN GRADO DI GENERARE UN IMPATTO MAGGIORE SUL PIANO PIANO DELLA SICUREZZA E IN TERMINI DI COMPLIANCE CON LA NORMATIVA NIST2
A5: Network Security | B5: Implemwntazioni di strumenti per la scansione continua delle vulnerabilità (Es. Nessus, Acunetix, BurbSuite, Owasp Zap) In caso di presenza di ambienti Cloud, implementazione di tool specifici (Es. AWS Inspector, Ms Defender, Palo Alto, Prisma Cloud Implementazione DMZ, VLAN Rivedere e aggiornare le configurazioni dei firewall e degli IPS SIEM implementation Policy di sicurezza per la rete aziendale Policy per la regolamentazione dell'accesso alla rete Policy per l'identificazione, la mitigazione e la comunicazione degli incidenti di rete. Segmentazione di rete Implementazione dell'NDR Implementazione di Akamai ( o soluzioni complementari) Implementazione del SIEM | C5: Documentali: Definire una policy di sicurezza per la rete aziendale che stabilisca linee guida e controlli per l’accesso, la protezione dei dati in transito, il monitoraggio e la gestione delle vulnerabilità. Segmentare la rete aziendale per isolare sistemi e applicazioni critiche da quelli non critici, limitando l'accesso e creando zone sicure. Configurare un sistema di logging centralizzato per raccogliere, archiviare e analizzare i log di rete in tempo reale, garantendo un'individuazione tempestiva degli incidenti. Stesura di linee guida per il monitoraggio del traffico e degli apparati di rete. Stesura di policy per la regolamentazione dell’accesso alla rete. Stesura di linee guida per la scansione regolare delle vulnerabilità e la mitigazione. Stesura di regole per la conservazione e l’analisi dei log di rete. Procedure per identificare, contenere, risolvere e comunicare incidenti di sicurezza legati alla rete. Stesura di linee guida per l’applicazione di aggiornamenti ai dispositivi di rete. Implementativi: Implementare firewall interni ed esterni tra le diverse zone di rete per applicare controlli granulari e limitare il traffico non autorizzato. Backup regolari di configurazioni di firewall. Implementazione di sistemi per rilevare e bloccare attività sospette. Implementazione di sistemi di monitoraggio continuo (NDR - Network Detection and Response). Implementazione di soluzioni per mitigare attacchi distribuiti di negazione del servizio (es. Cloudflare, Akamai), Integrazione di log di rete in un sistema SIEM per correlazioni e automazione della risposta. Implementazione di VLAN, Configurazione di VPN per l’accesso remoto sicuro e crittografia end-to-end, scansione vulnerabilità (Qualys), Configurazione di backup automatici per i dispositivi critici, Esecuzione regolare di test per verificare le difese della rete | D5: VERRA' ASSEGNATO UN PUNTEGGIO RELATIVO ALLA CAPABILITY | E5: VERRA' ASSEGNATO UN PUNTEGGIO RELATIVO ALLA CAPABILITY | G5: 2 | H5: VERRANNO INSERITE LE ACTION CON UNA COMPLESSITA' DI IMPLEMENTAZIONE MEDIA
A6: Server Security | B6: Implemwntazioni di strumenti per la scansione continua delle vulnerabilità (Es. Nessus, Acunetix, BurbSuite, Owasp Zap) In caso di presenza di ambienti Cloud, implementazione di tool specifici (Es. AWS Inspector, Ms Defender, Palo Alto, Prisma Cloud Configurazione regole Firewall Policy per il provisioning, il patching e la dismissione sicura dei server. Policy per la configurazione sicura dei sistemi operativi e delle applicazioni Eseguire il hardening dei server secondo best practice Automatizzare i test dei backup e verificarne l'integrità Implementare un sistema PAM per la gestione degli accessi privilegiati. | C6: Documentali: Stesura di policy per il provisioning, il patching e la dismissione sicura dei server. Stesura di Policy per la configurazione sicura dei sistemi operativi e delle applicazioni. Stesura di linee guida per il rilevamento e la mitigazione di vulnerabilità nei server. Documentazione per piani di Incident Response, Disaster Recovery e ripristino dei server, RTO e RPO, Linee guida dettagliate per la configurazione iniziale dei server, Workflow per l’installazione e la verifica delle patch sui server, Regole operative per eseguire e testare backup periodici, Dettagli su come creare, aggiornare e dismettere le credenziali degli account server, eport di eventi critici, accessi non autorizzati e attività sospette, Vulnerabilità identificate e stato della loro mitigazione Implementativi: Soluzioni di protezione endpoint per rilevare e mitigare malware sui server (es. CrowdStrike, Microsoft Defender for Servers), Configurazione di firewall per server con regole personalizzate, Configurazione sicura dei sistemi operativi seguendo linee guida (es. CIS Benchmarks), Configurazione di crittografia per dati a riposo (BitLocker, LUKS) e in transito (TLS), Implementare un sistema di gestione degli accessi privilegiati (PAM), Automatizzare il monitoraggio degli accessi ai server e configurare alert per attività sospette | D6: VERRA' ASSEGNATO UN PUNTEGGIO RELATIVO ALLA CAPABILITY | E6: VERRA' ASSEGNATO UN PUNTEGGIO RELATIVO ALLA CAPABILITY | G6: 3 | H6: VERRANNO INSERITE LE ACTION DI MAGGIORE COMPLESSITA'
A7: Data Security | B7: "Rapporto di valutazione del rischio cyber della supply chain" "Registro dei rischi della supply chain" "Piano di mitigazione del rischio" "Rapporto di conformità alla normativa e agli standard" Classificazione tramite documentazione dei dati aziendali in base alla loro sensibilità )es. dati personali. aziendali, finanziari, IP) con mappatura dei flussi dati (es. trasferimenti non sicuri etc..) definizione di una data governance policy (ruoli e responsabilità sulla protezione dati, politiche di conservazione e cancellazione) crittografgia dei dati totale (archiviati e in transito) Controllo degli accessi tramite software di identity and access management Backup regolari Firewall di protezione come IDS/IPS Monitoraggio e rilevazione delle minacce (SIEM, DLP) Formazione e sensibilizzazione del personale (sicurezza dati e riconoscimento phishing) Creazione di un piano di risposta agli incidenti (IRP) specifico per la sicurezza dati | C7: Documentali: Policy di accesso ai dati basata sui ruoli (RBAC - Role-Based Access Control), Policy per la gestione del ciclo di vita dei dati, Regole per la classificazione dei dati (es. confidenziale, riservato, pubblico), Standard per l’uso di strumenti DLP per monitorare e prevenire fughe di dati, Linee guida per la frequenza e la conservazione dei backup, RTO e RPO, Documentazione che garantisca l’allineamento con normative come GDPR, ISO 27001, ecc, Regole per la conservazione e l’analisi dei log relativi all’accesso ai dati e alle attività sui dati, Linee guida dettagliate per i backup regolari e i test di ripristino, Requisiti per l’implementazione e la gestione delle chiavi crittografiche (es. PKI), Piani di risposta a violazioni di dati o fughe di informazioni, Workflow per verificare regolarmente chi ha accesso ai dati sensibili, Report regolari sull’accesso ai dati sensibili. Creare un piano di formazione per sensibilizzare i dipendenti sulla gestione sicura dei dati. Implementativi: Strumenti per prevenire la fuga di dati (es. Symantec DLP, Microsoft Purview), Implementazione della crittografia per dati a riposo (es. AES-256) e in transito (es. TLS/SSL), Implementazione di sistemi PKI o soluzioni come AWS KMS o HashiCorp Vault (gestione chiavi crittografiche), Configurazione di backup offsite e protetti da crittografia, Controllo degli accessi basato sui ruoli (RBAC), Strumenti per il controllo e il monitoraggio degli accessi privilegiati, Abilitazione di MFA per l’accesso a sistemi che gestiscono dati sensibili, Integrazione dei log relativi ai dati in un sistema SIEM per analisi e risposta, Strumenti per monitorare modifiche non autorizzate a file critici, Simulazioni di attacchi per valutare la sicurezza dei dati, Verifica periodica dei backup per garantire tempi di ripristino accettabili, Strumenti per mappare i dati alle normative (es. BigID, OneTrust), Tecnologie per identificare e tracciare la posizione dei dati sensibili. Automatizzare i processi di data retention e cancellazione sicura dei dati obsoleti. | D7: VERRA' ASSEGNATO UN PUNTEGGIO RELATIVO ALLA CAPABILITY | E7: VERRA' ASSEGNATO UN PUNTEGGIO RELATIVO ALLA CAPABILITY
A8: Identity & Access Mgmt | B8: Policy per la categorizzazione degli eventi di sicurezza Policy relativa alla revisione periodica del processo di gestione del rischio (es. ogni 6 mesi) Controllo degli accessi privilegiati. Autenticazione Multifattoriale Policy gestione delle password PAM adoption Integrazione IAM con HR | C8: Documentali: Policy per la creazione, la modifica, il monitoraggio e la revoca degli accessi degli utenti. Adottare politiche per la gestione delle password che includano requisiti di complessità. rocedure per la gestione delle credenziali (es. password, chiavi SSH Implementativi: Implementare una gestione degli accessi basata sul principio del "minimo privilegio" . Adottare sistemi di autenticazione multifattoriale per accedere ai sistemi critici.Utilizzare strumenti di gestione delle credenziali privilegiate (Privileged Access Management - PAM) per proteggere e monitorare l’accesso a sistemi e applicazioni critiche.Integrare il sistema IAM con il sistema di gestione delle risorse umane (HR) per automatizzare il ciclo di vita delle identità e degli accessi, garantendo coerenza e tempestività nelle modifiche degli accessi. | D8: VERRA' ASSEGNATO UN PUNTEGGIO RELATIVO ALLA CAPABILITY | E8: VERRA' ASSEGNATO UN PUNTEGGIO RELATIVO ALLA CAPABILITY
A9: Security Governance | B9: Policy per la regolamentazione del processo di valutazione iniziale dei fornitori e delle terze parti Registro fornitori Policy relativa alla definizione dei ruoli e responsabilità, e relativi piani di reporting verso i focal point relativamente agli esiti dei test di penetrazione e alla convalida delle misure di sicurezza. Creazione di un comitanto di governance della sicurezza Piano di risposta agli incidenti (IRP) Definizione di un piano di KPI e reporting Automatizzazione del sitema di deprovisioning degli accessi. Accesso alle applicazioni tramite Single Sign On (SSO) Ricertificazione degli accessi. | C9: Documentali: Policy relativa alla definizione dei ruoli e delle responsabilità in ambito sicurezza, inclusi i responsabili della sicurezza, la gestione del rischio e la supervisione della compliance. Rivedere e aggiornare i contratti con i fornitori per includere clausole specifiche relative alla sicurezza delle informazioni, alla gestione dei dati sensibili e alla gestione delle vulnerabilità. Sviluppo di un piano di risposta agli incidenti che includa procedure chiare su come rilevare, rispondere e mitigare gli incidenti di sicurezza.Definire e monitorare metriche chiave di prestazione (KPI) relative alla sicurezza, come il tempo medio di risposta agli incidenti, il numero di vulnerabilità risolte, ecc.Policy per regolamentare Policy per la ricertificazione degli accessi. Implementativi: Istituire un comitato di governance della sicurezza che includa rappresentanti delle principali funzioni aziendali (IT, legale, HR, compliance, ecc.) e responsabili della sicurezza (CISO, responsabili della protezione dei dati, ecc.).Condurre valutazioni del rischio regolari per identificare, analizzare e mitigare i rischi per la sicurezza, tenendo conto di minacce emergenti, vulnerabilità, impatti potenziali e probabilità di occorrenza.Implementare processi di monitoraggio continuo per rilevare e rispondere ai rischi in tempo reale.Implementare un processo formale di gestione dei fornitori che assicuri che i partner esterni e i fornitori rispettino le normative. Monitoraggio KPI e Metriche.Implementare soluzioni di Single Sign-On (SSO) per migliorare la gestione degli accessi, semplificare l’esperienza dell'utente e migliorare la sicurezza. | D9: VERRA' ASSEGNATO UN PUNTEGGIO RELATIVO ALLA CAPABILITY | E9: VERRA' ASSEGNATO UN PUNTEGGIO RELATIVO ALLA CAPABILITY
A10: Business continuity | B10: Risk analysis Policy relativa alla business continuity Valutazione dell'impatto aziendale (BIA) Piani di «Incident Response» Piani di «Incident Recovery e Disaster Recovery» Policy relativa alla business continuity (BCP) Backup continui Anti DDoS | C10: Documentali:Policy per l'identificazione, la valutazione e classificazione dei rischi che potrebbero impattare la continuità operativa, Determinare l’impatto di eventuali interruzioni delle operazioni aziendali e stabilire priorità per i processi aziendali critici. Creare e documentare un piano di continuità operativa che definisca le azioni necessarie per mantenere o ripristinare le funzioni aziendali critiche in caso di interruzione. Sviluppare un piano specifico per il recupero delle informazioni e delle tecnologie, che consenta di tornare rapidamente operativi dopo un disastro. Definire le procedure per la gestione degli incidenti. ntegrare il piano di business continuity con la gestione della sicurezza informatica per rispondere tempestivamente a incidenti come attacchi DDoS, violazioni dei dati o compromissioni di sistemi, che potrebbero avere impatti diretti sulla continuità aziendale. Implementativi: Garantire che i dati aziendali critici vengano regolarmente sottoposti a backup e siano conservati in ambienti sicuri(backup dei dati, ripristino dei sistemi IT, recupero delle applicazioni critiche) | D10: VERRA' ASSEGNATO UN PUNTEGGIO RELATIVO ALLA CAPABILITY | E10: VERRA' ASSEGNATO UN PUNTEGGIO RELATIVO ALLA CAPABILITY

Sheet Gap Analysis
D1: Per implementare il piano di remediation è necessario creare una unica policy della normativa, necessario sviluppare che regoli alcuni processi all interno dell azienda, il dettaglio delle policies proposte sono: - supply chain…etc.
A2: TITOLO DELLA REMEDIATION | B2: OGGETTO DELLA REMEDIATION | C2: DELTA DI COPERTURA | D2: next step: call con pedrotti domani alle 12.00
A3: Framework di Policy per la gestione del Rischio, Continuità operativa e la Sicurezza nella Supply Chain ICT/OT | B3: Dotarsi delle policy specifiche che vadano a regolamentare i processi identificazione, valutazione e mitigazione dei rischi associati alla supply chain di prodotti e servizi ICT/OT. Policy relativa alla alutazione, prioritizzazione, mitigazione e monitoraggio continuo della vulnerabilità e dei rischi associati. Policy relativa alla revisione periodica del processo di gestione del rischio (es. ogni 6 mesi). Policy specifica che in caso di guasti o interruzioni indichi la direzione da prendere per garantire la continuità operativa dell’organizzazione. Documentazione nella quale sono definiti gli obiettivi relativi al tempo di ripristino e al punto di ripristino per la ripresa dei processi essenziali dei sistemi ICT/OT. Linee guida relative alle azioni correttive da intraprendere in caso di incidenti di sicurezza. Documentazione specifica relativa a piani di «Incident Response e Business Continuity», e «Incident Recovery e Disaster Recovery». | C3: Cybersecurity Supply Chain Risk Management Business continuity Risk Management Strategy Policies, Processes, and Procedures Incident Analysis Risk Assessment Organizational Contex Adverse Event Analysis

Sheet Sheet4
A1: BUSINESS CONTINUITY AZZURRO FORNITORI ROSA
A2: FUNZIONE | B2: CATEGORIA | C2: SOTTO-CATEGORIA | D2: ESEMPI DI IMPLEMENTAZIONE | E2: REQUISITO CHIAVE | F2: REQUISITO | G2: GUIDA | H2: BASIC | I2: IMPORTANT | J2: ESSENTIAL | K2: DATA INTERVISTA | L2: REFERENTE INTERVISTATO | M2: MATURITY DOCUMENTALE | N2: MATURITY IMPLEMENTATIVA | O2: DOCUMENTATION SCORE | P2: DOCUMENTATION SCORE | Q2: SUBCATEGORY DOCUMENTATION MATURITY SCORE | R2: SUBCATEGORY IMPLEMENTATION MATURITY SCORE | S2: CATEGORY DOCUMENTATION MATURITY SCORE | T2: CATEGORY IMPLEMENTATION MATURITY SCORE | U2: OUTCOME | V2: TECNOLOGIE A SUPPORTO | W2: NOTE
A3: GOVERN (GV): Le strategie, le aspettative e le policy di gestione del rischio cyber dell'organizzazione sono stabilite, comunicate e monitorate. | B3: Organizational Context (GV.OC): Le circostanze - mission, aspettative degli stakeholder e requisiti legali, normativi e contrattuali - che riguardano le decisioni dell'organizzazione in materia di gestione del rischio di cybersecurity sono ben comprese. | C3: GV.OC-01: La mission dell'organizzazione è compresa ed orientata alla gestione del rischio di cybersicurezza. | D3: Ex1: condividere la mission dell'organizzazione (ad esempio, attraverso dichiarazioni di visione e mission, marketing e strategie di servizio) per fornire una base identificativa dei rischi che potrebbero ostacolare tale mission. | F3: La posizione dell'organizzazione all'interno delle infrastrutture critiche e del settore industriale di appartenenza deve essere individuata e comunicata chiaramente. | G3: L'organizzazione coperta dalla Direttiva NIS 2 ha la responsabilità di conoscere le altre organizzazioni dello stesso settore per poter collaborare con loro al raggiungimento degli obiettivi stabiliti dalla NIS 2 per quel particolare settore. | I3: X | M3: Level 1 - Initial | N3: Level 2 - Repeatable | O3: =_xlfn.IFNA(VLOOKUP(M3,'Maturity Levels'!A:B,2,0),0) -> 0 | P3: =_xlfn.IFNA(VLOOKUP(N3,'Maturity Levels'!A:B,2,0),0) -> 0 | Q3: =AVERAGE(O3:O4) -> 0 | R3: =AVERAGE(P3:P4) -> 0 | S3: =AVERAGE(Q3:Q13) -> 0 | T3: =AVERAGE(R3:R13) -> 0 | W3: Comunicazioni specifiche in caso di security incident anche verso altre organizzazioni coinvolte
F4: Le priorità relative alla missione, agli obiettivi e alle attività dell'organizzazione devono essere definite e comunicate chiaramente. | G4: È necessario determinare le esigenze di protezione delle informazioni e, se necessario, rivedere i relativi processi. | I4: X | M4: Level 4 - Managed | N4: Level 4 - Managed | O4: =_xlfn.IFNA(VLOOKUP(M4,'Maturity Levels'!A:B,2,0),0) -> 0 | P4: =_xlfn.IFNA(VLOOKUP(N4,'Maturity Levels'!A:B,2,0),0) -> 0 | W4: Esiste un'information security policy (Regolamento Informatico) che viene comunicata ai dipendenti. Verificare con Walter se l'update è svolto 1 volta l'anno
C5: GV.OC-02: Gli stakeholder interni ed esterni sono definiti e hanno compreso le loro esigenze e aspettative in merito alla gestione del rischio di cybersicurezza. | D5: Ex1: Identificare gli stakeholder interni rilevanti e le aspettative relative alla cybersecurity (ad esempio, aspettative di prestazioni e rischio di dirigenti, direttori e consulenti; aspettative culturali dei dipendenti). Ex2: Identificare gli stakeholder esterni rilevanti e le loro aspettative relative alla cybersecurity (ad esempio, aspettative sulla privacy dei clienti, aspettative aziendali delle partnership, aspettative di conformità degli enti regolatori, aspettative etiche della società). | F5: Deve essere redatto un elenco documentato di tutti i fornitori, venditori e partner dell’organizzazione che potrebbero essere coinvolti in un incidente grave, mantenuto aggiornato e reso disponibile online e offline. | G5: L'elenco dovrebbe includere le informazioni di contatto di fornitori, venditori e partner, nonché i servizi da loro forniti, in modo che sia possibile contattarli per ricevere assistenza in caso di interruzione o peggioramento del servizio. | J5: X | M5: Level 2 - Repeatable | N5: Level 2 - Repeatable | O5: =_xlfn.IFNA(VLOOKUP(M5,'Maturity Levels'!A:B,2,0),0) -> 0 | P5: =_xlfn.IFNA(VLOOKUP(N5,'Maturity Levels'!A:B,2,0),0) -> 0 | Q5: =AVERAGE(O5) -> 0 | R5: =AVERAGE(P5) -> 0 | W5: Esiste un registro dei responsabili al trattamento dei dati lato privacy. Non vengono censiti tutti i fornitori ed i relativi servizi / contatti
C6: GV.OC-03: I requisiti legali, normativi e contrattuali relativi alla cybersecurity - inclusi gli obblighi in materia di privacy e libertà civili - sono compresi e gestiti. | D6: Ex1: Individuare un processo utile a tracciare e gestire i requisiti normativi relativi alla protezione delle informazioni degli individui. Ex2: Individuare un processo utile a tracciare e gestire i requisiti contrattuali per la gestione della cybersecurity delle informazioni di fornitori, clienti e partner. Ex3: Allineare la strategia di cybersecurity dell'organizzazione ai requisiti legali, normativi e contrattuali | F6: I requisiti legali e normativi riguardanti la sicurezza informatica/delle informazioni, compresi gli obblighi sulla privacy, devono essere compresi e implementati. | G6: Nessuna guida aggiuntiva su questo argomento. | H6: X | M6: Level 2 - Repeatable | N6: Level 2 - Repeatable | O6: =_xlfn.IFNA(VLOOKUP(M6,'Maturity Levels'!A:B,2,0),0) -> 0 | P6: =_xlfn.IFNA(VLOOKUP(N6,'Maturity Levels'!A:B,2,0),0) -> 0 | Q6: =AVERAGE(O6:O7) -> 0 | R6: =AVERAGE(P6:P7) -> 0 | W6: La valutazione è giustificata dal fatto che non sono attualmente presenti controlli che aderiscono agli adempimenti NIS2 (o ISO27001 come best practice). Lato privacy invece la maturità è 4-5
F7: Devono essere gestiti i requisiti legali e normativi relativi alla sicurezza informatica/delle informazioni, compresi gli obblighi sulla privacy. | G7: Dovrebbero essere effettuate revisioni regolari per garantire la continua conformità ai requisiti legali e normativi in materia di sicurezza informatica, compresi gli obblighi sulla privacy.( Si applica anche ai contraenti e ai fornitori di servizi). | I7: X | M7: Level 2 - Repeatable | N7: Level 2 - Repeatable | O7: =_xlfn.IFNA(VLOOKUP(M7,'Maturity Levels'!A:B,2,0),0) -> 0 | P7: =_xlfn.IFNA(VLOOKUP(N7,'Maturity Levels'!A:B,2,0),0) -> 0 | W7: La valutazione è giustificata dal fatto che non sono attualmente presenti controlli che aderiscono agli adempimenti NIS2 (o ISO27001 come best practice). Lato privacy invece la maturità è 4-5
C8: GV.OC-04: Gli obiettivi, le capacità e i servizi critici da cui gli stakeholder dipendono o che si aspettano dall'organizzazione sono determinati e comunicati. | D8: Ex1: Stabilire i criteri per determinare la criticità delle capabilities e dei servizi secondo gli stakeholder interni ed esterni. Ex2: Determinare (ad esempio, attraverso una Business Impact Analysis) gli asset ed i business aziendali vitali per il raggiungimento degli obiettivi della missione ed il potenziale impatto derivante da una perdita (o perdita parziale) di tali operazioni. Ex3: Stabilire e comunicare obiettivi di resilienza (ad esempio, recovery time objectives) per la fornitura di capabilities e servizi critici in vari stati operativi (ad esempio, sotto attacco, durante il ripristino, in condizioni normali). | F8: Per supportare la resilienza informatica e garantire la fornitura di servizi critici, i requisiti necessari vengono identificati, documentati e la loro implementazione, testata e approvata. | G8: Valutare l'implementazione di meccamismi di resilienza per supportare situazioni operative normali e avverse (ad esempio, fail-safe, load balancing, hot swap) e valutare gli aspetti della gestione della continuità aziendale, ad esempio Business Impact Analysis (BIA), Disaster Recovery Plan (DRP) e Business Continuity Plan (BCP). | I8: X | M8: Level 1 - Initial | N8: Level 1 - Initial | O8: =_xlfn.IFNA(VLOOKUP(M8,'Maturity Levels'!A:B,2,0),0) -> 0 | P8: =_xlfn.IFNA(VLOOKUP(N8,'Maturity Levels'!A:B,2,0),0) -> 0 | Q8: =AVERAGE(O8:O10) -> 0 | R8: =AVERAGE(P8:P10) -> 0
F9: Le strutture di elaborazione delle informazioni e di supporto devono implementare la ridondanza per soddisfare i requisiti di disponibilità, come definiti dall'organizzazione e/o dai quadri normativi. | G9: Valutare la possibilità di predisporre un'adeguata ridondanza di dati e di rete (ad esempio dispositivi di rete ridondanti, server con load balancing, raid arrays, servizi di backup, 2 data center separati, connessioni di rete fail-over, 2 ISP...) e la possibilità di proteggere apparecchiature/servizi critici da interruzioni di corrente e altri guasti dovuti a interruzioni di servizi (ad esempio UPS e NO-break, test frequenti, contratti di servizio che includono manutenzione regolare, cablaggio di alimentazione ridondante, 2 diversi fornitori di servizi di alimentazione...). | J9: X | M9: Level 1 - Initial | N9: Level 3 - Defined | O9: =_xlfn.IFNA(VLOOKUP(M9,'Maturity Levels'!A:B,2,0),0) -> 0 | P9: =_xlfn.IFNA(VLOOKUP(N9,'Maturity Levels'!A:B,2,0),0) -> 0
F10: Devono essere definiti gli obiettivi relativi al tempo di ripristino e al punto di ripristino per la ripresa dei processi essenziali dei sistemi ICT/OT. | G10: Valutare l'applicazione della regola di backup 3-2-1 per migliorare RPO e RTO (mantenere almeno 3 copie dei dati, conservarne 2 in posizioni separate e una copia archiviata in una posizione esterna) e valutare l'implementazione di meccanismi quali hot swap, load balancing e fail-safe per aumentare la resilienza. | J10: X | M10: Level 2 - Repeatable | N10: Level 5 - Optimizing | O10: =_xlfn.IFNA(VLOOKUP(M10,'Maturity Levels'!A:B,2,0),0) -> 0 | P10: =_xlfn.IFNA(VLOOKUP(N10,'Maturity Levels'!A:B,2,0),0) -> 0
C11: GV.OC-05: I risultati, le capacità e i servizi da cui l'organizzazione dipende sono determinati e comunicati. | F11: Le dipendenze e le funzioni critiche per la fornitura di servizi critici devono essere identificate, documentate e classificate in base alla loro criticità come parte del processo di valutazione del rischio. | G11: Le dipendenze e le funzioni aziendali critiche dovrebbero includere servizi di supporto. | I11: X | M11: Level 1 - Initial | N11: Level 2 - Repeatable | O11: =_xlfn.IFNA(VLOOKUP(M11,'Maturity Levels'!A:B,2,0),0) -> 0 | P11: =_xlfn.IFNA(VLOOKUP(N11,'Maturity Levels'!A:B,2,0),0) -> 0 | Q11: =AVERAGE(O11:O13) -> 0 | R11: =AVERAGE(P11:P13) -> 0
F12: Il ruolo dell’organizzazione nella supply chain deve essere identificato, documentato e comunicato. | G12: L'organizzazione dovrebbe essere in grado di identificare chiaramente chi si trova a monte e a valle dell'organizzazione e quali fornitori forniscono servizi, capacità, prodotti e articoli all'organizzazione e dovrebbe comunicare la propria posizione a monte e a valle in modo che sia chiaro dove si trovano in termini di importanza critica per le operazioni dell'organizzazione. | I12: X | M12: Level 1 - Initial | N12: Level 2 - Repeatable | O12: =_xlfn.IFNA(VLOOKUP(M12,'Maturity Levels'!A:B,2,0),0) -> 0 | P12: =_xlfn.IFNA(VLOOKUP(N12,'Maturity Levels'!A:B,2,0),0) -> 0
D13: Ex1: Creare un inventario delle relazioni dell'organizzazione sulle risorse esterne (ad esempio, strutture, cloud-based hosting providers) e delle loro relazioni con gli asset organizzativi e le funzioni aziendali. Ex2: Identificare e documentare le relazioni esterne che potrebbero rappresentare punti di failure per le capabilities e i servizi critici dell'organizzazione. | F13: L'organizzazione deve proteggere il proprio ambiente ICT/OT dalle minacce alla supply chain, applicando misure di sicurezza parte di una strategia di sicurezza completa e documentata. | G13: Nessuna guida aggiuntiva su questo argomento. | J13: X | M13: Level 1 - Initial | N13: Level 2 - Repeatable | O13: =_xlfn.IFNA(VLOOKUP(M13,'Maturity Levels'!A:B,2,0),0) -> 0 | P13: =_xlfn.IFNA(VLOOKUP(N13,'Maturity Levels'!A:B,2,0),0) -> 0
B14: Risk Management Strategy (GV.RM): Le priorità, i vincoli, le dichiarazioni di tolleranza e di propensione al rischio e le ipotesi dell'organizzazione sono stabilite e utilizzate per supportare le decisioni sul rischio operativo. | C14: GV.RM-01: Gli obiettivi del Risk Management sono stabiliti e concordati dagli stakeholder dell'organizzazione. | D14: Ex1: Aggiornare gli obiettivi a breve e a lungo termine di gestione del rischio cybersecurity come parte della pianificazione strategica annuale e qualora si verificassero cambiamenti significativi. Ex2: Stabilire obiettivi misurabili per la gestione del rischio di cybersecurity (ad esempio, gestire la qualità della formazione degli utenti, garantire un'adeguata protezione dai rischi per i sistemi di controllo industriale). Ex3: Gli alti dirigenti concordano con gli obiettivi di cybersecurity e li utilizzano per misurare e gestire il rischio e le performance. | F14: Deve essere creato, documentato, rivisto, approvato e aggiornato un processo di gestione del rischio cyber che identifichi i principali stakeholder interni ed esterni e faciliti la gestione dei problemi. | G14: Si prevede la creazione di un processo formale per la gestione del rischio cyber, che deve essere documentato in modo dettagliato, periodicamente rivisto, approvato dai responsabili e aggiornato regolarmente. Il processo deve includere l'identificazione dei principali stakeholder (N.B. stakeholder esterni includono: clienti, investitori e azionisti, fornitori, agenzie governative e la comunità in senso più ampio). | I14: X | M14: Level 1 - Initial | N14: Level 1 - Initial | O14: =_xlfn.IFNA(VLOOKUP(M14,'Maturity Levels'!A:B,2,0),0) -> 0 | P14: =_xlfn.IFNA(VLOOKUP(N14,'Maturity Levels'!A:B,2,0),0) -> 0 | Q14: =O14 -> 0 | R14: =P14 -> 0 | S14: =AVERAGE(Q14:Q22) -> 0 | T14: =AVERAGE(R14:R22) -> 0
C15: GV.RM-02: La propensione al rischio e la tolleranza al rischio sono determinate, comunicate ed aggiornate. | D15: Ex1: Determinare e comunicare dichiarazioni di propensione al rischio che trasmettano le aspettative sul livello di rischio appropriato per l'organizzazione. Ex2: Tradurre le dichiarazioni di propensione al rischio in dichiarazioni di tolleranza al rischio specifiche, misurabili e ampiamente comprensibili. Ex3: Ridefinire periodicamente gli obiettivi organizzativi e la propensione al rischio in base all'esposizione al rischio nota e al rischio residuo. | F15: Le infrastrutture critiche e il ruolo in cui opera l'organizzazione determinerà la propensione al rischio. | G15: Nessuna guida aggiuntiva su questo argomento. | I15: X | M15: Level 1 - Initial | N15: Level 1 - Initial | O15: =_xlfn.IFNA(VLOOKUP(N15,'Maturity Levels'!A:B,2,0),0) -> 0 | P15: =_xlfn.IFNA(VLOOKUP(N15,'Maturity Levels'!A:B,2,0),0) -> 0 | Q15: =O15 -> 0 | R15: =P15 -> 0
C16: GV.RM-03: I processi di risk management aziendale includono attività e risultati di gestione del rischio di cybersicurezza. | D16: Ex1: Aggregare e gestire i rischi di cybersecurity insieme ad altri rischi aziendali (ad esempio, compliance, finanziari, normativi, operativi, reputazionali e sulla sicurezza). Ex2: Includere i manager della gestione del rischio cybersecurity nella pianificazione della gestione del rischio aziendale. Ex3: Stabilire criteri per l'escalation dei rischi di cybersecurity nell'ambito della gestione del rischio aziendale. | F16: L'organizzazione deve assicurarsi che la gestione del rischio di cybersicurezza sia integrata nei processi di risk management. Ciò richiede un allineamento con gli obiettivi aziendali, permettendo di identificare, valutare e mitigare i rischi informatici in modo proattivo, garantendo così la sicurezza delle informazioni e la continuità operativa. | G16: Nessuna guida aggiuntiva su questo argomento. | J16: X | M16: Level 1 - Initial | N16: Level 1 - Initial | O16: =_xlfn.IFNA(VLOOKUP(M16,'Maturity Levels'!A:B,2,0),0) -> 0 | P16: =_xlfn.IFNA(VLOOKUP(N16,'Maturity Levels'!A:B,2,0),0) -> 0 | Q16: =O16 -> 0 | R16: =P16 -> 0
C17: GV.RM-04: Viene stabilita e comunicata una direzione strategica che descrive le appropriate opzioni di risposta al rischio. | D17: Ex1: Specificare i criteri per accettare ed evitare il rischio di cybersecurity per diverse classificazioni di dati. Ex2: Valutare se acquistare o meno un'assicurazione di cybersecurity. Ex3: Documentare le condizioni in cui i modelli di responsabilità condivisa sono accettabili (ad esempio, esternalizzare alcune funzioni di cybersecurity, far eseguire transazioni finanziarie a terzi per conto dell'organizzazione, utilizzare servizi di un cloud pubblico). | F17: Come parte della gestione complessiva del rischio aziendale, deve essere sviluppata e aggiornata una strategia completa per gestire i rischi per la sicurezza delle informazioni e la sicurezza informatica quando si verificano cambiamenti. | G17: Nella strategia si dovrebbe includere la determinazione e l'allocazione delle risorse necessarie per proteggere le risorse aziendali critiche. | H17: X | M17: Level 1 - Initial | N17: Level 1 - Initial | O17: =_xlfn.IFNA(VLOOKUP(M17,'Maturity Levels'!A:B,2,0),0) -> 0 | P17: =_xlfn.IFNA(VLOOKUP(N17,'Maturity Levels'!A:B,2,0),0) -> 0 | Q17: =AVERAGE(O17:O19) -> 0 | R17: =AVERAGE(P17:P19) -> 0
F18: I rischi per la sicurezza delle informazioni e la sicurezza informatica devono essere documentati, approvati formalmente e aggiornati quando si verificano modifiche. | G18: Si consiglia di utilizzare strumenti di Risk Management. | I18: X | M18: Level 1 - Initial | N18: Level 1 - Initial | O18: =_xlfn.IFNA(VLOOKUP(M18,'Maturity Levels'!A:B,2,0),0) -> 0 | P18: =_xlfn.IFNA(VLOOKUP(N18,'Maturity Levels'!A:B,2,0),0) -> 0
F19: L’organizzazione deve determinare chiaramente la propria propensione al rischio. | G19: La determinazione e l'espressione della risk tolerance (risk appetite) devono essere in linea con le politiche sulla cybersecurity, per facilitare la dimostrazione della coerenza tra policy, tolleranza al rischio e misure di sicurezza. | I19: X | M19: Level 1 - Initial | N19: Level 1 - Initial | O19: =_xlfn.IFNA(VLOOKUP(M19,'Maturity Levels'!A:B,2,0),0) -> 0 | P19: =_xlfn.IFNA(VLOOKUP(N19,'Maturity Levels'!A:B,2,0),0) -> 0
C20: GV.RM-05: Sono stabilite linee di comunicazione all'interno dell'organizzazione per i rischi di cybersecurity, compresi i rischi provenienti da fornitori e altre terze parti. | D20: Ex1: Individuare il modo migliore per aggiornare gli alti dirigenti, i direttori e la direzione sulla postura dell'organizzazione in materia di cybersecurity a intervalli concordati. Ex2: Identificare come tutti i settori dell'organizzazione - ad esempio, il management, gli auditor interni, l'ufficio legale, le acquisizioni, la sicurezza fisica e le risorse umane - comunicheranno tra loro circa il rischio di cybersecurity. Ex3: Identificare come le terze parti comunicheranno con l'organizzazione sui rischi di cybersecurity. | F20: L'organizzazione deve implementare linee di comunicazione chiare e strutturate per la segnalazione e la gestione dei rischi di cybersicurezza, compresi quelli derivanti dai fornitori e da altre terze parti. | G20: Nessuna guida aggiuntiva su questo argomento. | J20: X | M20: Level 1 - Initial | N20: Level 1 - Initial | O20: =_xlfn.IFNA(VLOOKUP(M20,'Maturity Levels'!A:B,2,0),0) -> 0 | P20: =_xlfn.IFNA(VLOOKUP(N20,'Maturity Levels'!A:B,2,0),0) -> 0 | Q20: =O20 -> 0 | R20: =P20 -> 0
C21: GV.RM-06: Viene stabilito e comunicato un approccio standardizzato per calcolare, documentare, classificare e prioritizzare i rischi di cybersecurity. | D21: Ex1: Stabilire i criteri per l'utilizzo di un approccio quantitativo all'analisi del rischio di cybersecurity e specificare le formule di probabilità ed esposizione. Ex2: Creare e utilizzare templates (ad esempio, un registro dei rischi) per documentare le informazioni sui rischi di cybersecurity (ad esempio, descrizione del rischio, esposizione, trattamento e responsabilità). Ex3: Stabilire i criteri per la prioritizzazione del rischio ai livelli appropriati all'interno dell'azienda. Ex4: Utilizzare un elenco coerente di categorie di rischio per supportare l'integrazione, l'aggregazione e il confronto dei rischi di cybersecurity. | F21: L'organizzazione deve stabilire e comunicare un approccio standardizzato per il calcolo, la documentazione, la classificazione e la prioritizzazione dei rischi di cybersicurezza. Questo approccio deve includere criteri chiari per la valutazione dell'impatto e della probabilità dei rischi, garantendo la tracciabilità e l'aggiornamento regolare delle informazioni. | G21: Nessuna guida aggiuntiva su questo argomento. | J21: X | M21: Level 1 - Initial | N21: Level 1 - Initial | O21: =_xlfn.IFNA(VLOOKUP(M21,'Maturity Levels'!A:B,2,0),0) -> 0 | P21: =_xlfn.IFNA(VLOOKUP(N21,'Maturity Levels'!A:B,2,0),0) -> 0 | Q21: =O21 -> 0 | R21: =P21 -> 0
C22: GV.RM-07: Le opportunità strategiche sono identificate e incluse nelle discussioni sui rischi di cybersecurity dell'organizzazione. | D22: Ex1: Definire e comunicare linee guida e metodi per identificare le opportunità e includerle nelle discussioni sul rischio (ad esempio, analisi dei punti di forza, debolezza, opportunità e minacce [SWOT]). Ex2: Identificare obiettivi ambiziosi e documentarli. Ex3: Calcolare, documentare e dare priorità ai rischi positivi insieme ai rischi negativi. | F22: L'organizzazione deve identificare e valutare opportunità strategiche nel contesto della gestione dei rischi di cybersecurity, integrandole nel processo decisionale per migliorare la resilienza. | G22: L'organizzazione deve riconoscere e analizzare le opportunità strategiche che emergono durante la gestione dei rischi di cybersicurezza. Tali opportunità, come l'adozione di nuove tecnologie o miglioramenti operativi, devono essere integrate nel processo decisionale per rafforzare la resilienza dell'organizzazione. | J22: X | M22: Level 1 - Initial | N22: Level 1 - Initial | O22: =_xlfn.IFNA(VLOOKUP(M22,'Maturity Levels'!A:B,2,0),0) -> 0 | P22: =_xlfn.IFNA(VLOOKUP(N22,'Maturity Levels'!A:B,2,0),0) -> 0 | Q22: =O22 -> 0 | R22: =P22 -> 0
B23: Roles, Responsibilities, and Authorities (GV.RR): I ruoli, le responsabilità e le autorità in materia di cybersecurity per promuovere la responsabilità, la valutazione delle performance e il miglioramento continuo sono definiti e comunicati. | C23: GV.RR-01: La leadership dell'organizzazione è responsabile del rischio di cybersicurezza e promuove lo sviluppo di una cultura etica di consapevolezza del rischio e di continuo miglioramento. | D23: Ex1: I leader (ad esempio, i direttori) concordano i loro ruoli e responsabilità nello sviluppo, nell'implementazione e nella valutazione della strategia di cybersecurity dell'organizzazione. Ex2: Condivisione delle aspettative dei leader riguardo a una cultura sicura ed etica, soprattutto quando gli eventi attuali offrono l'opportunità di evidenziare esempi positivi o negativi di gestione del rischio di cybersecurity. Ex3: I leader indicano al CISO di mantenere una strategia completa per i rischi di cybersecurity e di rivederla e aggiornarla almeno annualmente e dopo eventi importanti. Ex4: Effettuare revisioni per garantire l'autorità e il coordinamento adeguati tra i responsabili della gestione del rischio di cybersecurity. | F23: La leadership dell'organizzazione deve assumersi la responsabilità della gestione dei rischi di cybersicurezza, promuovendo attivamente lo sviluppo di una cultura aziendale etica, basata sulla consapevolezza del rischio e sul miglioramento continuo delle pratiche di sicurezza. | G23: La leadership dell'organizzazione deve dirigere l'approccio alla gestione dei rischi di cybersicurezza, prendendosi carico delle decisioni e delle strategie di sicurezza. I leader devono inoltre promuovere una cultura aziendale che favorisca la consapevolezza dei rischi, l'integrità e un miglioramento continuo, coinvolgendo attivamente tutte le aree dell'organizzazione nel processo di gestione e riduzione dei rischi. | J23: X | M23: Level 1 - Initial | N23: Level 1 - Initial | O23: =_xlfn.IFNA(VLOOKUP(M23,'Maturity Levels'!A:B,2,0),0) -> 0 | P23: =_xlfn.IFNA(VLOOKUP(N23,'Maturity Levels'!A:B,2,0),0) -> 0 | Q23: =O23 -> 0 | R23: =P23 -> 0 | S23: =AVERAGE(Q23:Q28) -> 0 | T23: =AVERAGE(R23:R28) -> 0
C24: GV.RR-02: Vengono stabiliti, comunicati, compresi e applicati i ruoli, le responsabilità e le autorità relativi alla gestione del rischio di cybersecurity. | D24: Ex1: Documentare i ruoli e le responsabilità della gestione del rischio nelle policy aziendali. Ex2: Documentare chi è responsabile e risponde delle attività di gestione del rischio di cybersecurity e come tali team e individui devono essere consultati e informati. Ex3: Includere le responsabilità e i requisiti di performance in materia di cybersecurity nelle descrizioni del personale. Ex4: Documentare gli obiettivi di performance per il personale con responsabilità di gestione del rischio di cybersecurity e misurare periodicamente le prestazioni per identificare le aree di miglioramento. Ex5: Articolare chiaramente le responsabilità in materia di cybersecurity all'interno delle funzioni operative, di rischio e di audit interno. | E24: X | F24: I ruoli, le responsabilità e le autorità in materia di cybersecurity all'interno dell'organizzazione devono essere documentati, esaminati, autorizzati, aggiornati e allineati con i ruoli interni all'organizzazione e i partner esterni. | G24: Dovrebbe essere preso in considerazione quanto segue: • Descrivere i ruoli, le responsabilità e le autorità di sicurezza: chi nell'organizzazione dovrebbe essere consultato, informato e ritenuto responsabile per tutti o parte degli asset. • Fornire ruoli, responsabilità e autorità di sicurezza per tutte le funzioni chiave nella cybersecurity e nella sicurezza delle informazioni (attività legali, di rilevamento ecc...). • Includere ruoli e responsabilità di cybersecurity per i fornitori terzi (ad esempio fornitori, clienti, partner) con accesso fisico o logico all'ambiente ICT/ OT dell'organizzazione. | I24: X | M24: Level 1 - Initial | N24: Level 2 - Repeatable | O24: =_xlfn.IFNA(VLOOKUP(M24,'Maturity Levels'!A:B,2,0),0) -> 0 | P24: =_xlfn.IFNA(VLOOKUP(N24,'Maturity Levels'!A:B,2,0),0) -> 0 | Q24: =AVERAGE(O24:O25) -> 0 | R24: =AVERAGE(P24:P25) -> 0
F25: L'organizzazione deve nominare un responsabile della sicurezza delle informazioni. | G25: Il responsabile della cybersecurity dovrebbe essere responsabile del monitoraggio dell'implementazione della strategia e delle misure di sicurezza informatica dell'organizzazione. | J25: X | M25: Level 1 - Initial | O25: =_xlfn.IFNA(VLOOKUP(M25,'Maturity Levels'!A:B,2,0),0) -> 0 | P25: =_xlfn.IFNA(VLOOKUP(N25,'Maturity Levels'!A:B,2,0),0) -> 0 | W25: Maturità implementativa non applicabile al contesto di business
C26: GV.RR-03: Vengono assegnate risorse adeguate e commisurate alla strategia di rischio di cybersecurity, ai ruoli, alle responsabilità e alle policy. | D26: Ex1: Effettuare revisioni periodiche del management per garantire che coloro che hanno responsabilità di gestione del rischio di cybersecurity abbiano l'autorità necessaria. Ex2: Identificare l'allocazione delle risorse e gli investimenti in linea con la tolleranza al rischio e la risposta. Ex3: Fornire risorse umane, di processo e tecniche adeguate e sufficienti per supportare la strategia di cybersecurity. | F26: L'organizzazione deve assegnare risorse adeguate e proporzionate alla strategia di gestione del rischio di cybersicurezza, garantendo che i ruoli, le responsabilità e le policy siano supportati in modo efficace per mitigare i rischi. | G26: L'organizzazione deve allorcare risorse sufficienti, come personale, budget e strumenti, per sostenere l'attuazione della strategia di cybersecurity. Le risorse devono essere commisurate ai rischi identificati e alle responsabilità assegnate, garantendo che le policy di sicurezza siano efficaci e che il personale abbia i mezzi necessari per svolgere il proprio ruolo nella protezione contro le minacce. | J26: X | M26: Level 1 - Initial | N26: Level 1 - Initial | O26: =_xlfn.IFNA(VLOOKUP(M26,'Maturity Levels'!A:B,2,0),0) -> 0 | P26: =_xlfn.IFNA(VLOOKUP(N26,'Maturity Levels'!A:B,2,0),0) -> 0 | Q26: =O26 -> 0 | R26: =P26 -> 0
C27: GV.RR-04: La cybersecurity è inclusa nelle attività delle risorse umane. | F27: Il personale che ha accesso alle informazioni o alle tecnologie più critiche dell’organizzazione deve essere verificato. | G27: L'accesso a informazioni o tecnologie critiche dovrebbe essere preso in considerazione durante il reclutamento, l'impiego e al momento della cessazione del rapporto di lavoro. I controlli di verifica dei precedenti dovrebbero prendere in considerazione le leggi, i regolamenti e l'etica applicabili in proporzione ai requisiti aziendali, alla classificazione delle informazioni a cui accedere e ai rischi percepiti. | H27: X | O27: =_xlfn.IFNA(VLOOKUP(M27,'Maturity Levels'!A:B,2,0),0) -> 0 | P27: =_xlfn.IFNA(VLOOKUP(N27,'Maturity Levels'!A:B,2,0),0) -> 0 | Q27: =AVERAGE(O27:O28) -> 0 | R27: =AVERAGE(P27:P28) -> 0 | W27: Verificare con Paolo margeron (reclutamento)
D28: Ex1: Integrare le considerazioni sulla gestione del rischio di cybersecurity nei processi delle risorse umane (ad esempio, screening del personale, onboarding, notifica delle modifiche, offboarding). Ex2: Considerare la conoscenza della cybersecurity come un fattore positivo nelle decisioni di assunzione, formazione e mantenimento del personale. Ex3: Effettuare controlli sul background prima di assumere nuovo personale per ruoli sensibili. Ex4: Definire e applicare l'obbligo per il personale di conoscere, aderire e rispettare le policy di sicurezza in relazione al proprio ruolo. | F28: Sviluppare e mantenere un processo di sicurezza informatica/delle informazioni sulle risorse umane applicabile in fase di assunzione, durante l'impiego e al termine del rapporto di lavoro. | G28: Il processo di cybersecurity sulle risorse umane dovrebbe includere: 1. L'accesso a informazioni o tecnologie critiche; 2. Controlli di verifica dei precedenti; 3. Codice di condotta; 4. Ruoli, autorità e responsabilità ecc... | I28: X | O28: =_xlfn.IFNA(VLOOKUP(M28,'Maturity Levels'!A:B,2,0),0) -> 0 | P28: =_xlfn.IFNA(VLOOKUP(N28,'Maturity Levels'!A:B,2,0),0) -> 0 | W28: Verificare con Paolo margeron (reclutamento)
B29: Policies, Processes, and Procedures (GV.PO): Le policy, i processi e le procedure di cybersecurity dell'organizzazione sono stabiliti, comunicati e applicati. | C29: GV.PO-01: Le policy, i processi e le procedure per la gestione dei rischi di cybersecurity sono stabiliti in base al contesto aziendale e sono comunicati e applicati alla strategia di cybersecurity e alle priorità. | D29: Ex1: Creare, diffondere e mantenere una policy di gestione del rischio con dichiarazioni di intenti, aspettative e direzione. Ex2: Rivedere periodicamente le policy e le procedure per garantire che siano in linea con gli obiettivi e le priorità della strategia di risk management e con la direzione di alto livello della politica di cybersecurity. Ex3: Richiedere l'approvazione delle policy da parte del senior management. Ex4: Comunicare le policy, le procedure e i processi di gestione del rischio di cybersecurity all'interno dell'organizzazione. Ex5: Richiedere al personale di confermare la ricezione delle policy al momento della prima assunzione, annualmente e ogni volta che una policy viene aggiornata. | F29: Le policy e le procedure per la sicurezza delle informazioni e la sicurezza informatica devono essere create, documentate, riviste, approvate e aggiornate quando si verificano modifiche. | G29: Le policy e le procedure, utilizzate per identificare pratiche e aspettative accettabili per le operazioni aziendali: • possono essere utilizzate per formare i nuovi dipendenti sulle aspettative di sicurezza delle informazioni e possono aiutare un'indagine in caso di incidente: dovrebbero essere facilmente accessibili ai dipendenti. • dovrebbero descrivere chiaramente le aspettative per la protezione delle informazioni e dei sistemi dell'organizzazione e il modo in cui la direzione si aspetta che le risorse dell'azienda siano utilizzate e protette da tutti i dipendenti. • dovrebbero essere riviste e aggiornate almeno una volta all'anno e ogni volta che si verificano cambiamenti nell'organizzazione o nella tecnologia. Ogni volta che le policy vengono modificate, i dipendenti dovrebbero essere informati dei cambiamenti. | H29: X | M29: Level 1 - Initial | N29: Level 3 - Defined | O29: =_xlfn.IFNA(VLOOKUP(M29,'Maturity Levels'!A:B,2,0),0) -> 0 | P29: =_xlfn.IFNA(VLOOKUP(N29,'Maturity Levels'!A:B,2,0),0) -> 0 | Q29: =AVERAGE(O29:O30) -> 0 | R29: =AVERAGE(P29:P30) -> 0 | S29: =AVERAGE(Q29:Q31) -> 0 | T29: =AVERAGE(R29:R31) -> 0
F30: Una policy sulla sicurezza informatica valida per l'intera organizzazione deve essere definita, documentata, aggiornata in caso di modifiche, diffusa e approvata dalla dirigenza. | G30: Le policy dovrebbero includere, ad esempio: • L'identificazione e l'assegnazione di ruoli, responsabilità, impegno della direzione, coordinamento tra entità organizzative e conformità. Le linee guida sui profili di ruolo insieme ai titoli identificati, missioni, compiti, abilità, conoscenze e competenze sono disponibili nel "European Cybersecurity Skills Framework Role Profiles" di ENISA. (https://www.enisa.europa.eu/publications/european-cybersecurity-skillsframework-role-profiles). • Il coordinamento tra entità organizzative responsabili dei diversi aspetti della sicurezza (ad esempio, tecnica, fisica, del personale, cyber-fisica, delle informazioni, controllo degli accessi, protezione dei media, gestione delle vulnerabilità, manutenzione, monitoraggio). • La copertura dell'intero ciclo di vita dei sistemi ICT/OT. | I30: X | M30: Level 1 - Initial | N30: Level 3 - Defined | O30: =_xlfn.IFNA(VLOOKUP(M30,'Maturity Levels'!A:B,2,0),0) -> 0 | P30: =_xlfn.IFNA(VLOOKUP(N30,'Maturity Levels'!A:B,2,0),0) -> 0
C31: GV.PO-02: Le policy, i processi e le procedure per la gestione dei rischi di cybersecurity sono revisionati, aggiornati, comunicati e applicati per riflettere i cambiamenti nei requisiti, nelle minacce, nella tecnologia e nella mission dell'organizzazione. | D31: Ex1: Aggiornare le policy sulla base di revisioni periodiche dei risultati della gestione del rischio di cybersecurity per garantire che le politiche e i processi di supporto mantengano adeguatamente il rischio a un livello accettabile. Ex2: Fornire una tempistica per la revisione delle modifiche all'ambiente di rischio dell'organizzazione (ad esempio, cambiamenti nel rischio o negli obiettivi della missione dell'organizzazione) e comunicare gli aggiornamenti delle policy raccomandate. Ex3: Aggiornare le policy per riflettere i cambiamenti dei requisiti legali e normativi. Ex4: Aggiornare le policy per riflettere i cambiamenti tecnologici (ad esempio, l'adozione dell'intelligenza artificiale) e le modifiche al business (ad esempio, l'acquisizione di una nuova attività, nuovi requisiti contrattuali). | F31: Le organizzazioni devono implementare un sistema efficace per la gestione dei rischi di cybersecurity, che preveda la revisione, l'aggiornamento, la comunicazione e l'applicazione regolare di policy, processi e procedure. Il sistema deve rispondere a cambiamenti normativi, nuove minacce, innovazioni tecnologiche e modifiche alla missione aziendale. Le revisioni devono essere documentate, comunicate a tutti i dipendenti e applicate in modo rigoroso, garantendo una continua conformità e protezione. | G31: Le policy, i processi e le procedure di gestione del rischio cyber devono essere sottoposti a una revisione periodica e aggiornata in base a diversi fattori: cambiamenti nelle normative, nuove minacce alla cybersecurity, sviluppi tecnologici e aggiornamenti della mission e degli obiettivi aziendali. Il processo di aggiornamento deve essere sistematico e coinvolgere tutte le parti interessate, assicurando che le modifiche siano comunicate chiaramente all'interno dell'organizzazione e applicate efficacemente. Ciò garantisce che l'organizzazione rimanga protetta e conforme alle normative in continua evoluzione, minimizzando i rischi legati alla cybersecurity. | J31: X | M31: Level 1 - Initial | N31: Level 1 - Initial | O31: =_xlfn.IFNA(VLOOKUP(M31,'Maturity Levels'!A:B,2,0),0) -> 0 | P31: =_xlfn.IFNA(VLOOKUP(N31,'Maturity Levels'!A:B,2,0),0) -> 0 | Q31: =O31 -> 0 | R31: =P31 -> 0
B32: Oversight (GV.OV): I risultati delle attività e delle performance di gestione del rischio di cybersecurity a livello organizzativo sono utilizzati per informare, migliorare e adeguare la strategia di risk management. | C32: GV.OV-01: Gli outcomes della strategia di gestione del rischio di cybersecurity sono revisionati per informare la direzione e aggiornare la strategia stessa. | D32: Ex1: Valutare in che misura la strategia di gestione del rischio e i risultati del rischio hanno aiutato i leader a prendere decisioni e a raggiungere gli obiettivi organizzativi. Ex2: Esaminare se le strategie di rischio per la cybersecurity, che ostacolano le operazioni o l'innovazione, devono essere modificate. | F32: L'organizzazione deve riesaminare regolarmente i risultati della strategia di gestione del rischio di cybersecurity per valutare l'efficacia delle misure implementate e apportare miglioramenti mirati alla strategia, alle priorità e alla direzione complessiva in base ai nuovi rischi, minacce e opportunità. | G32: Si richiede che le organizzazioni monitorino e revisionino periodicamente gli esiti della loro strategia di gestione del rischio di cybersecurity, analizzando i dati relativi agli incidenti, alle minacce rilevate, ai rischi mitigati e alle prestazioni complessive delle misure di sicurezza. L'obiettivo è garantire che la strategia rimanga allineata con le esigenze operative e le evoluzioni del panorama delle minacce. I risultati di queste revisioni devono essere utilizzati per informare decisioni strategiche e adattare la direzione aziendale, migliorando continuamente la capacità di difesa e risposta ai rischi informatici. | J32: X | M32: Level 1 - Initial | N32: Level 1 - Initial | O32: =_xlfn.IFNA(VLOOKUP(M32,'Maturity Levels'!A:B,2,0),0) -> 0 | P32: =_xlfn.IFNA(VLOOKUP(N32,'Maturity Levels'!A:B,2,0),0) -> 0 | Q32: =O32 -> 0 | R32: =P32 -> 0 | S32: =AVERAGE(Q32:Q34) -> 0 | T32: =AVERAGE(R32:R34) -> 0
C33: GV.OV-02: La strategia di gestione del rischio di cybersecurity viene rivista e adattata per garantire la copertura dei requisiti e dei rischi aziendali. | D33: Ex1: Esaminare i risultati dell'audit per confermare se la strategia di cybersecurity esistente ha garantito la conformità ai requisiti interni ed esterni. Ex2: Esaminare la supervisione delle performance di coloro che ricoprono ruoli legati alla cybersecurity per determinare se sono necessarie modifiche alle policy. Ex3: Rivedere la strategia alla luce degli incidenti di cybersecurity. | F33: L'organizzazione deve definire, rivedere e aggiornare periodicamente la strategia di gestione del rischio di cybersecurity per assicurare che essa copra adeguatamente i requisiti normativi, operativi e i rischi aziendali emergenti, garantendo una protezione completa e proattiva dell'infrastruttura informatica. | G33: Si richiede che la strategia di gestione del rischio di cybersecurity sia soggetta a un processo continuo di revisione e adattamento, in linea con l'evoluzione dei rischi aziendali e dei requisiti operativi e normativi. Ogni cambiamento nel contesto dell'organizzazione, come l'introduzione di nuove tecnologie, modifiche normative o l'emergere di nuove minacce, deve riflettersi in un aggiornamento della strategia. Questo processo assicura che l'approccio alla gestione dei rischi rimanga efficace, proattivo e in grado di rispondere alle necessità attuali e future dell'azienda. | J33: X | M33: Level 1 - Initial | N33: Level 1 - Initial | O33: =_xlfn.IFNA(VLOOKUP(M33,'Maturity Levels'!A:B,2,0),0) -> 0 | P33: =_xlfn.IFNA(VLOOKUP(N33,'Maturity Levels'!A:B,2,0),0) -> 0 | Q33: =O33 -> 0 | R33: =P33 -> 0
C34: GV.OV-03: Le performance della gestione del rischio di cybersecurity dell'organizzazione sono valutate e riviste per confermare e adeguare la direzione strategica. | D34: Ex1: Revisionare i key performance indicators (KPI) per garantire che le policy e le procedure dell'organizzazione raggiungano gli obiettivi prefissati. Ex2: Esaminare i key risk indicators (KRI) per identificare i rischi che l'organizzazione deve affrontare, compresi probabilità ed impatto potenziale. Ex3: Raccogliere e comunicare le metriche sulla gestione del rischio di cybersecurity con la leadership. | F34: Valutare e rivedere periodicamente le performance della gestione del rischio di cybersecurity per assicurarsi che le misure adottate siano efficaci e che la direzione strategica rimanga adeguata e allineata con gli obiettivi di sicurezza e le nuove minacce. | G34: Si impone che le prestazioni del sistema di gestione del rischio di cybersecurity siano monitorate costantemente e sottoposte a revisione regolare. L’organizzazione deve analizzare le metriche chiave, come il numero di incidenti rilevati, i rischi mitigati e la reattività alle minacce, per valutare l'efficacia complessiva della strategia attuale. I risultati di queste valutazioni devono essere utilizzati per confermare la validità dell'approccio strategico adottato o, se necessario, per apportare modifiche e miglioramenti che garantiscano un allineamento costante con le priorità aziendali e il panorama delle minacce in evoluzione. | J34: X | M34: Level 1 - Initial | N34: Level 1 - Initial | O34: =_xlfn.IFNA(VLOOKUP(M34,'Maturity Levels'!A:B,2,0),0) -> 0 | P34: =_xlfn.IFNA(VLOOKUP(N34,'Maturity Levels'!A:B,2,0),0) -> 0 | Q34: =O34 -> 0 | R34: =P34 -> 0
B35: Cybersecurity Supply Chain Risk Management (GV.SC): I processi di risk management della cyber supply chain sono identificati, stabiliti, gestiti, monitorati e migliorati dagli stakeholder dell'organizzazione. | C35: GV.SC-01: Sono stabiliti ed approvati dagli stakeholder dell'organizzazione il programma, la strategia, gli obiettivi, le politiche e i processi di risk management della cybersecurity supply chain. | D35: Ex1: Definizione di una strategia che esprima gli obiettivi del programma di gestione del rischio della cybersecurity supply chain. Ex2: Sviluppo di un programma di gestione del rischio della cybersecurity supply chain, che includa un piano (con milestone), policy e procedure per l'implementazione ed il miglioramento del programma e la condivisione di policy e procedure con le parti interessate dell'organizzazione. Ex3: Sviluppare e implementare i processi del programma in base alla strategia, agli obiettivi, alle policy e alle procedure concordate ed eseguite dalle parti interessate dell'organizzazione. Ex4: Stabilire un meccanismo interorganizzativo che garantisca l'allineamento tra le funzioni che contribuiscono alla gestione del rischio della cybersecurity della supply chain, come cybersecurity, IT, ufficio legale, risorse umane e engineering. | F35: L'organizzazione deve documentare, rivedere, approvare, aggiornare quando si verificano modifiche e implementare un processo di gestione dei rischi della supply chain che supporti l'identificazione, la valutazione e la mitigazione dei rischi associati alla natura distribuita e interconnessa delle supply chain di prodotti e servizi ICT/OT. | G35: Nessuna guida aggiuntiva su questo argomento. | J35: X | M35: Level 1 - Initial | N35: Level 1 - Initial | O35: =_xlfn.IFNA(VLOOKUP(M35,'Maturity Levels'!A:B,2,0),0) -> 0 | P35: =_xlfn.IFNA(VLOOKUP(N35,'Maturity Levels'!A:B,2,0),0) -> 0 | Q35: =O35 -> 0 | R35: =P35 -> 0 | S35: =AVERAGE(Q35:Q47) -> 0 | T35: =AVERAGE(R35:R47) -> 0
C36: GV.SC-02: I ruoli e le responsabilità in materia di cybersecurity per fornitori, clienti e partner sono stabiliti, comunicati e coordinati internamente ed esternamente. | D36: Ex1: Identificare uno o più ruoli o posizioni specifici, responsabili della pianificazione, del reperimento delle risorse e dell'esecuzione delle attività di gestione del rischio della cybersecurity supply chain. Ex2: Documentare i ruoli e le responsabilità della gestione del rischio della cybersecurity supply chain in policy. Ex3: Creare matrici di responsabilità per documentare chi sarà responsabile delle attività di gestione del rischio della cybersecurity supply chain ed in che modo tali team e individui saranno consultati e informati. Ex4: Includere le responsabilità di gestione del rischio della cybersecurity supply chain e i requisiti di performance nelle descrizioni del personale per garantire chiarezza e migliorare la accountability. Ex5: Documentare gli obiettivi prestazionali per il personale con responsabilità specifiche nella cybersecurity supply chain e misurarli periodicamente per dimostrare e migliorare le performance. Ex6: Identificare ruoli e responsabilità per fornitori, clienti e partner commerciali per affrontare le responsabilità condivise per i rischi di cybersecurity applicabili e integrarli nelle policy organizzative e negli accordi con le terze parti. Ex7: Comunicare internamente i ruoli e le responsabilità di gestione del rischio cybersecurity supply chain per terze parti. Ex8: Stabilire regolamenti e protocolli per la condivisione delle informazioni e i processi di reporting tra l'organizzazione e i suoi fornitori. | E36: X | F36: I ruoli, le responsabilità e le autorità in materia di cybersecurity all'interno dell'organizzazione devono essere documentati, esaminati, autorizzati, aggiornati e allineati con i ruoli interni all'organizzazione e i partner esterni. | G36: Dovrebbe essere preso in considerazione quanto segue: • Descrivere i ruoli, le responsabilità e le autorità di sicurezza, ad esempio chi nell'organizzazione dovrebbe essere consultato, informato e ritenuto responsabile per tutti o parte dei tuoi asset. • Fornire ruoli, responsabilità e autorità di sicurezza per tutte le funzioni chiave nella cybersecurity e nella sicurezza delle informazioni (attività legali, di rilevamento...). • Includere ruoli e responsabilità di cybersecurity per i fornitori terzi (ad esempio, fornitori, clienti, partner) con accesso fisico o logico all'ambiente ICT/ OT dell'organizzazione. | I36: X | M36: Level 1 - Initial | O36: =_xlfn.IFNA(VLOOKUP(M36,'Maturity Levels'!A:B,2,0),0) -> 0 | P36: =_xlfn.IFNA(VLOOKUP(N36,'Maturity Levels'!A:B,2,0),0) -> 0 | Q36: =O36 -> 0 | R36: =P36 -> 0
C37: GV.SC-03: La gestione del rischio della cybersecurity supply chain è integrata nei processi di gestione e valutazione del rischio della cybersecurity nell'organizzazione. | D37: Ex1: Identificare le aree di allineamento e sovrapposizione con la cybersecurity e la gestione del rischio aziendale. Ex2: Stabilire set di controllo integrati per la gestione del rischio di cybersecurity e per la gestione del rischio della cybersecurity supply chain. Ex3: Integrare la gestione del rischio della cybersecurity supply chain nei processi di improvement. Ex4: Segnalare i rischi materiali di cybersecurity nelle supply chain alla direzione e affrontarli a livello di gestione del rischio aziendale. | F37: L'organizzazione deve integrare la gestione del rischio della cybersecurity della supply chain nei propri processi di gestione del rischio, assicurando che i fornitori e le terze parti siano valutati, monitorati e migliorati costantemente per ridurre le vulnerabilità e proteggere l'integrità della catena di fornitura. | G37: Si richiede che i rischi legati alla cybersecurity nella supply chain siano considerati parte integrante della strategia complessiva di gestione del rischio dell’organizzazione. Ogni fornitore, partner o terza parte coinvolta nei processi aziendali deve essere valutato per verificare il suo livello di conformità ai requisiti di sicurezza informatica. La gestione di tali rischi deve includere la valutazione iniziale dei fornitori, il monitoraggio continuo delle prestazioni in termini di sicurezza e la definizione di azioni correttive per ridurre eventuali vulnerabilità. L'integrazione di questa gestione nei processi generali dell'organizzazione permette di migliorare costantemente la sicurezza dell'intera supply chain, garantendo che nessun anello debole possa compromettere la cybersecurity aziendale. | J37: X | M37: Level 1 - Initial | N37: Level 1 - Initial | O37: =_xlfn.IFNA(VLOOKUP(M37,'Maturity Levels'!A:B,2,0),0) -> 0 | P37: =_xlfn.IFNA(VLOOKUP(N37,'Maturity Levels'!A:B,2,0),0) -> 0 | Q37: =O37 -> 0 | R37: =P37 -> 0
C38: GV.SC-04: I fornitori sono noti e prioritizzati in base alla criticità. | D38: Ex1: Sviluppare parametri di criticità dei fornitori basati, ad esempio, sulla sensibilità dei dati elaborati o posseduti dai fornitori stessi, sul grado di accesso ai sistemi dell'organizzazione e sull'importanza dei prodotti o dei servizi per la mission dell'organizzazione. Ex2: Tenere un registro di tutti i fornitori e assegnare loro una priorità in base ai parametri di criticità. | F38: L’organizzazione deve mantenere un elenco completo dei fornitori e classificarli in base alla loro criticità per l'operatività aziendale, assegnando priorità a quelli che rappresentano i rischi più elevati per la sicurezza e la continuità delle attività. | G38: Si richiede che l’organizzazione conosca dettagliatamente tutti i fornitori con cui collabora e li classifichi in base alla loro importanza strategica e al rischio potenziale che rappresentano. I fornitori devono essere valutati sulla base di criteri come l'accesso alle informazioni sensibili, la dipendenza dalle loro forniture o servizi e il loro impatto potenziale sulla continuità aziendale in caso di incidente di sicurezza. I fornitori critici, che rappresentano un rischio maggiore, devono essere monitorati con maggiore attenzione, con misure di sicurezza più rigorose e revisioni periodiche per assicurare che rispettino i requisiti di cybersecurity necessari per ridurre il rischio complessivo. | J38: X | M38: Level 1 - Initial | N38: Level 1 - Initial | O38: =_xlfn.IFNA(VLOOKUP(M38,'Maturity Levels'!A:B,2,0),0) -> 0 | P38: =_xlfn.IFNA(VLOOKUP(N38,'Maturity Levels'!A:B,2,0),0) -> 0 | Q38: =O38 -> 0 | R38: =P38 -> 0
C39: GV.SC-05: I requisiti per affrontare i rischi di cybersecurity nelle supply chain sono stabiliti, prioritizzati e integrati nei contratti e in altri tipi di accordi con i fornitori e altre terze parti rilevanti. | D39: Ex1: Stabilire requisiti di sicurezza per fornitori, prodotti e servizi commisurati al loro livello di criticità e al potenziale impatto in caso di compromissione. Ex2: Definire tutti i requisiti di cybersecurity e della supply chain che le terze parti devono rispettare e le modalità di verifica della conformità ai requisiti nel linguaggio contrattuale predefinito. Ex3: Definire nei contratti le regole e i protocolli per la condivisione delle informazioni tra l'organizzazione e i suoi fornitori e subfornitori. Ex4: Gestire il rischio includendo nei contratti i requisiti di sicurezza in base alla loro criticità e al potenziale impatto in caso di compromissione. Ex5: Definire i requisiti di sicurezza nei service-level agreements (SLA) per il monitoraggio dei fornitori, al fine di garantire prestazioni di sicurezza accettabili durante l'intero ciclo di vita del rapporto con i fornitori. Ex6: Richiedere per contratto ai fornitori di divulgare le caratteristiche, le funzioni e le vulnerabilità di cybersecurity dei loro prodotti e servizi per tutta la durata del prodotto o del servizio. Ex7: Richiedere per contratto ai fornitori di fornire e mantenere un inventario aggiornato dei componenti (ad esempio, una lista dei software o hardware) per i prodotti critici. Ex8: Richiedere per contratto ai fornitori di esaminare i propri dipendenti e di proteggersi dalle minacce interne. Ex9: Richiedere contrattualmente ai fornitori di fornire prove dell'esecuzione di pratiche di sicurezza accettabili attraverso, ad esempio, auto-attestazioni, conformità a standard noti, certificazioni o ispezioni. Ex10: Specificare nei contratti i diritti e le responsabilità dell'organizzazione, dei suoi fornitori e dei fornitori di livello inferiore e delle catene di fornitura applicabili, in relazione ai potenziali rischi di cybersecurity. | F39: Sulla base dei risultati della valutazione del rischio della cyber supply chain, dovrà essere stabilito un framework contrattuale per i fornitori e i partner esterni per gestire la condivisione di informazioni sensibili e di prodotti e servizi ICT/OT distribuiti e interconnessi. | G39: Le entità non soggette alla Direttiva NIS 2 dovrebbero prendere in considerazione solo i fornitori aziendali critici e i partner terzi. I requisiti del GDPR devono essere soddisfatti quando le informazioni aziendali contengono dati personali (applicabili a tutti i livelli), ovvero le misure di sicurezza devono essere affrontate nel quadro contrattuale. | I39: X | O39: =_xlfn.IFNA(VLOOKUP(M39,'Maturity Levels'!A:B,2,0),0) -> 0 | P39: =_xlfn.IFNA(VLOOKUP(N39,'Maturity Levels'!A:B,2,0),0) -> 0 | Q39: =AVERAGE(O39:O41) -> 0 | R39: =AVERAGE(P39:P41) -> 0
E40: X | F40: I requisiti di sicurezza delle informazioni contrattuali e di cybersecurity per i fornitori e partner terzi devono essere implementati per garantire un processo di correzione dei difetti verificabile e per garantire la correzione dei difetti identificati durante i test e la valutazione di "sicurezza delle informazioni e sicurezza informatica". | G40: I sistemi informativi contenenti software (o firmware) interessati da difetti software annunciati di recente (e potenziali vulnerabilità derivanti da tali difetti) devono essere identificati. Le patch, i service pack e gli hot fix di sicurezza di recente rilascio devono essere installati e tali patch, service pack e hot fix vengono testati per verificarne l'efficacia e i potenziali effetti collaterali sui sistemi informativi dell'organizzazione prima dell'installazione. Anche i difetti scoperti durante le valutazioni di sicurezza, il monitoraggio continuo, le attività di risposta agli incidenti o la gestione degli errori del sistema informativo vengono affrontati rapidamente. La correzione dei difetti deve essere incorporata nella gestione della configurazione come modifica di emergenza. | J40: X | O40: =_xlfn.IFNA(VLOOKUP(M40,'Maturity Levels'!A:B,2,0),0) -> 0 | P40: =_xlfn.IFNA(VLOOKUP(N40,'Maturity Levels'!A:B,2,0),0) -> 0
E41: X | F41: L'organizzazione deve stabilire requisiti contrattuali che le consentano di rivedere i programmi di information security e cybersecurity implementati dai fornitori e dai partner terzi. | G41: Nessuna guida aggiuntiva su questo argomento. | J41: X | O41: =_xlfn.IFNA(VLOOKUP(M41,'Maturity Levels'!A:B,2,0),0) -> 0 | P41: =_xlfn.IFNA(VLOOKUP(N41,'Maturity Levels'!A:B,2,0),0) -> 0
C42: GV.SC-06: Sono eseguite pianificazione e due diligence, per ridurre i rischi prima di entrare in rapporti formali con i fornitori o con altre terze parti. | D42: Ex1: Eseguire una due diligence approfondita sui potenziali fornitori, coerente con la pianificazione degli acquisti e commisurata al livello di rischio, criticità e complessità di ogni relazione di fornitura. Ex2: Valutare l'idoneità delle capacità tecnologiche e di cybersecurity e le pratiche di risk management dei potenziali fornitori. Ex3: Condurre risk assessment dei fornitori rispetto ai requisiti di business e di cybersecurity applicabili, compresi i fornitori di livello inferiore e la supply chain dei fornitori critici. Ex4: Valutare l'autenticità, l'integrità e la sicurezza dei prodotti critici prima dell'acquisizione e dell'uso. | F42: L’organizzazione deve considerare un processo di pianificazione e due diligence approfondita per identificare e ridurre i rischi legati alla cybersecurity, prima di formalizzare relazioni con fornitori o altre terze parti, assicurandosi che questi rispettino i requisiti di sicurezza. | G42: Si prevede che, prima di instaurare un rapporto formale con un fornitore o una terza parte, l’organizzazione conduca una valutazione approfondita (due diligence) dei potenziali rischi di cybersecurity. La pianificazione deve includere l’analisi delle policy di sicurezza del fornitore, la valutazione delle vulnerabilità tecniche, delle capacità di gestione del rischio e del rispetto delle normative vigenti. L'obiettivo è garantire che il fornitore non rappresenti un punto debole o una minaccia per la sicurezza dell’organizzazione. Attraverso questo processo, l’organizzazione può identificare potenziali problemi e implementare misure preventive o scegliere di non collaborare con partner che non soddisfano gli standard di sicurezza richiesti, riducendo il rischio complessivo. | J42: X | O42: =_xlfn.IFNA(VLOOKUP(M42,'Maturity Levels'!A:B,2,0),0) -> 0 | P42: =_xlfn.IFNA(VLOOKUP(N42,'Maturity Levels'!A:B,2,0),0) -> 0 | Q42: =O42 -> 0 | R42: =P42 -> 0
C43: GV.SC-07: I rischi derivanti da un fornitore - dai suoi prodotti e servizi - e da altre terze parti sono identificati, registrati, classificati, valutati, affrontati e monitorati nel corso della relazione. | D43: Ex1: Adattare le modalità e la frequenza di valutazione in base alla reputazione della terza parte e alla criticità dei prodotti o servizi da essa forniti. Ex2: Valutare le prove di conformità delle terze parti ai requisiti contrattuali di cybersecurity, come autocertificazioni, garanzie, certificazioni e altri artefatti. Ex3: Monitorare i fornitori critici per garantire che adempiano ai loro obblighi di sicurezza durante l'intero ciclo di vita del rapporto con il fornitore, utilizzando una varietà di metodi e tecniche, come ispezioni, audit, test o altre forme di valutazione. Ex4: Monitorare i fornitori, i servizi e i prodotti critici per verificare le modifiche ai loro profili di rischio e rivalutare di conseguenza la criticità del fornitore e l'impatto del rischio. Ex5: Pianificare le eventuali interruzioni impreviste dei fornitori e della catena di fornitura per garantire la business continuity. | F43: L'organizzazione deve rivedere le valutazioni della conformità dei fornitori e dei partner terzi agli obblighi contrattuali esaminando regolarmente audit, risultati dei test e altre valutazioni. | G43: Le entità non soggette alla Direttiva NIS 2 potrebbero limitarsi ai soli fornitori aziendali critici e partner terzi. | I43: X | O43: =_xlfn.IFNA(VLOOKUP(M43,'Maturity Levels'!A:B,2,0),0) -> 0 | P43: =_xlfn.IFNA(VLOOKUP(N43,'Maturity Levels'!A:B,2,0),0) -> 0 | Q43: =AVERAGE(O43:O44) -> 0 | R43: =AVERAGE(P43:P44) -> 0
F44: L’organizzazione deve esaminare le valutazioni della conformità dei fornitori e dei partner terzi agli obblighi contrattuali, valutando regolarmente gli audit indipendenti di terze parti, i risultati dei test e altre valutazioni. | G44: L'accuratezza della revisione dovrebbe dipendere dalla criticità dei prodotti e dei servizi forniti. | J44: X | O44: =_xlfn.IFNA(VLOOKUP(M44,'Maturity Levels'!A:B,2,0),0) -> 0 | P44: =_xlfn.IFNA(VLOOKUP(N44,'Maturity Levels'!A:B,2,0),0) -> 0
C45: GV.SC-08: I fornitori rilevanti e le altre terze parti sono inclusi nelle attività di pianificazione, risposta e recupero degli incidenti. | D45: Ex1: Definire e utilizzare regolamenti e protocolli per la segnalazione delle attività di incident response e di ripristino e dello status tra l'organizzazione e i suoi fornitori. Ex2: Identificare e documentare i ruoli e le responsabilità dell'organizzazione e dei suoi fornitori per la risposta agli incidenti. Ex3: Includere i fornitori critici nelle esercitazioni e nelle simulazioni di risposta agli incidenti. Ex4: Definire e coordinare i metodi e i protocolli di comunicazione in caso di crisi tra l'organizzazione e i suoi fornitori critici. Ex5: Condurre sessioni collaborative di lessons learned con i fornitori critici. | F45: L'organizzazione deve identificare e documentare il personale chiave di fornitori e Terze Parti per includerli come stakeholders nelle attività di pianificazione della risposta e del recupero. | G45: Le entità non soggette alla Direttiva NIS 2 potrebbero limitarsi ai soli fornitori aziendali critici e partner terzi. | I45: X | O45: =_xlfn.IFNA(VLOOKUP(M45,'Maturity Levels'!A:B,2,0),0) -> 0 | P45: =_xlfn.IFNA(VLOOKUP(N45,'Maturity Levels'!A:B,2,0),0) -> 0 | Q45: =O45 -> 0 | R45: =P45 -> 0
C46: GV.SC-09: Le pratiche di sicurezza della supply chain sono integrate nei programmi di cybersecurity e di gestione del rischio aziendale e le prestazioni sono monitorate durante l'intero ciclo di vita dei prodotti e dei servizi tecnologici. | D46: Ex1: Le policy e le procedure richiedono la registrazione della provenienza di tutti i prodotti e servizi tecnologici acquisiti. Ex2: Fornire periodicamente ai leader un rapporto sui rischi in merito alle modalità con cui si dimostra che i componenti acquisiti non sono stati manomessi e sono autentici. Ex3: Comunicare regolarmente ai responsabili del rischio di cybersecurity e al personale operativo la necessità di acquisire patch, updates e upgrade del software solo da fornitori di software autenticati e affidabili. Ex4: Rivedere le policy per assicurarsi che richiedano al personale autorizzato dei fornitori di eseguire la manutenzione sui prodotti dei fornitori stessi. Ex5: Le policy e le procedure richiedono il controllo degli aggiornamenti degli hardware critici per verificare l'assenza di modifiche non autorizzate. | F46: Le pratiche di sicurezza della supply chain devono essere integrate nei programmi di cybersecurity e di gestione del rischio aziendale. Inoltre, è necessario monitorare le prestazioni di queste pratiche durante l'intero ciclo di vita dei prodotti e dei servizi tecnologici. | G46: Le attività legate alla sicurezza della supply chain devono essere parte integrante dei programmi generali di cybersecurity e gestione del rischio aziendale. La sicurezza della supply chain deve essere allineata con le strategie aziendali di protezione dei dati e gestione del rischio. Ciò include l'identificazione, la valutazione e la mitigazione dei rischi associati ai fornitori e ai partner lungo tutto il ciclo di vita dei prodotti e dei servizi tecnologici, dalla fase di progettazione fino alla dismissione. Le pratiche di sicurezza della supply chain dovrebbero prevedere l'integrazione, il monitoraggio continuo e valutazione dei fornitori. | J46: X | O46: =_xlfn.IFNA(VLOOKUP(M46,'Maturity Levels'!A:B,2,0),0) -> 0 | P46: =_xlfn.IFNA(VLOOKUP(N46,'Maturity Levels'!A:B,2,0),0) -> 0 | Q46: =O46 -> 0 | R46: =P46 -> 0
C47: GV.SC-10: La pianificazione di risk management della cybersecurity supply chain include le disposizioni per le attività che si verificano dopo la conclusione di un accordo di partnership o di servizio. | D47: Ex1: Stabilire processi per l'interruzione di relazioni critiche sia in circostanze normali che avverse. Ex2: Definire e implementare piani per il supporto alla manutenzione e all'obsolescenza dei componenti end-of-life. Ex3: Verificare che l'accesso dei fornitori alle risorse dell'organizzazione sia disattivato tempestivamente quando non più necessario. Ex4: Verificare che gli asset contenenti i dati dell'organizzazione siano restituiti o smaltiti in modo appropriato, tempestivo, controllato e sicuro. Ex5: Sviluppare ed eseguire un piano per la cessazione o la transizione dei rapporti con i fornitori che tenga conto dei rischi per la sicurezza e la resilienza della supply chain. Ex6: Mitigare i rischi per i dati e i sistemi creati dalla cessazione del rapporto di fornitura. Ex7: Manage data leakage risks associated with supplier termination | F47: L'organizzazione deve includere disposizioni specifiche per la gestione dei rischi della cybersecurity nella supply chain, coprendo tutte le attività che seguono la conclusione di un accordo di partnership o di servizio. | G47: La pianificazione del risk management per la cybersecurity della supply chain deve comprendere misure e attività da adottare dopo la conclusione di un accordo di partnership o di servizio. | J47: X | O47: =_xlfn.IFNA(VLOOKUP(M47,'Maturity Levels'!A:B,2,0),0) -> 0 | P47: =_xlfn.IFNA(VLOOKUP(N47,'Maturity Levels'!A:B,2,0),0) -> 0 | Q47: =O47 -> 0 | R47: =P47 -> 0
A48: IDENTIFY (ID): Gli attuali rischi per la cybersecurity dell'organizzazione sono noti. | B48: Asset Management (ID.AM): Gli asset (ad esempio, dati, dispositivi, software, sistemi, strutture, persone) che consentono all'organizzazione di raggiungere i loro scopi, sono identificati e gestiti in base alla loro importanza per gli obiettivi organizzativi e la strategia di rischio dell'organizzazione. | C48: ID.AM-01: Sono conservati gli inventari degli hardware gestiti dall'organizzazione. | D48: Ex1: Conservare gli inventari per tutti i tipi di hardware, compresi i dispositivi IT, IoT, OT e mobili. Ex2: Monitorare costantemente le reti per rilevare nuovi hardware e aggiornare automaticamente gli inventari. | F48: Un inventario di tutti gli asset associati alle informazioni e alle strutture di elaborazione delle informazioni all'interno dell'organizzazione deve essere documentato, rivisto e aggiornato quando si verificano cambiamenti. | G48: L'inventario deve includere computer fissi e portatili, tablet, telefoni cellulari, Programmable Logic Controllers (PLCs), sensori, attuatori, robot, macchine utensili, firmware, switch di rete, router, alimentatori e altri componenti o dispositivi in rete. L'inventario deve includere tutte le risorse, indipendentemente dal fatto che siano o meno connesse alla rete dell'organizzazione. Potrebbe essere preso in considerazione l'uso di uno strumento di gestione degli asset IT. | H48: X | M48: Level 2 - Repeatable | N48: Level 4 - Managed | O48: =_xlfn.IFNA(VLOOKUP(M48,'Maturity Levels'!A:B,2,0),0) -> 0 | P48: =_xlfn.IFNA(VLOOKUP(N48,'Maturity Levels'!A:B,2,0),0) -> 0 | Q48: =AVERAGE(O48:O51) -> 0 | R48: =AVERAGE(P48:P51) -> 0 | S48: =AVERAGE(Q48:Q68) -> 0 | T48: =AVERAGE(R48:R68) -> 0
F49: L’inventario degli asset, associati alle informazioni e alle strutture di elaborazione delle informazioni, deve riflettere i cambiamenti nel contesto dell’organizzazione e includere tutte le informazioni necessarie per un’efficace accountability. | G49: Le specifiche dell'inventario includono, ad esempio, produttore, tipo di dispositivo, modello, numero di serie, nomi delle macchine e indirizzi di rete, posizione fisica ecc... La responsabilità è l'obbligo di spiegare, giustificare e assumersi la responsabilità delle proprie azioni, e implica la responsabilità per il risultato del task o del processo. Le modifiche includono la dismissione del materiale. | I49: X | M49: Level 2 - Repeatable | N49: Level 4 - Managed | O49: =_xlfn.IFNA(VLOOKUP(M49,'Maturity Levels'!A:B,2,0),0) -> 0 | P49: =_xlfn.IFNA(VLOOKUP(N49,'Maturity Levels'!A:B,2,0),0) -> 0
F50: Quando viene rilevato un hardware non autorizzato, questo viene messo in quarantena per una possibile gestione delle eccezioni, rimozione o sostituzione e l'inventario viene aggiornato di conseguenza. | G50: Qualsiasi hardware non supportato senza documentazione di eccezione viene designato come non autorizzato. L'hardware non autorizzato può essere rilevato durante l'inventario, le richieste di supporto da parte dell'utente o altri mezzi. | I50: X | M50: Level 2 - Repeatable | N50: Level 3 - Defined | O50: =_xlfn.IFNA(VLOOKUP(M50,'Maturity Levels'!A:B,2,0),0) -> 0 | P50: =_xlfn.IFNA(VLOOKUP(N50,'Maturity Levels'!A:B,2,0),0) -> 0
